BEGIN:VCALENDAR
VERSION:2.0
PRODID:https://www.kufer.de/kuferweb / DE
METHOD:PUBLISH
CALSCALE:GREGORIAN
X-WR-TIMEZONE:Europe/Berlin
BEGIN:VTIMEZONE
TZID:Europe/Berlin
X-LIC-LOCATION:Europe/Berlin
BEGIN:DAYLIGHT
TZOFFSETFROM:+0100
TZOFFSETTO:+0200
TZNAME:CEST
DTSTART:19700329T020000
RRULE:FREQ=YEARLY;INTERVAL=1;BYDAY=-1SU;BYMONTH=3
END:DAYLIGHT
BEGIN:STANDARD
TZOFFSETFROM:+0200
TZOFFSETTO:+0100
TZNAME:CET
DTSTART:19701025T030000
RRULE:FREQ=YEARLY;INTERVAL=1;BYDAY=-1SU;BYMONTH=10
END:STANDARD
END:VTIMEZONE
BEGIN:VEVENT
DTSTAMP:20260420T041752
DTSTART;TZID=Europe/Berlin:20261123T090000
DTEND;TZID=Europe/Berlin:20261123T163000
UID:EA100156S1-20261123T090000@VHSWETTERAU
SUMMARY:Bildungsurlaub: Streuobst: Bedeutung für Mensch, Natur und Umwelt - Nachhaltige Pflege von Streuobstbeständen (EA100156S1) 
LOCATION:Ort.-Selters, NABU-Haus, An den Salzwiesen, 63683 Ortenberg-Selters
END:VEVENT
BEGIN:VEVENT
DTSTAMP:20260420T041752
DTSTART;TZID=Europe/Berlin:20261124T090000
DTEND;TZID=Europe/Berlin:20261124T163000
UID:EA100156S1-20261124T090000@VHSWETTERAU
SUMMARY:Bildungsurlaub: Streuobst: Bedeutung für Mensch, Natur und Umwelt - Nachhaltige Pflege von Streuobstbeständen (EA100156S1) 
LOCATION:Ort.-Selters, NABU-Haus, An den Salzwiesen, 63683 Ortenberg-Selters
END:VEVENT
BEGIN:VEVENT
DTSTAMP:20260420T041752
DTSTART;TZID=Europe/Berlin:20261125T090000
DTEND;TZID=Europe/Berlin:20261125T163000
UID:EA100156S1-20261125T090000@VHSWETTERAU
SUMMARY:Bildungsurlaub: Streuobst: Bedeutung für Mensch, Natur und Umwelt - Nachhaltige Pflege von Streuobstbeständen (EA100156S1) 
LOCATION:Ort.-Selters, NABU-Haus, An den Salzwiesen, 63683 Ortenberg-Selters
END:VEVENT
BEGIN:VEVENT
DTSTAMP:20260420T041752
DTSTART;TZID=Europe/Berlin:20261126T090000
DTEND;TZID=Europe/Berlin:20261126T163000
UID:EA100156S1-20261126T090000@VHSWETTERAU
SUMMARY:Bildungsurlaub: Streuobst: Bedeutung für Mensch, Natur und Umwelt - Nachhaltige Pflege von Streuobstbeständen (EA100156S1) 
LOCATION:Ort.-Selters, NABU-Haus, An den Salzwiesen, 63683 Ortenberg-Selters
END:VEVENT
BEGIN:VEVENT
DTSTAMP:20260420T041752
DTSTART;TZID=Europe/Berlin:20261127T090000
DTEND;TZID=Europe/Berlin:20261127T163000
UID:EA100156S1-20261127T090000@VHSWETTERAU
SUMMARY:Bildungsurlaub: Streuobst: Bedeutung für Mensch, Natur und Umwelt - Nachhaltige Pflege von Streuobstbeständen (EA100156S1) 
LOCATION:Ort.-Selters, NABU-Haus, An den Salzwiesen, 63683 Ortenberg-Selters
END:VEVENT
END:VCALENDAR