BEGIN:VCALENDAR
VERSION:2.0
PRODID:https://www.kufer.de/kuferweb / DE
METHOD:PUBLISH
CALSCALE:GREGORIAN
X-WR-TIMEZONE:Europe/Berlin
BEGIN:VTIMEZONE
TZID:Europe/Berlin
X-LIC-LOCATION:Europe/Berlin
BEGIN:DAYLIGHT
TZOFFSETFROM:+0100
TZOFFSETTO:+0200
TZNAME:CEST
DTSTART:19700329T020000
RRULE:FREQ=YEARLY;INTERVAL=1;BYDAY=-1SU;BYMONTH=3
END:DAYLIGHT
BEGIN:STANDARD
TZOFFSETFROM:+0200
TZOFFSETTO:+0100
TZNAME:CET
DTSTART:19701025T030000
RRULE:FREQ=YEARLY;INTERVAL=1;BYDAY=-1SU;BYMONTH=10
END:STANDARD
END:VTIMEZONE
BEGIN:VEVENT
DTSTAMP:20260423T080935
DTSTART;TZID=Europe/Berlin:20260921T090000
DTEND;TZID=Europe/Berlin:20260921T160000
UID:EA106206H2-20260921T090000@VHSWETTERAU
SUMMARY:Starke Frauen beruflich wie privat!  Persönlichkeitsentwicklung und finanzielle Bildung für Frauen Bildungsurlaub für Frauen (EA106206H2) 
LOCATION:Fb vhs 105, Friedensstr. 18, 61169 Friedberg
END:VEVENT
BEGIN:VEVENT
DTSTAMP:20260423T080935
DTSTART;TZID=Europe/Berlin:20260922T090000
DTEND;TZID=Europe/Berlin:20260922T160000
UID:EA106206H2-20260922T090000@VHSWETTERAU
SUMMARY:Starke Frauen beruflich wie privat!  Persönlichkeitsentwicklung und finanzielle Bildung für Frauen Bildungsurlaub für Frauen (EA106206H2) 
LOCATION:Fb vhs 105, Friedensstr. 18, 61169 Friedberg
END:VEVENT
BEGIN:VEVENT
DTSTAMP:20260423T080935
DTSTART;TZID=Europe/Berlin:20260923T090000
DTEND;TZID=Europe/Berlin:20260923T160000
UID:EA106206H2-20260923T090000@VHSWETTERAU
SUMMARY:Starke Frauen beruflich wie privat!  Persönlichkeitsentwicklung und finanzielle Bildung für Frauen Bildungsurlaub für Frauen (EA106206H2) 
LOCATION:Fb vhs 105, Friedensstr. 18, 61169 Friedberg
END:VEVENT
BEGIN:VEVENT
DTSTAMP:20260423T080935
DTSTART;TZID=Europe/Berlin:20260924T090000
DTEND;TZID=Europe/Berlin:20260924T160000
UID:EA106206H2-20260924T090000@VHSWETTERAU
SUMMARY:Starke Frauen beruflich wie privat!  Persönlichkeitsentwicklung und finanzielle Bildung für Frauen Bildungsurlaub für Frauen (EA106206H2) 
LOCATION:Fb vhs 105, Friedensstr. 18, 61169 Friedberg
END:VEVENT
BEGIN:VEVENT
DTSTAMP:20260423T080935
DTSTART;TZID=Europe/Berlin:20260925T090000
DTEND;TZID=Europe/Berlin:20260925T160000
UID:EA106206H2-20260925T090000@VHSWETTERAU
SUMMARY:Starke Frauen beruflich wie privat!  Persönlichkeitsentwicklung und finanzielle Bildung für Frauen Bildungsurlaub für Frauen (EA106206H2) 
LOCATION:Fb vhs 105, Friedensstr. 18, 61169 Friedberg
END:VEVENT
END:VCALENDAR