BEGIN:VCALENDAR
VERSION:2.0
PRODID:https://www.kufer.de/kuferweb / DE
METHOD:PUBLISH
CALSCALE:GREGORIAN
X-WR-TIMEZONE:Europe/Berlin
BEGIN:VTIMEZONE
TZID:Europe/Berlin
X-LIC-LOCATION:Europe/Berlin
BEGIN:DAYLIGHT
TZOFFSETFROM:+0100
TZOFFSETTO:+0200
TZNAME:CEST
DTSTART:19700329T020000
RRULE:FREQ=YEARLY;INTERVAL=1;BYDAY=-1SU;BYMONTH=3
END:DAYLIGHT
BEGIN:STANDARD
TZOFFSETFROM:+0200
TZOFFSETTO:+0100
TZNAME:CET
DTSTART:19701025T030000
RRULE:FREQ=YEARLY;INTERVAL=1;BYDAY=-1SU;BYMONTH=10
END:STANDARD
END:VTIMEZONE
BEGIN:VEVENT
DTSTAMP:20260421T165531
DTSTART;TZID=Europe/Berlin:20261103T090000
DTEND;TZID=Europe/Berlin:20261103T160000
UID:EB502526H1-20261103T090000@VHSWETTERAU
SUMMARY:Texten, Kommunizieren und Organisieren: Ein praxisorientierter Bildungsurlaub für Büromitarbeitende Kompetenzen für den digitalen Büroalltag als Beitrag zu modernen, inklusiven Arbeitsstrukturen (EB502526H1) 
LOCATION:Fb vhs 103 (EDV), Friedensstr. 18, 61169 Friedberg
END:VEVENT
BEGIN:VEVENT
DTSTAMP:20260421T165531
DTSTART;TZID=Europe/Berlin:20261104T090000
DTEND;TZID=Europe/Berlin:20261104T160000
UID:EB502526H1-20261104T090000@VHSWETTERAU
SUMMARY:Texten, Kommunizieren und Organisieren: Ein praxisorientierter Bildungsurlaub für Büromitarbeitende Kompetenzen für den digitalen Büroalltag als Beitrag zu modernen, inklusiven Arbeitsstrukturen (EB502526H1) 
LOCATION:Fb vhs 103 (EDV), Friedensstr. 18, 61169 Friedberg
END:VEVENT
BEGIN:VEVENT
DTSTAMP:20260421T165531
DTSTART;TZID=Europe/Berlin:20261105T090000
DTEND;TZID=Europe/Berlin:20261105T160000
UID:EB502526H1-20261105T090000@VHSWETTERAU
SUMMARY:Texten, Kommunizieren und Organisieren: Ein praxisorientierter Bildungsurlaub für Büromitarbeitende Kompetenzen für den digitalen Büroalltag als Beitrag zu modernen, inklusiven Arbeitsstrukturen (EB502526H1) 
LOCATION:Fb vhs 103 (EDV), Friedensstr. 18, 61169 Friedberg
END:VEVENT
END:VCALENDAR