BEGIN:VCALENDAR
VERSION:2.0
PRODID:https://www.kufer.de/kuferweb / DE
METHOD:PUBLISH
CALSCALE:GREGORIAN
X-WR-TIMEZONE:Europe/Berlin
BEGIN:VTIMEZONE
TZID:Europe/Berlin
X-LIC-LOCATION:Europe/Berlin
BEGIN:DAYLIGHT
TZOFFSETFROM:+0100
TZOFFSETTO:+0200
TZNAME:CEST
DTSTART:19700329T020000
RRULE:FREQ=YEARLY;INTERVAL=1;BYDAY=-1SU;BYMONTH=3
END:DAYLIGHT
BEGIN:STANDARD
TZOFFSETFROM:+0200
TZOFFSETTO:+0100
TZNAME:CET
DTSTART:19701025T030000
RRULE:FREQ=YEARLY;INTERVAL=1;BYDAY=-1SU;BYMONTH=10
END:STANDARD
END:VTIMEZONE
BEGIN:VEVENT
DTSTAMP:20260422T170345
DTSTART;TZID=Europe/Berlin:20260214T103000
DTEND;TZID=Europe/Berlin:20260214T120000
UID:EC409011Z1-20260214T103000@VHSWETTERAU
SUMMARY:Italien kulinarisch entdecken – eine Reise durch Rezepte, Regionen und Geschichte online (EC409011Z1) 
LOCATION:Online
END:VEVENT
BEGIN:VEVENT
DTSTAMP:20260422T170345
DTSTART;TZID=Europe/Berlin:20260221T103000
DTEND;TZID=Europe/Berlin:20260221T120000
UID:EC409011Z1-20260221T103000@VHSWETTERAU
SUMMARY:Italien kulinarisch entdecken – eine Reise durch Rezepte, Regionen und Geschichte online (EC409011Z1) 
LOCATION:Online
END:VEVENT
BEGIN:VEVENT
DTSTAMP:20260422T170345
DTSTART;TZID=Europe/Berlin:20260228T103000
DTEND;TZID=Europe/Berlin:20260228T120000
UID:EC409011Z1-20260228T103000@VHSWETTERAU
SUMMARY:Italien kulinarisch entdecken – eine Reise durch Rezepte, Regionen und Geschichte online (EC409011Z1) 
LOCATION:Online
END:VEVENT
BEGIN:VEVENT
DTSTAMP:20260422T170345
DTSTART;TZID=Europe/Berlin:20260307T103000
DTEND;TZID=Europe/Berlin:20260307T120000
UID:EC409011Z1-20260307T103000@VHSWETTERAU
SUMMARY:Italien kulinarisch entdecken – eine Reise durch Rezepte, Regionen und Geschichte online (EC409011Z1) 
LOCATION:Online
END:VEVENT
BEGIN:VEVENT
DTSTAMP:20260422T170345
DTSTART;TZID=Europe/Berlin:20260314T103000
DTEND;TZID=Europe/Berlin:20260314T120000
UID:EC409011Z1-20260314T103000@VHSWETTERAU
SUMMARY:Italien kulinarisch entdecken – eine Reise durch Rezepte, Regionen und Geschichte online (EC409011Z1) 
LOCATION:Online
END:VEVENT
BEGIN:VEVENT
DTSTAMP:20260422T170345
DTSTART;TZID=Europe/Berlin:20260321T103000
DTEND;TZID=Europe/Berlin:20260321T120000
UID:EC409011Z1-20260321T103000@VHSWETTERAU
SUMMARY:Italien kulinarisch entdecken – eine Reise durch Rezepte, Regionen und Geschichte online (EC409011Z1) 
LOCATION:Online
END:VEVENT
BEGIN:VEVENT
DTSTAMP:20260422T170345
DTSTART;TZID=Europe/Berlin:20260328T103000
DTEND;TZID=Europe/Berlin:20260328T120000
UID:EC409011Z1-20260328T103000@VHSWETTERAU
SUMMARY:Italien kulinarisch entdecken – eine Reise durch Rezepte, Regionen und Geschichte online (EC409011Z1) 
LOCATION:Online
END:VEVENT
BEGIN:VEVENT
DTSTAMP:20260422T170345
DTSTART;TZID=Europe/Berlin:20260411T103000
DTEND;TZID=Europe/Berlin:20260411T120000
UID:EC409011Z1-20260411T103000@VHSWETTERAU
SUMMARY:Italien kulinarisch entdecken – eine Reise durch Rezepte, Regionen und Geschichte online (EC409011Z1) 
LOCATION:Online
END:VEVENT
BEGIN:VEVENT
DTSTAMP:20260422T170345
DTSTART;TZID=Europe/Berlin:20260418T103000
DTEND;TZID=Europe/Berlin:20260418T120000
UID:EC409011Z1-20260418T103000@VHSWETTERAU
SUMMARY:Italien kulinarisch entdecken – eine Reise durch Rezepte, Regionen und Geschichte online (EC409011Z1) 
LOCATION:Online
END:VEVENT
BEGIN:VEVENT
DTSTAMP:20260422T170345
DTSTART;TZID=Europe/Berlin:20260425T103000
DTEND;TZID=Europe/Berlin:20260425T120000
UID:EC409011Z1-20260425T103000@VHSWETTERAU
SUMMARY:Italien kulinarisch entdecken – eine Reise durch Rezepte, Regionen und Geschichte online (EC409011Z1) 
LOCATION:Online
END:VEVENT
BEGIN:VEVENT
DTSTAMP:20260422T170345
DTSTART;TZID=Europe/Berlin:20260502T103000
DTEND;TZID=Europe/Berlin:20260502T120000
UID:EC409011Z1-20260502T103000@VHSWETTERAU
SUMMARY:Italien kulinarisch entdecken – eine Reise durch Rezepte, Regionen und Geschichte online (EC409011Z1) 
LOCATION:Online
END:VEVENT
BEGIN:VEVENT
DTSTAMP:20260422T170345
DTSTART;TZID=Europe/Berlin:20260509T103000
DTEND;TZID=Europe/Berlin:20260509T120000
UID:EC409011Z1-20260509T103000@VHSWETTERAU
SUMMARY:Italien kulinarisch entdecken – eine Reise durch Rezepte, Regionen und Geschichte online (EC409011Z1) 
LOCATION:Online
END:VEVENT
END:VCALENDAR