BEGIN:VCALENDAR
VERSION:2.0
PRODID:https://www.kufer.de/kuferweb / DE
METHOD:PUBLISH
CALSCALE:GREGORIAN
X-WR-TIMEZONE:Europe/Berlin
BEGIN:VTIMEZONE
TZID:Europe/Berlin
X-LIC-LOCATION:Europe/Berlin
BEGIN:DAYLIGHT
TZOFFSETFROM:+0100
TZOFFSETTO:+0200
TZNAME:CEST
DTSTART:19700329T020000
RRULE:FREQ=YEARLY;INTERVAL=1;BYDAY=-1SU;BYMONTH=3
END:DAYLIGHT
BEGIN:STANDARD
TZOFFSETFROM:+0200
TZOFFSETTO:+0100
TZNAME:CET
DTSTART:19701025T030000
RRULE:FREQ=YEARLY;INTERVAL=1;BYDAY=-1SU;BYMONTH=10
END:STANDARD
END:VTIMEZONE
BEGIN:VEVENT
DTSTAMP:20260423T064240
DTSTART;TZID=Europe/Berlin:20260305T180000
DTEND;TZID=Europe/Berlin:20260305T193000
UID:EC428153H1-20260305T180000@VHSWETTERAU
SUMMARY:DGS 5: Deutsche Gebärdensprache für fortgeschrittene Teilnehmer/innen (EC428153H1) 
LOCATION:Fb vhs 101, Friedensstr. 18, 61169 Friedberg
END:VEVENT
BEGIN:VEVENT
DTSTAMP:20260423T064240
DTSTART;TZID=Europe/Berlin:20260312T180000
DTEND;TZID=Europe/Berlin:20260312T193000
UID:EC428153H1-20260312T180000@VHSWETTERAU
SUMMARY:DGS 5: Deutsche Gebärdensprache für fortgeschrittene Teilnehmer/innen (EC428153H1) 
LOCATION:Fb vhs 101, Friedensstr. 18, 61169 Friedberg
END:VEVENT
BEGIN:VEVENT
DTSTAMP:20260423T064240
DTSTART;TZID=Europe/Berlin:20260319T180000
DTEND;TZID=Europe/Berlin:20260319T193000
UID:EC428153H1-20260319T180000@VHSWETTERAU
SUMMARY:DGS 5: Deutsche Gebärdensprache für fortgeschrittene Teilnehmer/innen (EC428153H1) 
LOCATION:Fb vhs B208 (JPR), Friedensstr. 18, 61169 Friedberg
END:VEVENT
BEGIN:VEVENT
DTSTAMP:20260423T064240
DTSTART;TZID=Europe/Berlin:20260326T180000
DTEND;TZID=Europe/Berlin:20260326T193000
UID:EC428153H1-20260326T180000@VHSWETTERAU
SUMMARY:DGS 5: Deutsche Gebärdensprache für fortgeschrittene Teilnehmer/innen (EC428153H1) 
LOCATION:Fb vhs B208 (JPR), Friedensstr. 18, 61169 Friedberg
END:VEVENT
BEGIN:VEVENT
DTSTAMP:20260423T064240
DTSTART;TZID=Europe/Berlin:20260416T180000
DTEND;TZID=Europe/Berlin:20260416T193000
UID:EC428153H1-20260416T180000@VHSWETTERAU
SUMMARY:DGS 5: Deutsche Gebärdensprache für fortgeschrittene Teilnehmer/innen (EC428153H1) 
LOCATION:Fb vhs 101, Friedensstr. 18, 61169 Friedberg
END:VEVENT
BEGIN:VEVENT
DTSTAMP:20260423T064240
DTSTART;TZID=Europe/Berlin:20260423T180000
DTEND;TZID=Europe/Berlin:20260423T193000
UID:EC428153H1-20260423T180000@VHSWETTERAU
SUMMARY:DGS 5: Deutsche Gebärdensprache für fortgeschrittene Teilnehmer/innen (EC428153H1) 
LOCATION:Fb vhs 101, Friedensstr. 18, 61169 Friedberg
END:VEVENT
BEGIN:VEVENT
DTSTAMP:20260423T064240
DTSTART;TZID=Europe/Berlin:20260507T180000
DTEND;TZID=Europe/Berlin:20260507T193000
UID:EC428153H1-20260507T180000@VHSWETTERAU
DESCRIPTION:Nachholtermin
SUMMARY:DGS 5: Deutsche Gebärdensprache für fortgeschrittene Teilnehmer/innen (EC428153H1) 
LOCATION:Fb vhs 101, Friedensstr. 18, 61169 Friedberg
END:VEVENT
END:VCALENDAR