BEGIN:VCALENDAR
VERSION:2.0
PRODID:https://www.kufer.de/kuferweb / DE
METHOD:PUBLISH
CALSCALE:GREGORIAN
X-WR-TIMEZONE:Europe/Berlin
BEGIN:VTIMEZONE
TZID:Europe/Berlin
X-LIC-LOCATION:Europe/Berlin
BEGIN:DAYLIGHT
TZOFFSETFROM:+0100
TZOFFSETTO:+0200
TZNAME:CEST
DTSTART:19700329T020000
RRULE:FREQ=YEARLY;INTERVAL=1;BYDAY=-1SU;BYMONTH=3
END:DAYLIGHT
BEGIN:STANDARD
TZOFFSETFROM:+0200
TZOFFSETTO:+0100
TZNAME:CET
DTSTART:19701025T030000
RRULE:FREQ=YEARLY;INTERVAL=1;BYDAY=-1SU;BYMONTH=10
END:STANDARD
END:VTIMEZONE
BEGIN:VEVENT
DTSTAMP:20260422T170448
DTSTART;TZID=Europe/Berlin:20260720T190000
DTEND;TZID=Europe/Berlin:20260720T200000
UID:ED205523H1-20260720T190000@VHSWETTERAU
SUMMARY:Dance for Health (ED205523H1) 
LOCATION:Fb vhs 201 (Yoga), Friedensstr. 18, 61169 Friedberg
END:VEVENT
BEGIN:VEVENT
DTSTAMP:20260422T170448
DTSTART;TZID=Europe/Berlin:20260727T190000
DTEND;TZID=Europe/Berlin:20260727T200000
UID:ED205523H1-20260727T190000@VHSWETTERAU
SUMMARY:Dance for Health (ED205523H1) 
LOCATION:Fb vhs 201 (Yoga), Friedensstr. 18, 61169 Friedberg
END:VEVENT
BEGIN:VEVENT
DTSTAMP:20260422T170448
DTSTART;TZID=Europe/Berlin:20260803T190000
DTEND;TZID=Europe/Berlin:20260803T200000
UID:ED205523H1-20260803T190000@VHSWETTERAU
SUMMARY:Dance for Health (ED205523H1) 
LOCATION:Fb vhs 201 (Yoga), Friedensstr. 18, 61169 Friedberg
END:VEVENT
BEGIN:VEVENT
DTSTAMP:20260422T170448
DTSTART;TZID=Europe/Berlin:20260810T190000
DTEND;TZID=Europe/Berlin:20260810T200000
UID:ED205523H1-20260810T190000@VHSWETTERAU
SUMMARY:Dance for Health (ED205523H1) 
LOCATION:Fb vhs 201 (Yoga), Friedensstr. 18, 61169 Friedberg
END:VEVENT
BEGIN:VEVENT
DTSTAMP:20260422T170448
DTSTART;TZID=Europe/Berlin:20260817T190000
DTEND;TZID=Europe/Berlin:20260817T200000
UID:ED205523H1-20260817T190000@VHSWETTERAU
SUMMARY:Dance for Health (ED205523H1) 
LOCATION:Fb vhs 201 (Yoga), Friedensstr. 18, 61169 Friedberg
END:VEVENT
END:VCALENDAR