BEGIN:VCALENDAR
VERSION:2.0
PRODID:https://www.kufer.de/kuferweb / DE
METHOD:PUBLISH
CALSCALE:GREGORIAN
X-WR-TIMEZONE:Europe/Berlin
BEGIN:VTIMEZONE
TZID:Europe/Berlin
X-LIC-LOCATION:Europe/Berlin
BEGIN:DAYLIGHT
TZOFFSETFROM:+0100
TZOFFSETTO:+0200
TZNAME:CEST
DTSTART:19700329T020000
RRULE:FREQ=YEARLY;INTERVAL=1;BYDAY=-1SU;BYMONTH=3
END:DAYLIGHT
BEGIN:STANDARD
TZOFFSETFROM:+0200
TZOFFSETTO:+0100
TZNAME:CET
DTSTART:19701025T030000
RRULE:FREQ=YEARLY;INTERVAL=1;BYDAY=-1SU;BYMONTH=10
END:STANDARD
END:VTIMEZONE
BEGIN:VEVENT
DTSTAMP:20260421T204845
DTSTART;TZID=Europe/Berlin:20260812T174500
DTEND;TZID=Europe/Berlin:20260812T191500
UID:EE301313E3-20260812T174500@VHSWETTERAU
SUMMARY:Hatha-Yoga für Rücken und Gelenke (EE301313E3) 
LOCATION:BuBa-Pohl-Göns, Bürgertreff, Rechtenbacher Straße 1, 35510 Butzbach
END:VEVENT
BEGIN:VEVENT
DTSTAMP:20260421T204845
DTSTART;TZID=Europe/Berlin:20260819T174500
DTEND;TZID=Europe/Berlin:20260819T191500
UID:EE301313E3-20260819T174500@VHSWETTERAU
SUMMARY:Hatha-Yoga für Rücken und Gelenke (EE301313E3) 
LOCATION:BuBa-Pohl-Göns, Bürgertreff, Rechtenbacher Straße 1, 35510 Butzbach
END:VEVENT
BEGIN:VEVENT
DTSTAMP:20260421T204845
DTSTART;TZID=Europe/Berlin:20260826T174500
DTEND;TZID=Europe/Berlin:20260826T191500
UID:EE301313E3-20260826T174500@VHSWETTERAU
SUMMARY:Hatha-Yoga für Rücken und Gelenke (EE301313E3) 
LOCATION:BuBa-Pohl-Göns, Bürgertreff, Rechtenbacher Straße 1, 35510 Butzbach
END:VEVENT
BEGIN:VEVENT
DTSTAMP:20260421T204845
DTSTART;TZID=Europe/Berlin:20260902T174500
DTEND;TZID=Europe/Berlin:20260902T191500
UID:EE301313E3-20260902T174500@VHSWETTERAU
SUMMARY:Hatha-Yoga für Rücken und Gelenke (EE301313E3) 
LOCATION:BuBa-Pohl-Göns, Bürgertreff, Rechtenbacher Straße 1, 35510 Butzbach
END:VEVENT
BEGIN:VEVENT
DTSTAMP:20260421T204845
DTSTART;TZID=Europe/Berlin:20260909T174500
DTEND;TZID=Europe/Berlin:20260909T191500
UID:EE301313E3-20260909T174500@VHSWETTERAU
SUMMARY:Hatha-Yoga für Rücken und Gelenke (EE301313E3) 
LOCATION:BuBa-Pohl-Göns, Bürgertreff, Rechtenbacher Straße 1, 35510 Butzbach
END:VEVENT
BEGIN:VEVENT
DTSTAMP:20260421T204845
DTSTART;TZID=Europe/Berlin:20260916T174500
DTEND;TZID=Europe/Berlin:20260916T191500
UID:EE301313E3-20260916T174500@VHSWETTERAU
SUMMARY:Hatha-Yoga für Rücken und Gelenke (EE301313E3) 
LOCATION:BuBa-Pohl-Göns, Bürgertreff, Rechtenbacher Straße 1, 35510 Butzbach
END:VEVENT
BEGIN:VEVENT
DTSTAMP:20260421T204845
DTSTART;TZID=Europe/Berlin:20260923T174500
DTEND;TZID=Europe/Berlin:20260923T191500
UID:EE301313E3-20260923T174500@VHSWETTERAU
SUMMARY:Hatha-Yoga für Rücken und Gelenke (EE301313E3) 
LOCATION:BuBa-Pohl-Göns, Bürgertreff, Rechtenbacher Straße 1, 35510 Butzbach
END:VEVENT
BEGIN:VEVENT
DTSTAMP:20260421T204845
DTSTART;TZID=Europe/Berlin:20260930T174500
DTEND;TZID=Europe/Berlin:20260930T191500
UID:EE301313E3-20260930T174500@VHSWETTERAU
SUMMARY:Hatha-Yoga für Rücken und Gelenke (EE301313E3) 
LOCATION:BuBa-Pohl-Göns, Bürgertreff, Rechtenbacher Straße 1, 35510 Butzbach
END:VEVENT
BEGIN:VEVENT
DTSTAMP:20260421T204845
DTSTART;TZID=Europe/Berlin:20261021T174500
DTEND;TZID=Europe/Berlin:20261021T191500
UID:EE301313E3-20261021T174500@VHSWETTERAU
SUMMARY:Hatha-Yoga für Rücken und Gelenke (EE301313E3) 
LOCATION:BuBa-Pohl-Göns, Bürgertreff, Rechtenbacher Straße 1, 35510 Butzbach
END:VEVENT
BEGIN:VEVENT
DTSTAMP:20260421T204845
DTSTART;TZID=Europe/Berlin:20261028T174500
DTEND;TZID=Europe/Berlin:20261028T191500
UID:EE301313E3-20261028T174500@VHSWETTERAU
SUMMARY:Hatha-Yoga für Rücken und Gelenke (EE301313E3) 
LOCATION:BuBa-Pohl-Göns, Bürgertreff, Rechtenbacher Straße 1, 35510 Butzbach
END:VEVENT
BEGIN:VEVENT
DTSTAMP:20260421T204845
DTSTART;TZID=Europe/Berlin:20261104T174500
DTEND;TZID=Europe/Berlin:20261104T191500
UID:EE301313E3-20261104T174500@VHSWETTERAU
SUMMARY:Hatha-Yoga für Rücken und Gelenke (EE301313E3) 
LOCATION:BuBa-Pohl-Göns, Bürgertreff, Rechtenbacher Straße 1, 35510 Butzbach
END:VEVENT
BEGIN:VEVENT
DTSTAMP:20260421T204845
DTSTART;TZID=Europe/Berlin:20261111T174500
DTEND;TZID=Europe/Berlin:20261111T191500
UID:EE301313E3-20261111T174500@VHSWETTERAU
SUMMARY:Hatha-Yoga für Rücken und Gelenke (EE301313E3) 
LOCATION:BuBa-Pohl-Göns, Bürgertreff, Rechtenbacher Straße 1, 35510 Butzbach
END:VEVENT
BEGIN:VEVENT
DTSTAMP:20260421T204845
DTSTART;TZID=Europe/Berlin:20261118T174500
DTEND;TZID=Europe/Berlin:20261118T191500
UID:EE301313E3-20261118T174500@VHSWETTERAU
SUMMARY:Hatha-Yoga für Rücken und Gelenke (EE301313E3) 
LOCATION:BuBa-Pohl-Göns, Bürgertreff, Rechtenbacher Straße 1, 35510 Butzbach
END:VEVENT
BEGIN:VEVENT
DTSTAMP:20260421T204845
DTSTART;TZID=Europe/Berlin:20261125T174500
DTEND;TZID=Europe/Berlin:20261125T191500
UID:EE301313E3-20261125T174500@VHSWETTERAU
SUMMARY:Hatha-Yoga für Rücken und Gelenke (EE301313E3) 
LOCATION:BuBa-Pohl-Göns, Bürgertreff, Rechtenbacher Straße 1, 35510 Butzbach
END:VEVENT
END:VCALENDAR