BEGIN:VCALENDAR
VERSION:2.0
PRODID:https://www.kufer.de/kuferweb / DE
METHOD:PUBLISH
CALSCALE:GREGORIAN
X-WR-TIMEZONE:Europe/Berlin
BEGIN:VTIMEZONE
TZID:Europe/Berlin
X-LIC-LOCATION:Europe/Berlin
BEGIN:DAYLIGHT
TZOFFSETFROM:+0100
TZOFFSETTO:+0200
TZNAME:CEST
DTSTART:19700329T020000
RRULE:FREQ=YEARLY;INTERVAL=1;BYDAY=-1SU;BYMONTH=3
END:DAYLIGHT
BEGIN:STANDARD
TZOFFSETFROM:+0200
TZOFFSETTO:+0100
TZNAME:CET
DTSTART:19701025T030000
RRULE:FREQ=YEARLY;INTERVAL=1;BYDAY=-1SU;BYMONTH=10
END:STANDARD
END:VTIMEZONE
BEGIN:VEVENT
DTSTAMP:20260421T211623
DTSTART;TZID=Europe/Berlin:20260831T180000
DTEND;TZID=Europe/Berlin:20260831T211500
UID:EG404090Z6-20260831T180000@VHSWETTERAU
SUMMARY:Vorbereitung auf die Prüfung telc Zertifikat Deutsch B1 (EG404090Z6) 
LOCATION:Fb vhs 102, Friedensstr. 18, 61169 Friedberg
END:VEVENT
BEGIN:VEVENT
DTSTAMP:20260421T211623
DTSTART;TZID=Europe/Berlin:20260901T180000
DTEND;TZID=Europe/Berlin:20260901T211500
UID:EG404090Z6-20260901T180000@VHSWETTERAU
SUMMARY:Vorbereitung auf die Prüfung telc Zertifikat Deutsch B1 (EG404090Z6) 
LOCATION:Fb vhs 102, Friedensstr. 18, 61169 Friedberg
END:VEVENT
END:VCALENDAR