BEGIN:VCALENDAR
VERSION:2.0
PRODID:https://www.kufer.de/kuferweb / DE
METHOD:PUBLISH
CALSCALE:GREGORIAN
X-WR-TIMEZONE:Europe/Berlin
BEGIN:VTIMEZONE
TZID:Europe/Berlin
X-LIC-LOCATION:Europe/Berlin
BEGIN:DAYLIGHT
TZOFFSETFROM:+0100
TZOFFSETTO:+0200
TZNAME:CEST
DTSTART:19700329T020000
RRULE:FREQ=YEARLY;INTERVAL=1;BYDAY=-1SU;BYMONTH=3
END:DAYLIGHT
BEGIN:STANDARD
TZOFFSETFROM:+0200
TZOFFSETTO:+0100
TZNAME:CET
DTSTART:19701025T030000
RRULE:FREQ=YEARLY;INTERVAL=1;BYDAY=-1SU;BYMONTH=10
END:STANDARD
END:VTIMEZONE
BEGIN:VEVENT
DTSTAMP:20260421T134146
DTSTART;TZID=Europe/Berlin:20261020T091500
DTEND;TZID=Europe/Berlin:20261020T114500
UID:EG404131H1-20261020T091500@VHSWETTERAU
SUMMARY:Deutsch als Fremdsprache A2/1 (Modul 3) Am Vormittag / Kein Integrationskurs (EG404131H1) 
LOCATION:Fb vhs 102, Friedensstr. 18, 61169 Friedberg
END:VEVENT
BEGIN:VEVENT
DTSTAMP:20260421T134146
DTSTART;TZID=Europe/Berlin:20261022T091500
DTEND;TZID=Europe/Berlin:20261022T114500
UID:EG404131H1-20261022T091500@VHSWETTERAU
SUMMARY:Deutsch als Fremdsprache A2/1 (Modul 3) Am Vormittag / Kein Integrationskurs (EG404131H1) 
LOCATION:Fb vhs 102, Friedensstr. 18, 61169 Friedberg
END:VEVENT
BEGIN:VEVENT
DTSTAMP:20260421T134146
DTSTART;TZID=Europe/Berlin:20261027T091500
DTEND;TZID=Europe/Berlin:20261027T114500
UID:EG404131H1-20261027T091500@VHSWETTERAU
SUMMARY:Deutsch als Fremdsprache A2/1 (Modul 3) Am Vormittag / Kein Integrationskurs (EG404131H1) 
LOCATION:Fb vhs 102, Friedensstr. 18, 61169 Friedberg
END:VEVENT
BEGIN:VEVENT
DTSTAMP:20260421T134146
DTSTART;TZID=Europe/Berlin:20261029T091500
DTEND;TZID=Europe/Berlin:20261029T114500
UID:EG404131H1-20261029T091500@VHSWETTERAU
SUMMARY:Deutsch als Fremdsprache A2/1 (Modul 3) Am Vormittag / Kein Integrationskurs (EG404131H1) 
LOCATION:Fb vhs 102, Friedensstr. 18, 61169 Friedberg
END:VEVENT
BEGIN:VEVENT
DTSTAMP:20260421T134146
DTSTART;TZID=Europe/Berlin:20261103T091500
DTEND;TZID=Europe/Berlin:20261103T114500
UID:EG404131H1-20261103T091500@VHSWETTERAU
SUMMARY:Deutsch als Fremdsprache A2/1 (Modul 3) Am Vormittag / Kein Integrationskurs (EG404131H1) 
LOCATION:Fb vhs 102, Friedensstr. 18, 61169 Friedberg
END:VEVENT
BEGIN:VEVENT
DTSTAMP:20260421T134146
DTSTART;TZID=Europe/Berlin:20261105T091500
DTEND;TZID=Europe/Berlin:20261105T114500
UID:EG404131H1-20261105T091500@VHSWETTERAU
SUMMARY:Deutsch als Fremdsprache A2/1 (Modul 3) Am Vormittag / Kein Integrationskurs (EG404131H1) 
LOCATION:Fb vhs 102, Friedensstr. 18, 61169 Friedberg
END:VEVENT
BEGIN:VEVENT
DTSTAMP:20260421T134146
DTSTART;TZID=Europe/Berlin:20261110T091500
DTEND;TZID=Europe/Berlin:20261110T114500
UID:EG404131H1-20261110T091500@VHSWETTERAU
SUMMARY:Deutsch als Fremdsprache A2/1 (Modul 3) Am Vormittag / Kein Integrationskurs (EG404131H1) 
LOCATION:Fb vhs 102, Friedensstr. 18, 61169 Friedberg
END:VEVENT
BEGIN:VEVENT
DTSTAMP:20260421T134146
DTSTART;TZID=Europe/Berlin:20261112T091500
DTEND;TZID=Europe/Berlin:20261112T114500
UID:EG404131H1-20261112T091500@VHSWETTERAU
SUMMARY:Deutsch als Fremdsprache A2/1 (Modul 3) Am Vormittag / Kein Integrationskurs (EG404131H1) 
LOCATION:Fb vhs 102, Friedensstr. 18, 61169 Friedberg
END:VEVENT
BEGIN:VEVENT
DTSTAMP:20260421T134146
DTSTART;TZID=Europe/Berlin:20261117T091500
DTEND;TZID=Europe/Berlin:20261117T114500
UID:EG404131H1-20261117T091500@VHSWETTERAU
SUMMARY:Deutsch als Fremdsprache A2/1 (Modul 3) Am Vormittag / Kein Integrationskurs (EG404131H1) 
LOCATION:Fb vhs 102, Friedensstr. 18, 61169 Friedberg
END:VEVENT
BEGIN:VEVENT
DTSTAMP:20260421T134146
DTSTART;TZID=Europe/Berlin:20261119T091500
DTEND;TZID=Europe/Berlin:20261119T114500
UID:EG404131H1-20261119T091500@VHSWETTERAU
SUMMARY:Deutsch als Fremdsprache A2/1 (Modul 3) Am Vormittag / Kein Integrationskurs (EG404131H1) 
LOCATION:Fb vhs 102, Friedensstr. 18, 61169 Friedberg
END:VEVENT
BEGIN:VEVENT
DTSTAMP:20260421T134146
DTSTART;TZID=Europe/Berlin:20261124T091500
DTEND;TZID=Europe/Berlin:20261124T114500
UID:EG404131H1-20261124T091500@VHSWETTERAU
SUMMARY:Deutsch als Fremdsprache A2/1 (Modul 3) Am Vormittag / Kein Integrationskurs (EG404131H1) 
LOCATION:Fb vhs 102, Friedensstr. 18, 61169 Friedberg
END:VEVENT
BEGIN:VEVENT
DTSTAMP:20260421T134146
DTSTART;TZID=Europe/Berlin:20261126T091500
DTEND;TZID=Europe/Berlin:20261126T114500
UID:EG404131H1-20261126T091500@VHSWETTERAU
SUMMARY:Deutsch als Fremdsprache A2/1 (Modul 3) Am Vormittag / Kein Integrationskurs (EG404131H1) 
LOCATION:Fb vhs 102, Friedensstr. 18, 61169 Friedberg
END:VEVENT
BEGIN:VEVENT
DTSTAMP:20260421T134146
DTSTART;TZID=Europe/Berlin:20261201T091500
DTEND;TZID=Europe/Berlin:20261201T114500
UID:EG404131H1-20261201T091500@VHSWETTERAU
SUMMARY:Deutsch als Fremdsprache A2/1 (Modul 3) Am Vormittag / Kein Integrationskurs (EG404131H1) 
LOCATION:Fb vhs 102, Friedensstr. 18, 61169 Friedberg
END:VEVENT
BEGIN:VEVENT
DTSTAMP:20260421T134146
DTSTART;TZID=Europe/Berlin:20261203T091500
DTEND;TZID=Europe/Berlin:20261203T114500
UID:EG404131H1-20261203T091500@VHSWETTERAU
SUMMARY:Deutsch als Fremdsprache A2/1 (Modul 3) Am Vormittag / Kein Integrationskurs (EG404131H1) 
LOCATION:Fb vhs 102, Friedensstr. 18, 61169 Friedberg
END:VEVENT
BEGIN:VEVENT
DTSTAMP:20260421T134146
DTSTART;TZID=Europe/Berlin:20261208T091500
DTEND;TZID=Europe/Berlin:20261208T114500
UID:EG404131H1-20261208T091500@VHSWETTERAU
SUMMARY:Deutsch als Fremdsprache A2/1 (Modul 3) Am Vormittag / Kein Integrationskurs (EG404131H1) 
LOCATION:Fb vhs 102, Friedensstr. 18, 61169 Friedberg
END:VEVENT
BEGIN:VEVENT
DTSTAMP:20260421T134146
DTSTART;TZID=Europe/Berlin:20261210T091500
DTEND;TZID=Europe/Berlin:20261210T114500
UID:EG404131H1-20261210T091500@VHSWETTERAU
SUMMARY:Deutsch als Fremdsprache A2/1 (Modul 3) Am Vormittag / Kein Integrationskurs (EG404131H1) 
LOCATION:Fb vhs 102, Friedensstr. 18, 61169 Friedberg
END:VEVENT
BEGIN:VEVENT
DTSTAMP:20260421T134146
DTSTART;TZID=Europe/Berlin:20261215T091500
DTEND;TZID=Europe/Berlin:20261215T114500
UID:EG404131H1-20261215T091500@VHSWETTERAU
SUMMARY:Deutsch als Fremdsprache A2/1 (Modul 3) Am Vormittag / Kein Integrationskurs (EG404131H1) 
LOCATION:Fb vhs 102, Friedensstr. 18, 61169 Friedberg
END:VEVENT
END:VCALENDAR