BEGIN:VCALENDAR
VERSION:2.0
PRODID:https://www.kufer.de/kuferweb / DE
METHOD:PUBLISH
CALSCALE:GREGORIAN
X-WR-TIMEZONE:Europe/Berlin
BEGIN:VTIMEZONE
TZID:Europe/Berlin
X-LIC-LOCATION:Europe/Berlin
BEGIN:DAYLIGHT
TZOFFSETFROM:+0100
TZOFFSETTO:+0200
TZNAME:CEST
DTSTART:19700329T020000
RRULE:FREQ=YEARLY;INTERVAL=1;BYDAY=-1SU;BYMONTH=3
END:DAYLIGHT
BEGIN:STANDARD
TZOFFSETFROM:+0200
TZOFFSETTO:+0100
TZNAME:CET
DTSTART:19701025T030000
RRULE:FREQ=YEARLY;INTERVAL=1;BYDAY=-1SU;BYMONTH=10
END:STANDARD
END:VTIMEZONE
BEGIN:VEVENT
DTSTAMP:20260422T000246
DTSTART;TZID=Europe/Berlin:20261102T180000
DTEND;TZID=Europe/Berlin:20261102T211500
UID:EG404183C1-20261102T180000@VHSWETTERAU
SUMMARY:Deutsch als Fremdsprache B2/2 (Modul 8, Teil 1): Allgemein, für Studium und Beruf Am Abend (EG404183C1) 
LOCATION:BV BFW G.-Büchner-Gym., R. K203, Außenstelle, Huizener Straße 60, 61118 Bad Vilbel
END:VEVENT
BEGIN:VEVENT
DTSTAMP:20260422T000246
DTSTART;TZID=Europe/Berlin:20261104T180000
DTEND;TZID=Europe/Berlin:20261104T211500
UID:EG404183C1-20261104T180000@VHSWETTERAU
SUMMARY:Deutsch als Fremdsprache B2/2 (Modul 8, Teil 1): Allgemein, für Studium und Beruf Am Abend (EG404183C1) 
LOCATION:BV BFW G.-Büchner-Gym., R. K203, Außenstelle, Huizener Straße 60, 61118 Bad Vilbel
END:VEVENT
BEGIN:VEVENT
DTSTAMP:20260422T000246
DTSTART;TZID=Europe/Berlin:20261109T180000
DTEND;TZID=Europe/Berlin:20261109T211500
UID:EG404183C1-20261109T180000@VHSWETTERAU
SUMMARY:Deutsch als Fremdsprache B2/2 (Modul 8, Teil 1): Allgemein, für Studium und Beruf Am Abend (EG404183C1) 
LOCATION:BV BFW G.-Büchner-Gym., R. K203, Außenstelle, Huizener Straße 60, 61118 Bad Vilbel
END:VEVENT
BEGIN:VEVENT
DTSTAMP:20260422T000246
DTSTART;TZID=Europe/Berlin:20261111T180000
DTEND;TZID=Europe/Berlin:20261111T211500
UID:EG404183C1-20261111T180000@VHSWETTERAU
SUMMARY:Deutsch als Fremdsprache B2/2 (Modul 8, Teil 1): Allgemein, für Studium und Beruf Am Abend (EG404183C1) 
LOCATION:BV BFW G.-Büchner-Gym., R. K203, Außenstelle, Huizener Straße 60, 61118 Bad Vilbel
END:VEVENT
BEGIN:VEVENT
DTSTAMP:20260422T000246
DTSTART;TZID=Europe/Berlin:20261116T180000
DTEND;TZID=Europe/Berlin:20261116T211500
UID:EG404183C1-20261116T180000@VHSWETTERAU
SUMMARY:Deutsch als Fremdsprache B2/2 (Modul 8, Teil 1): Allgemein, für Studium und Beruf Am Abend (EG404183C1) 
LOCATION:BV BFW G.-Büchner-Gym., R. K203, Außenstelle, Huizener Straße 60, 61118 Bad Vilbel
END:VEVENT
BEGIN:VEVENT
DTSTAMP:20260422T000246
DTSTART;TZID=Europe/Berlin:20261118T180000
DTEND;TZID=Europe/Berlin:20261118T211500
UID:EG404183C1-20261118T180000@VHSWETTERAU
SUMMARY:Deutsch als Fremdsprache B2/2 (Modul 8, Teil 1): Allgemein, für Studium und Beruf Am Abend (EG404183C1) 
LOCATION:BV BFW G.-Büchner-Gym., R. K203, Außenstelle, Huizener Straße 60, 61118 Bad Vilbel
END:VEVENT
BEGIN:VEVENT
DTSTAMP:20260422T000246
DTSTART;TZID=Europe/Berlin:20261123T180000
DTEND;TZID=Europe/Berlin:20261123T211500
UID:EG404183C1-20261123T180000@VHSWETTERAU
SUMMARY:Deutsch als Fremdsprache B2/2 (Modul 8, Teil 1): Allgemein, für Studium und Beruf Am Abend (EG404183C1) 
LOCATION:BV BFW G.-Büchner-Gym., R. K203, Außenstelle, Huizener Straße 60, 61118 Bad Vilbel
END:VEVENT
BEGIN:VEVENT
DTSTAMP:20260422T000246
DTSTART;TZID=Europe/Berlin:20261125T180000
DTEND;TZID=Europe/Berlin:20261125T211500
UID:EG404183C1-20261125T180000@VHSWETTERAU
SUMMARY:Deutsch als Fremdsprache B2/2 (Modul 8, Teil 1): Allgemein, für Studium und Beruf Am Abend (EG404183C1) 
LOCATION:BV BFW G.-Büchner-Gym., R. K203, Außenstelle, Huizener Straße 60, 61118 Bad Vilbel
END:VEVENT
BEGIN:VEVENT
DTSTAMP:20260422T000246
DTSTART;TZID=Europe/Berlin:20261130T180000
DTEND;TZID=Europe/Berlin:20261130T211500
UID:EG404183C1-20261130T180000@VHSWETTERAU
SUMMARY:Deutsch als Fremdsprache B2/2 (Modul 8, Teil 1): Allgemein, für Studium und Beruf Am Abend (EG404183C1) 
LOCATION:BV BFW G.-Büchner-Gym., R. K203, Außenstelle, Huizener Straße 60, 61118 Bad Vilbel
END:VEVENT
BEGIN:VEVENT
DTSTAMP:20260422T000246
DTSTART;TZID=Europe/Berlin:20261202T180000
DTEND;TZID=Europe/Berlin:20261202T211500
UID:EG404183C1-20261202T180000@VHSWETTERAU
SUMMARY:Deutsch als Fremdsprache B2/2 (Modul 8, Teil 1): Allgemein, für Studium und Beruf Am Abend (EG404183C1) 
LOCATION:BV BFW G.-Büchner-Gym., R. K203, Außenstelle, Huizener Straße 60, 61118 Bad Vilbel
END:VEVENT
BEGIN:VEVENT
DTSTAMP:20260422T000246
DTSTART;TZID=Europe/Berlin:20261207T180000
DTEND;TZID=Europe/Berlin:20261207T211500
UID:EG404183C1-20261207T180000@VHSWETTERAU
SUMMARY:Deutsch als Fremdsprache B2/2 (Modul 8, Teil 1): Allgemein, für Studium und Beruf Am Abend (EG404183C1) 
LOCATION:BV BFW G.-Büchner-Gym., R. K203, Außenstelle, Huizener Straße 60, 61118 Bad Vilbel
END:VEVENT
BEGIN:VEVENT
DTSTAMP:20260422T000246
DTSTART;TZID=Europe/Berlin:20261209T180000
DTEND;TZID=Europe/Berlin:20261209T211500
UID:EG404183C1-20261209T180000@VHSWETTERAU
SUMMARY:Deutsch als Fremdsprache B2/2 (Modul 8, Teil 1): Allgemein, für Studium und Beruf Am Abend (EG404183C1) 
LOCATION:BV BFW G.-Büchner-Gym., R. K203, Außenstelle, Huizener Straße 60, 61118 Bad Vilbel
END:VEVENT
BEGIN:VEVENT
DTSTAMP:20260422T000246
DTSTART;TZID=Europe/Berlin:20261214T180000
DTEND;TZID=Europe/Berlin:20261214T211500
UID:EG404183C1-20261214T180000@VHSWETTERAU
SUMMARY:Deutsch als Fremdsprache B2/2 (Modul 8, Teil 1): Allgemein, für Studium und Beruf Am Abend (EG404183C1) 
LOCATION:BV BFW G.-Büchner-Gym., R. K203, Außenstelle, Huizener Straße 60, 61118 Bad Vilbel
END:VEVENT
BEGIN:VEVENT
DTSTAMP:20260422T000246
DTSTART;TZID=Europe/Berlin:20261216T180000
DTEND;TZID=Europe/Berlin:20261216T211500
UID:EG404183C1-20261216T180000@VHSWETTERAU
SUMMARY:Deutsch als Fremdsprache B2/2 (Modul 8, Teil 1): Allgemein, für Studium und Beruf Am Abend (EG404183C1) 
LOCATION:BV BFW G.-Büchner-Gym., R. K203, Außenstelle, Huizener Straße 60, 61118 Bad Vilbel
END:VEVENT
BEGIN:VEVENT
DTSTAMP:20260422T000246
DTSTART;TZID=Europe/Berlin:20261221T180000
DTEND;TZID=Europe/Berlin:20261221T211500
UID:EG404183C1-20261221T180000@VHSWETTERAU
SUMMARY:Deutsch als Fremdsprache B2/2 (Modul 8, Teil 1): Allgemein, für Studium und Beruf Am Abend (EG404183C1) 
LOCATION:BV BFW G.-Büchner-Gym., R. K203, Außenstelle, Huizener Straße 60, 61118 Bad Vilbel
END:VEVENT
END:VCALENDAR