BEGIN:VCALENDAR
VERSION:2.0
PRODID:https://www.kufer.de/kuferweb / DE
METHOD:PUBLISH
CALSCALE:GREGORIAN
X-WR-TIMEZONE:Europe/Berlin
BEGIN:VTIMEZONE
TZID:Europe/Berlin
X-LIC-LOCATION:Europe/Berlin
BEGIN:DAYLIGHT
TZOFFSETFROM:+0100
TZOFFSETTO:+0200
TZNAME:CEST
DTSTART:19700329T020000
RRULE:FREQ=YEARLY;INTERVAL=1;BYDAY=-1SU;BYMONTH=3
END:DAYLIGHT
BEGIN:STANDARD
TZOFFSETFROM:+0200
TZOFFSETTO:+0100
TZNAME:CET
DTSTART:19701025T030000
RRULE:FREQ=YEARLY;INTERVAL=1;BYDAY=-1SU;BYMONTH=10
END:STANDARD
END:VTIMEZONE
BEGIN:VEVENT
DTSTAMP:20260421T204927
DTSTART;TZID=Europe/Berlin:20260810T180000
DTEND;TZID=Europe/Berlin:20260810T203000
UID:EG404183H1-20260810T180000@VHSWETTERAU
SUMMARY:Deutsch als Fremdsprache B2/2 (Modul 8, Teil 1): Allgemein, für Studium und Beruf Am Abend (EG404183H1) 
LOCATION:Fb vhs 101, Friedensstr. 18, 61169 Friedberg
END:VEVENT
BEGIN:VEVENT
DTSTAMP:20260421T204927
DTSTART;TZID=Europe/Berlin:20260812T180000
DTEND;TZID=Europe/Berlin:20260812T203000
UID:EG404183H1-20260812T180000@VHSWETTERAU
SUMMARY:Deutsch als Fremdsprache B2/2 (Modul 8, Teil 1): Allgemein, für Studium und Beruf Am Abend (EG404183H1) 
LOCATION:Fb vhs 101, Friedensstr. 18, 61169 Friedberg
END:VEVENT
BEGIN:VEVENT
DTSTAMP:20260421T204927
DTSTART;TZID=Europe/Berlin:20260814T180000
DTEND;TZID=Europe/Berlin:20260814T203000
UID:EG404183H1-20260814T180000@VHSWETTERAU
SUMMARY:Deutsch als Fremdsprache B2/2 (Modul 8, Teil 1): Allgemein, für Studium und Beruf Am Abend (EG404183H1) 
LOCATION:Fb vhs 101, Friedensstr. 18, 61169 Friedberg
END:VEVENT
BEGIN:VEVENT
DTSTAMP:20260421T204927
DTSTART;TZID=Europe/Berlin:20260817T180000
DTEND;TZID=Europe/Berlin:20260817T203000
UID:EG404183H1-20260817T180000@VHSWETTERAU
SUMMARY:Deutsch als Fremdsprache B2/2 (Modul 8, Teil 1): Allgemein, für Studium und Beruf Am Abend (EG404183H1) 
LOCATION:Fb vhs 101, Friedensstr. 18, 61169 Friedberg
END:VEVENT
BEGIN:VEVENT
DTSTAMP:20260421T204927
DTSTART;TZID=Europe/Berlin:20260819T180000
DTEND;TZID=Europe/Berlin:20260819T203000
UID:EG404183H1-20260819T180000@VHSWETTERAU
SUMMARY:Deutsch als Fremdsprache B2/2 (Modul 8, Teil 1): Allgemein, für Studium und Beruf Am Abend (EG404183H1) 
LOCATION:Fb vhs 101, Friedensstr. 18, 61169 Friedberg
END:VEVENT
BEGIN:VEVENT
DTSTAMP:20260421T204927
DTSTART;TZID=Europe/Berlin:20260821T180000
DTEND;TZID=Europe/Berlin:20260821T203000
UID:EG404183H1-20260821T180000@VHSWETTERAU
SUMMARY:Deutsch als Fremdsprache B2/2 (Modul 8, Teil 1): Allgemein, für Studium und Beruf Am Abend (EG404183H1) 
LOCATION:Fb vhs 101, Friedensstr. 18, 61169 Friedberg
END:VEVENT
BEGIN:VEVENT
DTSTAMP:20260421T204927
DTSTART;TZID=Europe/Berlin:20260824T180000
DTEND;TZID=Europe/Berlin:20260824T203000
UID:EG404183H1-20260824T180000@VHSWETTERAU
SUMMARY:Deutsch als Fremdsprache B2/2 (Modul 8, Teil 1): Allgemein, für Studium und Beruf Am Abend (EG404183H1) 
LOCATION:Fb vhs 101, Friedensstr. 18, 61169 Friedberg
END:VEVENT
BEGIN:VEVENT
DTSTAMP:20260421T204927
DTSTART;TZID=Europe/Berlin:20260826T180000
DTEND;TZID=Europe/Berlin:20260826T203000
UID:EG404183H1-20260826T180000@VHSWETTERAU
SUMMARY:Deutsch als Fremdsprache B2/2 (Modul 8, Teil 1): Allgemein, für Studium und Beruf Am Abend (EG404183H1) 
LOCATION:Fb vhs 101, Friedensstr. 18, 61169 Friedberg
END:VEVENT
BEGIN:VEVENT
DTSTAMP:20260421T204927
DTSTART;TZID=Europe/Berlin:20260828T180000
DTEND;TZID=Europe/Berlin:20260828T203000
UID:EG404183H1-20260828T180000@VHSWETTERAU
SUMMARY:Deutsch als Fremdsprache B2/2 (Modul 8, Teil 1): Allgemein, für Studium und Beruf Am Abend (EG404183H1) 
LOCATION:Fb vhs 101, Friedensstr. 18, 61169 Friedberg
END:VEVENT
BEGIN:VEVENT
DTSTAMP:20260421T204927
DTSTART;TZID=Europe/Berlin:20260831T180000
DTEND;TZID=Europe/Berlin:20260831T203000
UID:EG404183H1-20260831T180000@VHSWETTERAU
SUMMARY:Deutsch als Fremdsprache B2/2 (Modul 8, Teil 1): Allgemein, für Studium und Beruf Am Abend (EG404183H1) 
LOCATION:Fb vhs 101, Friedensstr. 18, 61169 Friedberg
END:VEVENT
BEGIN:VEVENT
DTSTAMP:20260421T204927
DTSTART;TZID=Europe/Berlin:20260902T180000
DTEND;TZID=Europe/Berlin:20260902T203000
UID:EG404183H1-20260902T180000@VHSWETTERAU
SUMMARY:Deutsch als Fremdsprache B2/2 (Modul 8, Teil 1): Allgemein, für Studium und Beruf Am Abend (EG404183H1) 
LOCATION:Fb vhs 101, Friedensstr. 18, 61169 Friedberg
END:VEVENT
BEGIN:VEVENT
DTSTAMP:20260421T204927
DTSTART;TZID=Europe/Berlin:20260904T180000
DTEND;TZID=Europe/Berlin:20260904T203000
UID:EG404183H1-20260904T180000@VHSWETTERAU
SUMMARY:Deutsch als Fremdsprache B2/2 (Modul 8, Teil 1): Allgemein, für Studium und Beruf Am Abend (EG404183H1) 
LOCATION:Fb vhs 101, Friedensstr. 18, 61169 Friedberg
END:VEVENT
BEGIN:VEVENT
DTSTAMP:20260421T204927
DTSTART;TZID=Europe/Berlin:20260907T180000
DTEND;TZID=Europe/Berlin:20260907T203000
UID:EG404183H1-20260907T180000@VHSWETTERAU
SUMMARY:Deutsch als Fremdsprache B2/2 (Modul 8, Teil 1): Allgemein, für Studium und Beruf Am Abend (EG404183H1) 
LOCATION:Fb vhs 101, Friedensstr. 18, 61169 Friedberg
END:VEVENT
BEGIN:VEVENT
DTSTAMP:20260421T204927
DTSTART;TZID=Europe/Berlin:20260909T180000
DTEND;TZID=Europe/Berlin:20260909T203000
UID:EG404183H1-20260909T180000@VHSWETTERAU
SUMMARY:Deutsch als Fremdsprache B2/2 (Modul 8, Teil 1): Allgemein, für Studium und Beruf Am Abend (EG404183H1) 
LOCATION:Fb vhs 101, Friedensstr. 18, 61169 Friedberg
END:VEVENT
BEGIN:VEVENT
DTSTAMP:20260421T204927
DTSTART;TZID=Europe/Berlin:20260911T180000
DTEND;TZID=Europe/Berlin:20260911T203000
UID:EG404183H1-20260911T180000@VHSWETTERAU
SUMMARY:Deutsch als Fremdsprache B2/2 (Modul 8, Teil 1): Allgemein, für Studium und Beruf Am Abend (EG404183H1) 
LOCATION:Fb vhs 101, Friedensstr. 18, 61169 Friedberg
END:VEVENT
BEGIN:VEVENT
DTSTAMP:20260421T204927
DTSTART;TZID=Europe/Berlin:20260914T180000
DTEND;TZID=Europe/Berlin:20260914T203000
UID:EG404183H1-20260914T180000@VHSWETTERAU
SUMMARY:Deutsch als Fremdsprache B2/2 (Modul 8, Teil 1): Allgemein, für Studium und Beruf Am Abend (EG404183H1) 
LOCATION:Fb vhs 101, Friedensstr. 18, 61169 Friedberg
END:VEVENT
BEGIN:VEVENT
DTSTAMP:20260421T204927
DTSTART;TZID=Europe/Berlin:20260916T180000
DTEND;TZID=Europe/Berlin:20260916T203000
UID:EG404183H1-20260916T180000@VHSWETTERAU
SUMMARY:Deutsch als Fremdsprache B2/2 (Modul 8, Teil 1): Allgemein, für Studium und Beruf Am Abend (EG404183H1) 
LOCATION:Fb vhs 101, Friedensstr. 18, 61169 Friedberg
END:VEVENT
BEGIN:VEVENT
DTSTAMP:20260421T204927
DTSTART;TZID=Europe/Berlin:20260918T180000
DTEND;TZID=Europe/Berlin:20260918T203000
UID:EG404183H1-20260918T180000@VHSWETTERAU
SUMMARY:Deutsch als Fremdsprache B2/2 (Modul 8, Teil 1): Allgemein, für Studium und Beruf Am Abend (EG404183H1) 
LOCATION:Fb vhs 101, Friedensstr. 18, 61169 Friedberg
END:VEVENT
BEGIN:VEVENT
DTSTAMP:20260421T204927
DTSTART;TZID=Europe/Berlin:20260921T180000
DTEND;TZID=Europe/Berlin:20260921T203000
UID:EG404183H1-20260921T180000@VHSWETTERAU
SUMMARY:Deutsch als Fremdsprache B2/2 (Modul 8, Teil 1): Allgemein, für Studium und Beruf Am Abend (EG404183H1) 
LOCATION:Fb vhs 101, Friedensstr. 18, 61169 Friedberg
END:VEVENT
BEGIN:VEVENT
DTSTAMP:20260421T204927
DTSTART;TZID=Europe/Berlin:20260923T180000
DTEND;TZID=Europe/Berlin:20260923T203000
UID:EG404183H1-20260923T180000@VHSWETTERAU
SUMMARY:Deutsch als Fremdsprache B2/2 (Modul 8, Teil 1): Allgemein, für Studium und Beruf Am Abend (EG404183H1) 
LOCATION:Fb vhs 101, Friedensstr. 18, 61169 Friedberg
END:VEVENT
END:VCALENDAR