BEGIN:VCALENDAR
VERSION:2.0
PRODID:https://www.kufer.de/kuferweb / DE
METHOD:PUBLISH
CALSCALE:GREGORIAN
X-WR-TIMEZONE:Europe/Berlin
BEGIN:VTIMEZONE
TZID:Europe/Berlin
X-LIC-LOCATION:Europe/Berlin
BEGIN:DAYLIGHT
TZOFFSETFROM:+0100
TZOFFSETTO:+0200
TZNAME:CEST
DTSTART:19700329T020000
RRULE:FREQ=YEARLY;INTERVAL=1;BYDAY=-1SU;BYMONTH=3
END:DAYLIGHT
BEGIN:STANDARD
TZOFFSETFROM:+0200
TZOFFSETTO:+0100
TZNAME:CET
DTSTART:19701025T030000
RRULE:FREQ=YEARLY;INTERVAL=1;BYDAY=-1SU;BYMONTH=10
END:STANDARD
END:VTIMEZONE
BEGIN:VEVENT
DTSTAMP:20260421T223227
DTSTART;TZID=Europe/Berlin:20261019T180000
DTEND;TZID=Europe/Berlin:20261019T203000
UID:EG404183H2-20261019T180000@VHSWETTERAU
SUMMARY:Deutsch als Fremdsprache B2/2 (Modul 8, Teil 2): Allgemein, für Studium und Beruf Am Abend (EG404183H2) 
LOCATION:Fb vhs 101, Friedensstr. 18, 61169 Friedberg
END:VEVENT
BEGIN:VEVENT
DTSTAMP:20260421T223227
DTSTART;TZID=Europe/Berlin:20261021T180000
DTEND;TZID=Europe/Berlin:20261021T203000
UID:EG404183H2-20261021T180000@VHSWETTERAU
SUMMARY:Deutsch als Fremdsprache B2/2 (Modul 8, Teil 2): Allgemein, für Studium und Beruf Am Abend (EG404183H2) 
LOCATION:Fb vhs 101, Friedensstr. 18, 61169 Friedberg
END:VEVENT
BEGIN:VEVENT
DTSTAMP:20260421T223227
DTSTART;TZID=Europe/Berlin:20261023T180000
DTEND;TZID=Europe/Berlin:20261023T203000
UID:EG404183H2-20261023T180000@VHSWETTERAU
SUMMARY:Deutsch als Fremdsprache B2/2 (Modul 8, Teil 2): Allgemein, für Studium und Beruf Am Abend (EG404183H2) 
LOCATION:Fb vhs 101, Friedensstr. 18, 61169 Friedberg
END:VEVENT
BEGIN:VEVENT
DTSTAMP:20260421T223227
DTSTART;TZID=Europe/Berlin:20261026T180000
DTEND;TZID=Europe/Berlin:20261026T203000
UID:EG404183H2-20261026T180000@VHSWETTERAU
SUMMARY:Deutsch als Fremdsprache B2/2 (Modul 8, Teil 2): Allgemein, für Studium und Beruf Am Abend (EG404183H2) 
LOCATION:Fb vhs 101, Friedensstr. 18, 61169 Friedberg
END:VEVENT
BEGIN:VEVENT
DTSTAMP:20260421T223227
DTSTART;TZID=Europe/Berlin:20261028T180000
DTEND;TZID=Europe/Berlin:20261028T203000
UID:EG404183H2-20261028T180000@VHSWETTERAU
SUMMARY:Deutsch als Fremdsprache B2/2 (Modul 8, Teil 2): Allgemein, für Studium und Beruf Am Abend (EG404183H2) 
LOCATION:Fb vhs 101, Friedensstr. 18, 61169 Friedberg
END:VEVENT
BEGIN:VEVENT
DTSTAMP:20260421T223227
DTSTART;TZID=Europe/Berlin:20261030T180000
DTEND;TZID=Europe/Berlin:20261030T203000
UID:EG404183H2-20261030T180000@VHSWETTERAU
SUMMARY:Deutsch als Fremdsprache B2/2 (Modul 8, Teil 2): Allgemein, für Studium und Beruf Am Abend (EG404183H2) 
LOCATION:Fb vhs 101, Friedensstr. 18, 61169 Friedberg
END:VEVENT
BEGIN:VEVENT
DTSTAMP:20260421T223227
DTSTART;TZID=Europe/Berlin:20261102T180000
DTEND;TZID=Europe/Berlin:20261102T203000
UID:EG404183H2-20261102T180000@VHSWETTERAU
SUMMARY:Deutsch als Fremdsprache B2/2 (Modul 8, Teil 2): Allgemein, für Studium und Beruf Am Abend (EG404183H2) 
LOCATION:Fb vhs 101, Friedensstr. 18, 61169 Friedberg
END:VEVENT
BEGIN:VEVENT
DTSTAMP:20260421T223227
DTSTART;TZID=Europe/Berlin:20261104T180000
DTEND;TZID=Europe/Berlin:20261104T203000
UID:EG404183H2-20261104T180000@VHSWETTERAU
SUMMARY:Deutsch als Fremdsprache B2/2 (Modul 8, Teil 2): Allgemein, für Studium und Beruf Am Abend (EG404183H2) 
LOCATION:Fb vhs 101, Friedensstr. 18, 61169 Friedberg
END:VEVENT
BEGIN:VEVENT
DTSTAMP:20260421T223227
DTSTART;TZID=Europe/Berlin:20261106T180000
DTEND;TZID=Europe/Berlin:20261106T203000
UID:EG404183H2-20261106T180000@VHSWETTERAU
SUMMARY:Deutsch als Fremdsprache B2/2 (Modul 8, Teil 2): Allgemein, für Studium und Beruf Am Abend (EG404183H2) 
LOCATION:Fb vhs 101, Friedensstr. 18, 61169 Friedberg
END:VEVENT
BEGIN:VEVENT
DTSTAMP:20260421T223227
DTSTART;TZID=Europe/Berlin:20261109T180000
DTEND;TZID=Europe/Berlin:20261109T203000
UID:EG404183H2-20261109T180000@VHSWETTERAU
SUMMARY:Deutsch als Fremdsprache B2/2 (Modul 8, Teil 2): Allgemein, für Studium und Beruf Am Abend (EG404183H2) 
LOCATION:Fb vhs 101, Friedensstr. 18, 61169 Friedberg
END:VEVENT
BEGIN:VEVENT
DTSTAMP:20260421T223227
DTSTART;TZID=Europe/Berlin:20261111T180000
DTEND;TZID=Europe/Berlin:20261111T203000
UID:EG404183H2-20261111T180000@VHSWETTERAU
SUMMARY:Deutsch als Fremdsprache B2/2 (Modul 8, Teil 2): Allgemein, für Studium und Beruf Am Abend (EG404183H2) 
LOCATION:Fb vhs 101, Friedensstr. 18, 61169 Friedberg
END:VEVENT
BEGIN:VEVENT
DTSTAMP:20260421T223227
DTSTART;TZID=Europe/Berlin:20261113T180000
DTEND;TZID=Europe/Berlin:20261113T203000
UID:EG404183H2-20261113T180000@VHSWETTERAU
SUMMARY:Deutsch als Fremdsprache B2/2 (Modul 8, Teil 2): Allgemein, für Studium und Beruf Am Abend (EG404183H2) 
LOCATION:Fb vhs 101, Friedensstr. 18, 61169 Friedberg
END:VEVENT
BEGIN:VEVENT
DTSTAMP:20260421T223227
DTSTART;TZID=Europe/Berlin:20261116T180000
DTEND;TZID=Europe/Berlin:20261116T203000
UID:EG404183H2-20261116T180000@VHSWETTERAU
SUMMARY:Deutsch als Fremdsprache B2/2 (Modul 8, Teil 2): Allgemein, für Studium und Beruf Am Abend (EG404183H2) 
LOCATION:Fb vhs 101, Friedensstr. 18, 61169 Friedberg
END:VEVENT
BEGIN:VEVENT
DTSTAMP:20260421T223227
DTSTART;TZID=Europe/Berlin:20261118T180000
DTEND;TZID=Europe/Berlin:20261118T203000
UID:EG404183H2-20261118T180000@VHSWETTERAU
SUMMARY:Deutsch als Fremdsprache B2/2 (Modul 8, Teil 2): Allgemein, für Studium und Beruf Am Abend (EG404183H2) 
LOCATION:Fb vhs 101, Friedensstr. 18, 61169 Friedberg
END:VEVENT
BEGIN:VEVENT
DTSTAMP:20260421T223227
DTSTART;TZID=Europe/Berlin:20261120T180000
DTEND;TZID=Europe/Berlin:20261120T203000
UID:EG404183H2-20261120T180000@VHSWETTERAU
SUMMARY:Deutsch als Fremdsprache B2/2 (Modul 8, Teil 2): Allgemein, für Studium und Beruf Am Abend (EG404183H2) 
LOCATION:Fb vhs 101, Friedensstr. 18, 61169 Friedberg
END:VEVENT
BEGIN:VEVENT
DTSTAMP:20260421T223227
DTSTART;TZID=Europe/Berlin:20261123T180000
DTEND;TZID=Europe/Berlin:20261123T203000
UID:EG404183H2-20261123T180000@VHSWETTERAU
SUMMARY:Deutsch als Fremdsprache B2/2 (Modul 8, Teil 2): Allgemein, für Studium und Beruf Am Abend (EG404183H2) 
LOCATION:Fb vhs 101, Friedensstr. 18, 61169 Friedberg
END:VEVENT
BEGIN:VEVENT
DTSTAMP:20260421T223227
DTSTART;TZID=Europe/Berlin:20261125T180000
DTEND;TZID=Europe/Berlin:20261125T203000
UID:EG404183H2-20261125T180000@VHSWETTERAU
SUMMARY:Deutsch als Fremdsprache B2/2 (Modul 8, Teil 2): Allgemein, für Studium und Beruf Am Abend (EG404183H2) 
LOCATION:Fb vhs 101, Friedensstr. 18, 61169 Friedberg
END:VEVENT
BEGIN:VEVENT
DTSTAMP:20260421T223227
DTSTART;TZID=Europe/Berlin:20261127T180000
DTEND;TZID=Europe/Berlin:20261127T203000
UID:EG404183H2-20261127T180000@VHSWETTERAU
SUMMARY:Deutsch als Fremdsprache B2/2 (Modul 8, Teil 2): Allgemein, für Studium und Beruf Am Abend (EG404183H2) 
LOCATION:Fb vhs 101, Friedensstr. 18, 61169 Friedberg
END:VEVENT
BEGIN:VEVENT
DTSTAMP:20260421T223227
DTSTART;TZID=Europe/Berlin:20261130T180000
DTEND;TZID=Europe/Berlin:20261130T203000
UID:EG404183H2-20261130T180000@VHSWETTERAU
SUMMARY:Deutsch als Fremdsprache B2/2 (Modul 8, Teil 2): Allgemein, für Studium und Beruf Am Abend (EG404183H2) 
LOCATION:Fb vhs 101, Friedensstr. 18, 61169 Friedberg
END:VEVENT
BEGIN:VEVENT
DTSTAMP:20260421T223227
DTSTART;TZID=Europe/Berlin:20261202T180000
DTEND;TZID=Europe/Berlin:20261202T203000
UID:EG404183H2-20261202T180000@VHSWETTERAU
SUMMARY:Deutsch als Fremdsprache B2/2 (Modul 8, Teil 2): Allgemein, für Studium und Beruf Am Abend (EG404183H2) 
LOCATION:Fb vhs 101, Friedensstr. 18, 61169 Friedberg
END:VEVENT
END:VCALENDAR