BEGIN:VCALENDAR
VERSION:2.0
PRODID:https://www.kufer.de/kuferweb / DE
METHOD:PUBLISH
CALSCALE:GREGORIAN
X-WR-TIMEZONE:Europe/Berlin
BEGIN:VTIMEZONE
TZID:Europe/Berlin
X-LIC-LOCATION:Europe/Berlin
BEGIN:DAYLIGHT
TZOFFSETFROM:+0100
TZOFFSETTO:+0200
TZNAME:CEST
DTSTART:19700329T020000
RRULE:FREQ=YEARLY;INTERVAL=1;BYDAY=-1SU;BYMONTH=3
END:DAYLIGHT
BEGIN:STANDARD
TZOFFSETFROM:+0200
TZOFFSETTO:+0100
TZNAME:CET
DTSTART:19701025T030000
RRULE:FREQ=YEARLY;INTERVAL=1;BYDAY=-1SU;BYMONTH=10
END:STANDARD
END:VTIMEZONE
BEGIN:VEVENT
DTSTAMP:20260421T225525
DTSTART;TZID=Europe/Berlin:20260824T083000
DTEND;TZID=Europe/Berlin:20260824T114500
UID:EG404211H4-20260824T083000@VHSWETTERAU
SUMMARY:Deutsch als Zweitsprache A1/1 (Modul 1)  Integrationskurs am Vormittag (EG404211H4) 
LOCATION:FB Am Dachspfad 32A, R. 201, Am Dachspfad 32A, 61169 Friedberg
END:VEVENT
BEGIN:VEVENT
DTSTAMP:20260421T225525
DTSTART;TZID=Europe/Berlin:20260825T083000
DTEND;TZID=Europe/Berlin:20260825T114500
UID:EG404211H4-20260825T083000@VHSWETTERAU
SUMMARY:Deutsch als Zweitsprache A1/1 (Modul 1)  Integrationskurs am Vormittag (EG404211H4) 
LOCATION:FB Am Dachspfad 32A, R. 201, Am Dachspfad 32A, 61169 Friedberg
END:VEVENT
BEGIN:VEVENT
DTSTAMP:20260421T225525
DTSTART;TZID=Europe/Berlin:20260826T083000
DTEND;TZID=Europe/Berlin:20260826T114500
UID:EG404211H4-20260826T083000@VHSWETTERAU
SUMMARY:Deutsch als Zweitsprache A1/1 (Modul 1)  Integrationskurs am Vormittag (EG404211H4) 
LOCATION:FB Am Dachspfad 32A, R. 201, Am Dachspfad 32A, 61169 Friedberg
END:VEVENT
BEGIN:VEVENT
DTSTAMP:20260421T225525
DTSTART;TZID=Europe/Berlin:20260827T083000
DTEND;TZID=Europe/Berlin:20260827T114500
UID:EG404211H4-20260827T083000@VHSWETTERAU
SUMMARY:Deutsch als Zweitsprache A1/1 (Modul 1)  Integrationskurs am Vormittag (EG404211H4) 
LOCATION:FB Am Dachspfad 32A, R. 201, Am Dachspfad 32A, 61169 Friedberg
END:VEVENT
BEGIN:VEVENT
DTSTAMP:20260421T225525
DTSTART;TZID=Europe/Berlin:20260828T083000
DTEND;TZID=Europe/Berlin:20260828T114500
UID:EG404211H4-20260828T083000@VHSWETTERAU
SUMMARY:Deutsch als Zweitsprache A1/1 (Modul 1)  Integrationskurs am Vormittag (EG404211H4) 
LOCATION:FB Am Dachspfad 32A, R. 201, Am Dachspfad 32A, 61169 Friedberg
END:VEVENT
BEGIN:VEVENT
DTSTAMP:20260421T225525
DTSTART;TZID=Europe/Berlin:20260831T083000
DTEND;TZID=Europe/Berlin:20260831T114500
UID:EG404211H4-20260831T083000@VHSWETTERAU
SUMMARY:Deutsch als Zweitsprache A1/1 (Modul 1)  Integrationskurs am Vormittag (EG404211H4) 
LOCATION:FB Am Dachspfad 32A, R. 201, Am Dachspfad 32A, 61169 Friedberg
END:VEVENT
BEGIN:VEVENT
DTSTAMP:20260421T225525
DTSTART;TZID=Europe/Berlin:20260901T083000
DTEND;TZID=Europe/Berlin:20260901T114500
UID:EG404211H4-20260901T083000@VHSWETTERAU
SUMMARY:Deutsch als Zweitsprache A1/1 (Modul 1)  Integrationskurs am Vormittag (EG404211H4) 
LOCATION:FB Am Dachspfad 32A, R. 201, Am Dachspfad 32A, 61169 Friedberg
END:VEVENT
BEGIN:VEVENT
DTSTAMP:20260421T225525
DTSTART;TZID=Europe/Berlin:20260902T083000
DTEND;TZID=Europe/Berlin:20260902T114500
UID:EG404211H4-20260902T083000@VHSWETTERAU
SUMMARY:Deutsch als Zweitsprache A1/1 (Modul 1)  Integrationskurs am Vormittag (EG404211H4) 
LOCATION:FB Am Dachspfad 32A, R. 201, Am Dachspfad 32A, 61169 Friedberg
END:VEVENT
BEGIN:VEVENT
DTSTAMP:20260421T225525
DTSTART;TZID=Europe/Berlin:20260903T083000
DTEND;TZID=Europe/Berlin:20260903T114500
UID:EG404211H4-20260903T083000@VHSWETTERAU
SUMMARY:Deutsch als Zweitsprache A1/1 (Modul 1)  Integrationskurs am Vormittag (EG404211H4) 
LOCATION:FB Am Dachspfad 32A, R. 201, Am Dachspfad 32A, 61169 Friedberg
END:VEVENT
BEGIN:VEVENT
DTSTAMP:20260421T225525
DTSTART;TZID=Europe/Berlin:20260904T083000
DTEND;TZID=Europe/Berlin:20260904T114500
UID:EG404211H4-20260904T083000@VHSWETTERAU
SUMMARY:Deutsch als Zweitsprache A1/1 (Modul 1)  Integrationskurs am Vormittag (EG404211H4) 
LOCATION:FB Am Dachspfad 32A, R. 201, Am Dachspfad 32A, 61169 Friedberg
END:VEVENT
BEGIN:VEVENT
DTSTAMP:20260421T225525
DTSTART;TZID=Europe/Berlin:20260907T083000
DTEND;TZID=Europe/Berlin:20260907T114500
UID:EG404211H4-20260907T083000@VHSWETTERAU
SUMMARY:Deutsch als Zweitsprache A1/1 (Modul 1)  Integrationskurs am Vormittag (EG404211H4) 
LOCATION:FB Am Dachspfad 32A, R. 201, Am Dachspfad 32A, 61169 Friedberg
END:VEVENT
BEGIN:VEVENT
DTSTAMP:20260421T225525
DTSTART;TZID=Europe/Berlin:20260908T083000
DTEND;TZID=Europe/Berlin:20260908T114500
UID:EG404211H4-20260908T083000@VHSWETTERAU
SUMMARY:Deutsch als Zweitsprache A1/1 (Modul 1)  Integrationskurs am Vormittag (EG404211H4) 
LOCATION:FB Am Dachspfad 32A, R. 201, Am Dachspfad 32A, 61169 Friedberg
END:VEVENT
BEGIN:VEVENT
DTSTAMP:20260421T225525
DTSTART;TZID=Europe/Berlin:20260909T083000
DTEND;TZID=Europe/Berlin:20260909T114500
UID:EG404211H4-20260909T083000@VHSWETTERAU
SUMMARY:Deutsch als Zweitsprache A1/1 (Modul 1)  Integrationskurs am Vormittag (EG404211H4) 
LOCATION:FB Am Dachspfad 32A, R. 201, Am Dachspfad 32A, 61169 Friedberg
END:VEVENT
BEGIN:VEVENT
DTSTAMP:20260421T225525
DTSTART;TZID=Europe/Berlin:20260910T083000
DTEND;TZID=Europe/Berlin:20260910T114500
UID:EG404211H4-20260910T083000@VHSWETTERAU
SUMMARY:Deutsch als Zweitsprache A1/1 (Modul 1)  Integrationskurs am Vormittag (EG404211H4) 
LOCATION:FB Am Dachspfad 32A, R. 201, Am Dachspfad 32A, 61169 Friedberg
END:VEVENT
BEGIN:VEVENT
DTSTAMP:20260421T225525
DTSTART;TZID=Europe/Berlin:20260911T083000
DTEND;TZID=Europe/Berlin:20260911T114500
UID:EG404211H4-20260911T083000@VHSWETTERAU
SUMMARY:Deutsch als Zweitsprache A1/1 (Modul 1)  Integrationskurs am Vormittag (EG404211H4) 
LOCATION:FB Am Dachspfad 32A, R. 201, Am Dachspfad 32A, 61169 Friedberg
END:VEVENT
BEGIN:VEVENT
DTSTAMP:20260421T225525
DTSTART;TZID=Europe/Berlin:20260914T083000
DTEND;TZID=Europe/Berlin:20260914T114500
UID:EG404211H4-20260914T083000@VHSWETTERAU
SUMMARY:Deutsch als Zweitsprache A1/1 (Modul 1)  Integrationskurs am Vormittag (EG404211H4) 
LOCATION:FB Am Dachspfad 32A, R. 201, Am Dachspfad 32A, 61169 Friedberg
END:VEVENT
BEGIN:VEVENT
DTSTAMP:20260421T225525
DTSTART;TZID=Europe/Berlin:20260915T083000
DTEND;TZID=Europe/Berlin:20260915T114500
UID:EG404211H4-20260915T083000@VHSWETTERAU
SUMMARY:Deutsch als Zweitsprache A1/1 (Modul 1)  Integrationskurs am Vormittag (EG404211H4) 
LOCATION:FB Am Dachspfad 32A, R. 201, Am Dachspfad 32A, 61169 Friedberg
END:VEVENT
BEGIN:VEVENT
DTSTAMP:20260421T225525
DTSTART;TZID=Europe/Berlin:20260916T083000
DTEND;TZID=Europe/Berlin:20260916T114500
UID:EG404211H4-20260916T083000@VHSWETTERAU
SUMMARY:Deutsch als Zweitsprache A1/1 (Modul 1)  Integrationskurs am Vormittag (EG404211H4) 
LOCATION:FB Am Dachspfad 32A, R. 201, Am Dachspfad 32A, 61169 Friedberg
END:VEVENT
BEGIN:VEVENT
DTSTAMP:20260421T225525
DTSTART;TZID=Europe/Berlin:20260917T083000
DTEND;TZID=Europe/Berlin:20260917T114500
UID:EG404211H4-20260917T083000@VHSWETTERAU
SUMMARY:Deutsch als Zweitsprache A1/1 (Modul 1)  Integrationskurs am Vormittag (EG404211H4) 
LOCATION:FB Am Dachspfad 32A, R. 201, Am Dachspfad 32A, 61169 Friedberg
END:VEVENT
BEGIN:VEVENT
DTSTAMP:20260421T225525
DTSTART;TZID=Europe/Berlin:20260918T083000
DTEND;TZID=Europe/Berlin:20260918T114500
UID:EG404211H4-20260918T083000@VHSWETTERAU
SUMMARY:Deutsch als Zweitsprache A1/1 (Modul 1)  Integrationskurs am Vormittag (EG404211H4) 
LOCATION:FB Am Dachspfad 32A, R. 201, Am Dachspfad 32A, 61169 Friedberg
END:VEVENT
BEGIN:VEVENT
DTSTAMP:20260421T225525
DTSTART;TZID=Europe/Berlin:20260921T083000
DTEND;TZID=Europe/Berlin:20260921T114500
UID:EG404211H4-20260921T083000@VHSWETTERAU
SUMMARY:Deutsch als Zweitsprache A1/1 (Modul 1)  Integrationskurs am Vormittag (EG404211H4) 
LOCATION:FB Am Dachspfad 32A, R. 201, Am Dachspfad 32A, 61169 Friedberg
END:VEVENT
BEGIN:VEVENT
DTSTAMP:20260421T225525
DTSTART;TZID=Europe/Berlin:20260922T083000
DTEND;TZID=Europe/Berlin:20260922T114500
UID:EG404211H4-20260922T083000@VHSWETTERAU
SUMMARY:Deutsch als Zweitsprache A1/1 (Modul 1)  Integrationskurs am Vormittag (EG404211H4) 
LOCATION:FB Am Dachspfad 32A, R. 201, Am Dachspfad 32A, 61169 Friedberg
END:VEVENT
BEGIN:VEVENT
DTSTAMP:20260421T225525
DTSTART;TZID=Europe/Berlin:20260923T083000
DTEND;TZID=Europe/Berlin:20260923T114500
UID:EG404211H4-20260923T083000@VHSWETTERAU
SUMMARY:Deutsch als Zweitsprache A1/1 (Modul 1)  Integrationskurs am Vormittag (EG404211H4) 
LOCATION:FB Am Dachspfad 32A, R. 201, Am Dachspfad 32A, 61169 Friedberg
END:VEVENT
BEGIN:VEVENT
DTSTAMP:20260421T225525
DTSTART;TZID=Europe/Berlin:20260924T083000
DTEND;TZID=Europe/Berlin:20260924T114500
UID:EG404211H4-20260924T083000@VHSWETTERAU
SUMMARY:Deutsch als Zweitsprache A1/1 (Modul 1)  Integrationskurs am Vormittag (EG404211H4) 
LOCATION:FB Am Dachspfad 32A, R. 201, Am Dachspfad 32A, 61169 Friedberg
END:VEVENT
BEGIN:VEVENT
DTSTAMP:20260421T225525
DTSTART;TZID=Europe/Berlin:20260925T083000
DTEND;TZID=Europe/Berlin:20260925T114500
UID:EG404211H4-20260925T083000@VHSWETTERAU
SUMMARY:Deutsch als Zweitsprache A1/1 (Modul 1)  Integrationskurs am Vormittag (EG404211H4) 
LOCATION:FB Am Dachspfad 32A, R. 201, Am Dachspfad 32A, 61169 Friedberg
END:VEVENT
END:VCALENDAR