BEGIN:VCALENDAR
VERSION:2.0
PRODID:https://www.kufer.de/kuferweb / DE
METHOD:PUBLISH
CALSCALE:GREGORIAN
X-WR-TIMEZONE:Europe/Berlin
BEGIN:VTIMEZONE
TZID:Europe/Berlin
X-LIC-LOCATION:Europe/Berlin
BEGIN:DAYLIGHT
TZOFFSETFROM:+0100
TZOFFSETTO:+0200
TZNAME:CEST
DTSTART:19700329T020000
RRULE:FREQ=YEARLY;INTERVAL=1;BYDAY=-1SU;BYMONTH=3
END:DAYLIGHT
BEGIN:STANDARD
TZOFFSETFROM:+0200
TZOFFSETTO:+0100
TZNAME:CET
DTSTART:19701025T030000
RRULE:FREQ=YEARLY;INTERVAL=1;BYDAY=-1SU;BYMONTH=10
END:STANDARD
END:VTIMEZONE
BEGIN:VEVENT
DTSTAMP:20260422T000505
DTSTART;TZID=Europe/Berlin:20261130T090000
DTEND;TZID=Europe/Berlin:20261130T121500
UID:EG404211H7-20261130T090000@VHSWETTERAU
SUMMARY:Deutsch als Zweitsprache A1/1 (Modul 1) Integrationskurs am Vormittag (EG404211H7) 
LOCATION:Fb vhs B304 (JPR), Friedensstr. 18, 61169 Friedberg
END:VEVENT
BEGIN:VEVENT
DTSTAMP:20260422T000505
DTSTART;TZID=Europe/Berlin:20261201T090000
DTEND;TZID=Europe/Berlin:20261201T121500
UID:EG404211H7-20261201T090000@VHSWETTERAU
SUMMARY:Deutsch als Zweitsprache A1/1 (Modul 1) Integrationskurs am Vormittag (EG404211H7) 
LOCATION:Fb vhs B304 (JPR), Friedensstr. 18, 61169 Friedberg
END:VEVENT
BEGIN:VEVENT
DTSTAMP:20260422T000505
DTSTART;TZID=Europe/Berlin:20261202T090000
DTEND;TZID=Europe/Berlin:20261202T121500
UID:EG404211H7-20261202T090000@VHSWETTERAU
SUMMARY:Deutsch als Zweitsprache A1/1 (Modul 1) Integrationskurs am Vormittag (EG404211H7) 
LOCATION:Fb vhs B304 (JPR), Friedensstr. 18, 61169 Friedberg
END:VEVENT
BEGIN:VEVENT
DTSTAMP:20260422T000505
DTSTART;TZID=Europe/Berlin:20261203T090000
DTEND;TZID=Europe/Berlin:20261203T121500
UID:EG404211H7-20261203T090000@VHSWETTERAU
SUMMARY:Deutsch als Zweitsprache A1/1 (Modul 1) Integrationskurs am Vormittag (EG404211H7) 
LOCATION:Fb vhs B304 (JPR), Friedensstr. 18, 61169 Friedberg
END:VEVENT
BEGIN:VEVENT
DTSTAMP:20260422T000505
DTSTART;TZID=Europe/Berlin:20261204T090000
DTEND;TZID=Europe/Berlin:20261204T121500
UID:EG404211H7-20261204T090000@VHSWETTERAU
SUMMARY:Deutsch als Zweitsprache A1/1 (Modul 1) Integrationskurs am Vormittag (EG404211H7) 
LOCATION:Fb vhs B304 (JPR), Friedensstr. 18, 61169 Friedberg
END:VEVENT
BEGIN:VEVENT
DTSTAMP:20260422T000505
DTSTART;TZID=Europe/Berlin:20261207T090000
DTEND;TZID=Europe/Berlin:20261207T121500
UID:EG404211H7-20261207T090000@VHSWETTERAU
SUMMARY:Deutsch als Zweitsprache A1/1 (Modul 1) Integrationskurs am Vormittag (EG404211H7) 
LOCATION:Fb vhs B304 (JPR), Friedensstr. 18, 61169 Friedberg
END:VEVENT
BEGIN:VEVENT
DTSTAMP:20260422T000505
DTSTART;TZID=Europe/Berlin:20261208T090000
DTEND;TZID=Europe/Berlin:20261208T121500
UID:EG404211H7-20261208T090000@VHSWETTERAU
SUMMARY:Deutsch als Zweitsprache A1/1 (Modul 1) Integrationskurs am Vormittag (EG404211H7) 
LOCATION:Fb vhs B304 (JPR), Friedensstr. 18, 61169 Friedberg
END:VEVENT
BEGIN:VEVENT
DTSTAMP:20260422T000505
DTSTART;TZID=Europe/Berlin:20261209T090000
DTEND;TZID=Europe/Berlin:20261209T121500
UID:EG404211H7-20261209T090000@VHSWETTERAU
SUMMARY:Deutsch als Zweitsprache A1/1 (Modul 1) Integrationskurs am Vormittag (EG404211H7) 
LOCATION:Fb vhs B304 (JPR), Friedensstr. 18, 61169 Friedberg
END:VEVENT
BEGIN:VEVENT
DTSTAMP:20260422T000505
DTSTART;TZID=Europe/Berlin:20261210T090000
DTEND;TZID=Europe/Berlin:20261210T121500
UID:EG404211H7-20261210T090000@VHSWETTERAU
SUMMARY:Deutsch als Zweitsprache A1/1 (Modul 1) Integrationskurs am Vormittag (EG404211H7) 
LOCATION:Fb vhs B304 (JPR), Friedensstr. 18, 61169 Friedberg
END:VEVENT
BEGIN:VEVENT
DTSTAMP:20260422T000505
DTSTART;TZID=Europe/Berlin:20261211T090000
DTEND;TZID=Europe/Berlin:20261211T121500
UID:EG404211H7-20261211T090000@VHSWETTERAU
SUMMARY:Deutsch als Zweitsprache A1/1 (Modul 1) Integrationskurs am Vormittag (EG404211H7) 
LOCATION:Fb vhs B304 (JPR), Friedensstr. 18, 61169 Friedberg
END:VEVENT
BEGIN:VEVENT
DTSTAMP:20260422T000505
DTSTART;TZID=Europe/Berlin:20261214T090000
DTEND;TZID=Europe/Berlin:20261214T121500
UID:EG404211H7-20261214T090000@VHSWETTERAU
SUMMARY:Deutsch als Zweitsprache A1/1 (Modul 1) Integrationskurs am Vormittag (EG404211H7) 
LOCATION:Fb vhs B304 (JPR), Friedensstr. 18, 61169 Friedberg
END:VEVENT
BEGIN:VEVENT
DTSTAMP:20260422T000505
DTSTART;TZID=Europe/Berlin:20261215T090000
DTEND;TZID=Europe/Berlin:20261215T121500
UID:EG404211H7-20261215T090000@VHSWETTERAU
SUMMARY:Deutsch als Zweitsprache A1/1 (Modul 1) Integrationskurs am Vormittag (EG404211H7) 
LOCATION:Fb vhs B304 (JPR), Friedensstr. 18, 61169 Friedberg
END:VEVENT
BEGIN:VEVENT
DTSTAMP:20260422T000505
DTSTART;TZID=Europe/Berlin:20261216T090000
DTEND;TZID=Europe/Berlin:20261216T121500
UID:EG404211H7-20261216T090000@VHSWETTERAU
SUMMARY:Deutsch als Zweitsprache A1/1 (Modul 1) Integrationskurs am Vormittag (EG404211H7) 
LOCATION:Fb vhs B304 (JPR), Friedensstr. 18, 61169 Friedberg
END:VEVENT
BEGIN:VEVENT
DTSTAMP:20260422T000505
DTSTART;TZID=Europe/Berlin:20261217T090000
DTEND;TZID=Europe/Berlin:20261217T121500
UID:EG404211H7-20261217T090000@VHSWETTERAU
SUMMARY:Deutsch als Zweitsprache A1/1 (Modul 1) Integrationskurs am Vormittag (EG404211H7) 
LOCATION:Fb vhs B304 (JPR), Friedensstr. 18, 61169 Friedberg
END:VEVENT
BEGIN:VEVENT
DTSTAMP:20260422T000505
DTSTART;TZID=Europe/Berlin:20261218T090000
DTEND;TZID=Europe/Berlin:20261218T121500
UID:EG404211H7-20261218T090000@VHSWETTERAU
SUMMARY:Deutsch als Zweitsprache A1/1 (Modul 1) Integrationskurs am Vormittag (EG404211H7) 
LOCATION:Fb vhs B304 (JPR), Friedensstr. 18, 61169 Friedberg
END:VEVENT
BEGIN:VEVENT
DTSTAMP:20260422T000505
DTSTART;TZID=Europe/Berlin:20270113T090000
DTEND;TZID=Europe/Berlin:20270113T121500
UID:EG404211H7-20270113T090000@VHSWETTERAU
SUMMARY:Deutsch als Zweitsprache A1/1 (Modul 1) Integrationskurs am Vormittag (EG404211H7) 
LOCATION:Fb vhs B304 (JPR), Friedensstr. 18, 61169 Friedberg
END:VEVENT
BEGIN:VEVENT
DTSTAMP:20260422T000505
DTSTART;TZID=Europe/Berlin:20270114T090000
DTEND;TZID=Europe/Berlin:20270114T121500
UID:EG404211H7-20270114T090000@VHSWETTERAU
SUMMARY:Deutsch als Zweitsprache A1/1 (Modul 1) Integrationskurs am Vormittag (EG404211H7) 
LOCATION:Fb vhs B304 (JPR), Friedensstr. 18, 61169 Friedberg
END:VEVENT
BEGIN:VEVENT
DTSTAMP:20260422T000505
DTSTART;TZID=Europe/Berlin:20270115T090000
DTEND;TZID=Europe/Berlin:20270115T121500
UID:EG404211H7-20270115T090000@VHSWETTERAU
SUMMARY:Deutsch als Zweitsprache A1/1 (Modul 1) Integrationskurs am Vormittag (EG404211H7) 
LOCATION:Fb vhs B304 (JPR), Friedensstr. 18, 61169 Friedberg
END:VEVENT
BEGIN:VEVENT
DTSTAMP:20260422T000505
DTSTART;TZID=Europe/Berlin:20270118T090000
DTEND;TZID=Europe/Berlin:20270118T121500
UID:EG404211H7-20270118T090000@VHSWETTERAU
SUMMARY:Deutsch als Zweitsprache A1/1 (Modul 1) Integrationskurs am Vormittag (EG404211H7) 
LOCATION:Fb vhs B304 (JPR), Friedensstr. 18, 61169 Friedberg
END:VEVENT
BEGIN:VEVENT
DTSTAMP:20260422T000505
DTSTART;TZID=Europe/Berlin:20270119T090000
DTEND;TZID=Europe/Berlin:20270119T121500
UID:EG404211H7-20270119T090000@VHSWETTERAU
SUMMARY:Deutsch als Zweitsprache A1/1 (Modul 1) Integrationskurs am Vormittag (EG404211H7) 
LOCATION:Fb vhs B304 (JPR), Friedensstr. 18, 61169 Friedberg
END:VEVENT
BEGIN:VEVENT
DTSTAMP:20260422T000505
DTSTART;TZID=Europe/Berlin:20270120T090000
DTEND;TZID=Europe/Berlin:20270120T121500
UID:EG404211H7-20270120T090000@VHSWETTERAU
SUMMARY:Deutsch als Zweitsprache A1/1 (Modul 1) Integrationskurs am Vormittag (EG404211H7) 
LOCATION:Fb vhs B304 (JPR), Friedensstr. 18, 61169 Friedberg
END:VEVENT
BEGIN:VEVENT
DTSTAMP:20260422T000505
DTSTART;TZID=Europe/Berlin:20270121T090000
DTEND;TZID=Europe/Berlin:20270121T121500
UID:EG404211H7-20270121T090000@VHSWETTERAU
SUMMARY:Deutsch als Zweitsprache A1/1 (Modul 1) Integrationskurs am Vormittag (EG404211H7) 
LOCATION:Fb vhs B304 (JPR), Friedensstr. 18, 61169 Friedberg
END:VEVENT
BEGIN:VEVENT
DTSTAMP:20260422T000505
DTSTART;TZID=Europe/Berlin:20270122T090000
DTEND;TZID=Europe/Berlin:20270122T121500
UID:EG404211H7-20270122T090000@VHSWETTERAU
SUMMARY:Deutsch als Zweitsprache A1/1 (Modul 1) Integrationskurs am Vormittag (EG404211H7) 
LOCATION:Fb vhs B304 (JPR), Friedensstr. 18, 61169 Friedberg
END:VEVENT
BEGIN:VEVENT
DTSTAMP:20260422T000505
DTSTART;TZID=Europe/Berlin:20270125T090000
DTEND;TZID=Europe/Berlin:20270125T121500
UID:EG404211H7-20270125T090000@VHSWETTERAU
SUMMARY:Deutsch als Zweitsprache A1/1 (Modul 1) Integrationskurs am Vormittag (EG404211H7) 
LOCATION:Fb vhs B304 (JPR), Friedensstr. 18, 61169 Friedberg
END:VEVENT
BEGIN:VEVENT
DTSTAMP:20260422T000505
DTSTART;TZID=Europe/Berlin:20270126T090000
DTEND;TZID=Europe/Berlin:20270126T121500
UID:EG404211H7-20270126T090000@VHSWETTERAU
SUMMARY:Deutsch als Zweitsprache A1/1 (Modul 1) Integrationskurs am Vormittag (EG404211H7) 
LOCATION:Fb vhs B304 (JPR), Friedensstr. 18, 61169 Friedberg
END:VEVENT
END:VCALENDAR