BEGIN:VCALENDAR
VERSION:2.0
PRODID:https://www.kufer.de/kuferweb / DE
METHOD:PUBLISH
CALSCALE:GREGORIAN
X-WR-TIMEZONE:Europe/Berlin
BEGIN:VTIMEZONE
TZID:Europe/Berlin
X-LIC-LOCATION:Europe/Berlin
BEGIN:DAYLIGHT
TZOFFSETFROM:+0100
TZOFFSETTO:+0200
TZNAME:CEST
DTSTART:19700329T020000
RRULE:FREQ=YEARLY;INTERVAL=1;BYDAY=-1SU;BYMONTH=3
END:DAYLIGHT
BEGIN:STANDARD
TZOFFSETFROM:+0200
TZOFFSETTO:+0100
TZNAME:CET
DTSTART:19701025T030000
RRULE:FREQ=YEARLY;INTERVAL=1;BYDAY=-1SU;BYMONTH=10
END:STANDARD
END:VTIMEZONE
BEGIN:VEVENT
DTSTAMP:20260421T211649
DTSTART;TZID=Europe/Berlin:20260907T090000
DTEND;TZID=Europe/Berlin:20260907T130500
UID:EG404211H8-20260907T090000@VHSWETTERAU
SUMMARY:Deutsch als Zweitsprache A1/1 (Modul 1) Integrationskurs am Vormittag (EG404211H8) 
LOCATION:Fb vhs B210 (JPR), Friedensstr. 18, 61169 Friedberg
END:VEVENT
BEGIN:VEVENT
DTSTAMP:20260421T211649
DTSTART;TZID=Europe/Berlin:20260908T090000
DTEND;TZID=Europe/Berlin:20260908T130500
UID:EG404211H8-20260908T090000@VHSWETTERAU
SUMMARY:Deutsch als Zweitsprache A1/1 (Modul 1) Integrationskurs am Vormittag (EG404211H8) 
LOCATION:Fb vhs B210 (JPR), Friedensstr. 18, 61169 Friedberg
END:VEVENT
BEGIN:VEVENT
DTSTAMP:20260421T211649
DTSTART;TZID=Europe/Berlin:20260909T090000
DTEND;TZID=Europe/Berlin:20260909T130500
UID:EG404211H8-20260909T090000@VHSWETTERAU
SUMMARY:Deutsch als Zweitsprache A1/1 (Modul 1) Integrationskurs am Vormittag (EG404211H8) 
LOCATION:Fb vhs B210 (JPR), Friedensstr. 18, 61169 Friedberg
END:VEVENT
BEGIN:VEVENT
DTSTAMP:20260421T211649
DTSTART;TZID=Europe/Berlin:20260910T090000
DTEND;TZID=Europe/Berlin:20260910T130500
UID:EG404211H8-20260910T090000@VHSWETTERAU
SUMMARY:Deutsch als Zweitsprache A1/1 (Modul 1) Integrationskurs am Vormittag (EG404211H8) 
LOCATION:Fb vhs B210 (JPR), Friedensstr. 18, 61169 Friedberg
END:VEVENT
BEGIN:VEVENT
DTSTAMP:20260421T211649
DTSTART;TZID=Europe/Berlin:20260911T090000
DTEND;TZID=Europe/Berlin:20260911T130500
UID:EG404211H8-20260911T090000@VHSWETTERAU
SUMMARY:Deutsch als Zweitsprache A1/1 (Modul 1) Integrationskurs am Vormittag (EG404211H8) 
LOCATION:Fb vhs B210 (JPR), Friedensstr. 18, 61169 Friedberg
END:VEVENT
BEGIN:VEVENT
DTSTAMP:20260421T211649
DTSTART;TZID=Europe/Berlin:20260914T090000
DTEND;TZID=Europe/Berlin:20260914T130500
UID:EG404211H8-20260914T090000@VHSWETTERAU
SUMMARY:Deutsch als Zweitsprache A1/1 (Modul 1) Integrationskurs am Vormittag (EG404211H8) 
LOCATION:Fb vhs B210 (JPR), Friedensstr. 18, 61169 Friedberg
END:VEVENT
BEGIN:VEVENT
DTSTAMP:20260421T211649
DTSTART;TZID=Europe/Berlin:20260915T090000
DTEND;TZID=Europe/Berlin:20260915T130500
UID:EG404211H8-20260915T090000@VHSWETTERAU
SUMMARY:Deutsch als Zweitsprache A1/1 (Modul 1) Integrationskurs am Vormittag (EG404211H8) 
LOCATION:Fb vhs B210 (JPR), Friedensstr. 18, 61169 Friedberg
END:VEVENT
BEGIN:VEVENT
DTSTAMP:20260421T211649
DTSTART;TZID=Europe/Berlin:20260916T090000
DTEND;TZID=Europe/Berlin:20260916T130500
UID:EG404211H8-20260916T090000@VHSWETTERAU
SUMMARY:Deutsch als Zweitsprache A1/1 (Modul 1) Integrationskurs am Vormittag (EG404211H8) 
LOCATION:Fb vhs B210 (JPR), Friedensstr. 18, 61169 Friedberg
END:VEVENT
BEGIN:VEVENT
DTSTAMP:20260421T211649
DTSTART;TZID=Europe/Berlin:20260917T090000
DTEND;TZID=Europe/Berlin:20260917T130500
UID:EG404211H8-20260917T090000@VHSWETTERAU
SUMMARY:Deutsch als Zweitsprache A1/1 (Modul 1) Integrationskurs am Vormittag (EG404211H8) 
LOCATION:Fb vhs B210 (JPR), Friedensstr. 18, 61169 Friedberg
END:VEVENT
BEGIN:VEVENT
DTSTAMP:20260421T211649
DTSTART;TZID=Europe/Berlin:20260918T090000
DTEND;TZID=Europe/Berlin:20260918T130500
UID:EG404211H8-20260918T090000@VHSWETTERAU
SUMMARY:Deutsch als Zweitsprache A1/1 (Modul 1) Integrationskurs am Vormittag (EG404211H8) 
LOCATION:Fb vhs B210 (JPR), Friedensstr. 18, 61169 Friedberg
END:VEVENT
BEGIN:VEVENT
DTSTAMP:20260421T211649
DTSTART;TZID=Europe/Berlin:20260921T090000
DTEND;TZID=Europe/Berlin:20260921T130500
UID:EG404211H8-20260921T090000@VHSWETTERAU
SUMMARY:Deutsch als Zweitsprache A1/1 (Modul 1) Integrationskurs am Vormittag (EG404211H8) 
LOCATION:Fb vhs B210 (JPR), Friedensstr. 18, 61169 Friedberg
END:VEVENT
BEGIN:VEVENT
DTSTAMP:20260421T211649
DTSTART;TZID=Europe/Berlin:20260922T090000
DTEND;TZID=Europe/Berlin:20260922T130500
UID:EG404211H8-20260922T090000@VHSWETTERAU
SUMMARY:Deutsch als Zweitsprache A1/1 (Modul 1) Integrationskurs am Vormittag (EG404211H8) 
LOCATION:Fb vhs B210 (JPR), Friedensstr. 18, 61169 Friedberg
END:VEVENT
BEGIN:VEVENT
DTSTAMP:20260421T211649
DTSTART;TZID=Europe/Berlin:20260923T090000
DTEND;TZID=Europe/Berlin:20260923T130500
UID:EG404211H8-20260923T090000@VHSWETTERAU
SUMMARY:Deutsch als Zweitsprache A1/1 (Modul 1) Integrationskurs am Vormittag (EG404211H8) 
LOCATION:Fb vhs B210 (JPR), Friedensstr. 18, 61169 Friedberg
END:VEVENT
BEGIN:VEVENT
DTSTAMP:20260421T211649
DTSTART;TZID=Europe/Berlin:20260924T090000
DTEND;TZID=Europe/Berlin:20260924T130500
UID:EG404211H8-20260924T090000@VHSWETTERAU
SUMMARY:Deutsch als Zweitsprache A1/1 (Modul 1) Integrationskurs am Vormittag (EG404211H8) 
LOCATION:Fb vhs B210 (JPR), Friedensstr. 18, 61169 Friedberg
END:VEVENT
BEGIN:VEVENT
DTSTAMP:20260421T211649
DTSTART;TZID=Europe/Berlin:20260925T090000
DTEND;TZID=Europe/Berlin:20260925T130500
UID:EG404211H8-20260925T090000@VHSWETTERAU
SUMMARY:Deutsch als Zweitsprache A1/1 (Modul 1) Integrationskurs am Vormittag (EG404211H8) 
LOCATION:Fb vhs B210 (JPR), Friedensstr. 18, 61169 Friedberg
END:VEVENT
BEGIN:VEVENT
DTSTAMP:20260421T211649
DTSTART;TZID=Europe/Berlin:20260928T090000
DTEND;TZID=Europe/Berlin:20260928T130500
UID:EG404211H8-20260928T090000@VHSWETTERAU
SUMMARY:Deutsch als Zweitsprache A1/1 (Modul 1) Integrationskurs am Vormittag (EG404211H8) 
LOCATION:Fb vhs B210 (JPR), Friedensstr. 18, 61169 Friedberg
END:VEVENT
BEGIN:VEVENT
DTSTAMP:20260421T211649
DTSTART;TZID=Europe/Berlin:20260929T090000
DTEND;TZID=Europe/Berlin:20260929T130500
UID:EG404211H8-20260929T090000@VHSWETTERAU
SUMMARY:Deutsch als Zweitsprache A1/1 (Modul 1) Integrationskurs am Vormittag (EG404211H8) 
LOCATION:Fb vhs B210 (JPR), Friedensstr. 18, 61169 Friedberg
END:VEVENT
BEGIN:VEVENT
DTSTAMP:20260421T211649
DTSTART;TZID=Europe/Berlin:20260930T090000
DTEND;TZID=Europe/Berlin:20260930T130500
UID:EG404211H8-20260930T090000@VHSWETTERAU
SUMMARY:Deutsch als Zweitsprache A1/1 (Modul 1) Integrationskurs am Vormittag (EG404211H8) 
LOCATION:Fb vhs B210 (JPR), Friedensstr. 18, 61169 Friedberg
END:VEVENT
BEGIN:VEVENT
DTSTAMP:20260421T211649
DTSTART;TZID=Europe/Berlin:20261001T090000
DTEND;TZID=Europe/Berlin:20261001T130500
UID:EG404211H8-20261001T090000@VHSWETTERAU
SUMMARY:Deutsch als Zweitsprache A1/1 (Modul 1) Integrationskurs am Vormittag (EG404211H8) 
LOCATION:Fb vhs B210 (JPR), Friedensstr. 18, 61169 Friedberg
END:VEVENT
BEGIN:VEVENT
DTSTAMP:20260421T211649
DTSTART;TZID=Europe/Berlin:20261002T090000
DTEND;TZID=Europe/Berlin:20261002T130500
UID:EG404211H8-20261002T090000@VHSWETTERAU
SUMMARY:Deutsch als Zweitsprache A1/1 (Modul 1) Integrationskurs am Vormittag (EG404211H8) 
LOCATION:Fb vhs 101, Friedensstr. 18, 61169 Friedberg
END:VEVENT
END:VCALENDAR