BEGIN:VCALENDAR
VERSION:2.0
PRODID:https://www.kufer.de/kuferweb / DE
METHOD:PUBLISH
CALSCALE:GREGORIAN
X-WR-TIMEZONE:Europe/Berlin
BEGIN:VTIMEZONE
TZID:Europe/Berlin
X-LIC-LOCATION:Europe/Berlin
BEGIN:DAYLIGHT
TZOFFSETFROM:+0100
TZOFFSETTO:+0200
TZNAME:CEST
DTSTART:19700329T020000
RRULE:FREQ=YEARLY;INTERVAL=1;BYDAY=-1SU;BYMONTH=3
END:DAYLIGHT
BEGIN:STANDARD
TZOFFSETFROM:+0200
TZOFFSETTO:+0100
TZNAME:CET
DTSTART:19701025T030000
RRULE:FREQ=YEARLY;INTERVAL=1;BYDAY=-1SU;BYMONTH=10
END:STANDARD
END:VTIMEZONE
BEGIN:VEVENT
DTSTAMP:20260421T223211
DTSTART;TZID=Europe/Berlin:20260921T133000
DTEND;TZID=Europe/Berlin:20260921T173500
UID:EG404212P2-20260921T133000@VHSWETTERAU
SUMMARY:Deutsch als Zweitsprache A1/1 (Modul 1) Integrationskurs am Nachmittag (EG404212P2) 
LOCATION:Nidda Alteburgschule R. 501, Am Heiligen Kreuz 34, 63667 Nidda
END:VEVENT
BEGIN:VEVENT
DTSTAMP:20260421T223211
DTSTART;TZID=Europe/Berlin:20260922T133000
DTEND;TZID=Europe/Berlin:20260922T173500
UID:EG404212P2-20260922T133000@VHSWETTERAU
SUMMARY:Deutsch als Zweitsprache A1/1 (Modul 1) Integrationskurs am Nachmittag (EG404212P2) 
LOCATION:Nidda Alteburgschule R. 501, Am Heiligen Kreuz 34, 63667 Nidda
END:VEVENT
BEGIN:VEVENT
DTSTAMP:20260421T223211
DTSTART;TZID=Europe/Berlin:20260923T133000
DTEND;TZID=Europe/Berlin:20260923T173500
UID:EG404212P2-20260923T133000@VHSWETTERAU
SUMMARY:Deutsch als Zweitsprache A1/1 (Modul 1) Integrationskurs am Nachmittag (EG404212P2) 
LOCATION:Nidda Alteburgschule R. 501, Am Heiligen Kreuz 34, 63667 Nidda
END:VEVENT
BEGIN:VEVENT
DTSTAMP:20260421T223211
DTSTART;TZID=Europe/Berlin:20260924T133000
DTEND;TZID=Europe/Berlin:20260924T173500
UID:EG404212P2-20260924T133000@VHSWETTERAU
SUMMARY:Deutsch als Zweitsprache A1/1 (Modul 1) Integrationskurs am Nachmittag (EG404212P2) 
LOCATION:Nidda Alteburgschule R. 501, Am Heiligen Kreuz 34, 63667 Nidda
END:VEVENT
BEGIN:VEVENT
DTSTAMP:20260421T223211
DTSTART;TZID=Europe/Berlin:20260928T133000
DTEND;TZID=Europe/Berlin:20260928T173500
UID:EG404212P2-20260928T133000@VHSWETTERAU
SUMMARY:Deutsch als Zweitsprache A1/1 (Modul 1) Integrationskurs am Nachmittag (EG404212P2) 
LOCATION:Nidda Alteburgschule R. 501, Am Heiligen Kreuz 34, 63667 Nidda
END:VEVENT
BEGIN:VEVENT
DTSTAMP:20260421T223211
DTSTART;TZID=Europe/Berlin:20260929T133000
DTEND;TZID=Europe/Berlin:20260929T173500
UID:EG404212P2-20260929T133000@VHSWETTERAU
SUMMARY:Deutsch als Zweitsprache A1/1 (Modul 1) Integrationskurs am Nachmittag (EG404212P2) 
LOCATION:Nidda Alteburgschule R. 501, Am Heiligen Kreuz 34, 63667 Nidda
END:VEVENT
BEGIN:VEVENT
DTSTAMP:20260421T223211
DTSTART;TZID=Europe/Berlin:20260930T133000
DTEND;TZID=Europe/Berlin:20260930T173500
UID:EG404212P2-20260930T133000@VHSWETTERAU
SUMMARY:Deutsch als Zweitsprache A1/1 (Modul 1) Integrationskurs am Nachmittag (EG404212P2) 
LOCATION:Nidda Alteburgschule R. 501, Am Heiligen Kreuz 34, 63667 Nidda
END:VEVENT
BEGIN:VEVENT
DTSTAMP:20260421T223211
DTSTART;TZID=Europe/Berlin:20261001T133000
DTEND;TZID=Europe/Berlin:20261001T173500
UID:EG404212P2-20261001T133000@VHSWETTERAU
SUMMARY:Deutsch als Zweitsprache A1/1 (Modul 1) Integrationskurs am Nachmittag (EG404212P2) 
LOCATION:Nidda Alteburgschule R. 501, Am Heiligen Kreuz 34, 63667 Nidda
END:VEVENT
BEGIN:VEVENT
DTSTAMP:20260421T223211
DTSTART;TZID=Europe/Berlin:20261019T133000
DTEND;TZID=Europe/Berlin:20261019T173500
UID:EG404212P2-20261019T133000@VHSWETTERAU
SUMMARY:Deutsch als Zweitsprache A1/1 (Modul 1) Integrationskurs am Nachmittag (EG404212P2) 
LOCATION:Nidda Alteburgschule R. 501, Am Heiligen Kreuz 34, 63667 Nidda
END:VEVENT
BEGIN:VEVENT
DTSTAMP:20260421T223211
DTSTART;TZID=Europe/Berlin:20261020T133000
DTEND;TZID=Europe/Berlin:20261020T173500
UID:EG404212P2-20261020T133000@VHSWETTERAU
SUMMARY:Deutsch als Zweitsprache A1/1 (Modul 1) Integrationskurs am Nachmittag (EG404212P2) 
LOCATION:Nidda Alteburgschule R. 501, Am Heiligen Kreuz 34, 63667 Nidda
END:VEVENT
BEGIN:VEVENT
DTSTAMP:20260421T223211
DTSTART;TZID=Europe/Berlin:20261021T133000
DTEND;TZID=Europe/Berlin:20261021T173500
UID:EG404212P2-20261021T133000@VHSWETTERAU
SUMMARY:Deutsch als Zweitsprache A1/1 (Modul 1) Integrationskurs am Nachmittag (EG404212P2) 
LOCATION:Nidda Alteburgschule R. 501, Am Heiligen Kreuz 34, 63667 Nidda
END:VEVENT
BEGIN:VEVENT
DTSTAMP:20260421T223211
DTSTART;TZID=Europe/Berlin:20261022T133000
DTEND;TZID=Europe/Berlin:20261022T173500
UID:EG404212P2-20261022T133000@VHSWETTERAU
SUMMARY:Deutsch als Zweitsprache A1/1 (Modul 1) Integrationskurs am Nachmittag (EG404212P2) 
LOCATION:Nidda Alteburgschule R. 501, Am Heiligen Kreuz 34, 63667 Nidda
END:VEVENT
BEGIN:VEVENT
DTSTAMP:20260421T223211
DTSTART;TZID=Europe/Berlin:20261026T133000
DTEND;TZID=Europe/Berlin:20261026T173500
UID:EG404212P2-20261026T133000@VHSWETTERAU
SUMMARY:Deutsch als Zweitsprache A1/1 (Modul 1) Integrationskurs am Nachmittag (EG404212P2) 
LOCATION:Nidda Alteburgschule R. 501, Am Heiligen Kreuz 34, 63667 Nidda
END:VEVENT
BEGIN:VEVENT
DTSTAMP:20260421T223211
DTSTART;TZID=Europe/Berlin:20261027T133000
DTEND;TZID=Europe/Berlin:20261027T173500
UID:EG404212P2-20261027T133000@VHSWETTERAU
SUMMARY:Deutsch als Zweitsprache A1/1 (Modul 1) Integrationskurs am Nachmittag (EG404212P2) 
LOCATION:Nidda Alteburgschule R. 501, Am Heiligen Kreuz 34, 63667 Nidda
END:VEVENT
BEGIN:VEVENT
DTSTAMP:20260421T223211
DTSTART;TZID=Europe/Berlin:20261028T133000
DTEND;TZID=Europe/Berlin:20261028T173500
UID:EG404212P2-20261028T133000@VHSWETTERAU
SUMMARY:Deutsch als Zweitsprache A1/1 (Modul 1) Integrationskurs am Nachmittag (EG404212P2) 
LOCATION:Nidda Alteburgschule R. 501, Am Heiligen Kreuz 34, 63667 Nidda
END:VEVENT
BEGIN:VEVENT
DTSTAMP:20260421T223211
DTSTART;TZID=Europe/Berlin:20261029T133000
DTEND;TZID=Europe/Berlin:20261029T173500
UID:EG404212P2-20261029T133000@VHSWETTERAU
SUMMARY:Deutsch als Zweitsprache A1/1 (Modul 1) Integrationskurs am Nachmittag (EG404212P2) 
LOCATION:Nidda Alteburgschule R. 501, Am Heiligen Kreuz 34, 63667 Nidda
END:VEVENT
BEGIN:VEVENT
DTSTAMP:20260421T223211
DTSTART;TZID=Europe/Berlin:20261102T133000
DTEND;TZID=Europe/Berlin:20261102T173500
UID:EG404212P2-20261102T133000@VHSWETTERAU
SUMMARY:Deutsch als Zweitsprache A1/1 (Modul 1) Integrationskurs am Nachmittag (EG404212P2) 
LOCATION:Nidda Alteburgschule R. 501, Am Heiligen Kreuz 34, 63667 Nidda
END:VEVENT
BEGIN:VEVENT
DTSTAMP:20260421T223211
DTSTART;TZID=Europe/Berlin:20261103T133000
DTEND;TZID=Europe/Berlin:20261103T173500
UID:EG404212P2-20261103T133000@VHSWETTERAU
SUMMARY:Deutsch als Zweitsprache A1/1 (Modul 1) Integrationskurs am Nachmittag (EG404212P2) 
LOCATION:Nidda Alteburgschule R. 501, Am Heiligen Kreuz 34, 63667 Nidda
END:VEVENT
BEGIN:VEVENT
DTSTAMP:20260421T223211
DTSTART;TZID=Europe/Berlin:20261104T133000
DTEND;TZID=Europe/Berlin:20261104T173500
UID:EG404212P2-20261104T133000@VHSWETTERAU
SUMMARY:Deutsch als Zweitsprache A1/1 (Modul 1) Integrationskurs am Nachmittag (EG404212P2) 
LOCATION:Nidda Alteburgschule R. 501, Am Heiligen Kreuz 34, 63667 Nidda
END:VEVENT
BEGIN:VEVENT
DTSTAMP:20260421T223211
DTSTART;TZID=Europe/Berlin:20261105T133000
DTEND;TZID=Europe/Berlin:20261105T173500
UID:EG404212P2-20261105T133000@VHSWETTERAU
SUMMARY:Deutsch als Zweitsprache A1/1 (Modul 1) Integrationskurs am Nachmittag (EG404212P2) 
LOCATION:Nidda Alteburgschule R. 501, Am Heiligen Kreuz 34, 63667 Nidda
END:VEVENT
END:VCALENDAR