BEGIN:VCALENDAR
VERSION:2.0
PRODID:https://www.kufer.de/kuferweb / DE
METHOD:PUBLISH
CALSCALE:GREGORIAN
X-WR-TIMEZONE:Europe/Berlin
BEGIN:VTIMEZONE
TZID:Europe/Berlin
X-LIC-LOCATION:Europe/Berlin
BEGIN:DAYLIGHT
TZOFFSETFROM:+0100
TZOFFSETTO:+0200
TZNAME:CEST
DTSTART:19700329T020000
RRULE:FREQ=YEARLY;INTERVAL=1;BYDAY=-1SU;BYMONTH=3
END:DAYLIGHT
BEGIN:STANDARD
TZOFFSETFROM:+0200
TZOFFSETTO:+0100
TZNAME:CET
DTSTART:19701025T030000
RRULE:FREQ=YEARLY;INTERVAL=1;BYDAY=-1SU;BYMONTH=10
END:STANDARD
END:VTIMEZONE
BEGIN:VEVENT
DTSTAMP:20260421T211513
DTSTART;TZID=Europe/Berlin:20260909T090000
DTEND;TZID=Europe/Berlin:20260909T121500
UID:EG404221C3-20260909T090000@VHSWETTERAU
SUMMARY:Deutsch als Zweitsprache A1/2 (Modul 2) Integrationskurs am Vormittag (EG404221C3) 
LOCATION:BV BFW G.-Büchner-Gym., R. K210, Außenstelle, Huizener Straße 60, 61118 Bad Vilbel
END:VEVENT
BEGIN:VEVENT
DTSTAMP:20260421T211513
DTSTART;TZID=Europe/Berlin:20260910T090000
DTEND;TZID=Europe/Berlin:20260910T121500
UID:EG404221C3-20260910T090000@VHSWETTERAU
SUMMARY:Deutsch als Zweitsprache A1/2 (Modul 2) Integrationskurs am Vormittag (EG404221C3) 
LOCATION:BV BFW G.-Büchner-Gym., R. K210, Außenstelle, Huizener Straße 60, 61118 Bad Vilbel
END:VEVENT
BEGIN:VEVENT
DTSTAMP:20260421T211513
DTSTART;TZID=Europe/Berlin:20260911T090000
DTEND;TZID=Europe/Berlin:20260911T121500
UID:EG404221C3-20260911T090000@VHSWETTERAU
SUMMARY:Deutsch als Zweitsprache A1/2 (Modul 2) Integrationskurs am Vormittag (EG404221C3) 
LOCATION:BV BFW G.-Büchner-Gym., R. K210, Außenstelle, Huizener Straße 60, 61118 Bad Vilbel
END:VEVENT
BEGIN:VEVENT
DTSTAMP:20260421T211513
DTSTART;TZID=Europe/Berlin:20260914T090000
DTEND;TZID=Europe/Berlin:20260914T121500
UID:EG404221C3-20260914T090000@VHSWETTERAU
SUMMARY:Deutsch als Zweitsprache A1/2 (Modul 2) Integrationskurs am Vormittag (EG404221C3) 
LOCATION:BV BFW G.-Büchner-Gym., R. K210, Außenstelle, Huizener Straße 60, 61118 Bad Vilbel
END:VEVENT
BEGIN:VEVENT
DTSTAMP:20260421T211513
DTSTART;TZID=Europe/Berlin:20260915T090000
DTEND;TZID=Europe/Berlin:20260915T121500
UID:EG404221C3-20260915T090000@VHSWETTERAU
SUMMARY:Deutsch als Zweitsprache A1/2 (Modul 2) Integrationskurs am Vormittag (EG404221C3) 
LOCATION:BV BFW G.-Büchner-Gym., R. K210, Außenstelle, Huizener Straße 60, 61118 Bad Vilbel
END:VEVENT
BEGIN:VEVENT
DTSTAMP:20260421T211513
DTSTART;TZID=Europe/Berlin:20260916T090000
DTEND;TZID=Europe/Berlin:20260916T121500
UID:EG404221C3-20260916T090000@VHSWETTERAU
SUMMARY:Deutsch als Zweitsprache A1/2 (Modul 2) Integrationskurs am Vormittag (EG404221C3) 
LOCATION:BV BFW G.-Büchner-Gym., R. K210, Außenstelle, Huizener Straße 60, 61118 Bad Vilbel
END:VEVENT
BEGIN:VEVENT
DTSTAMP:20260421T211513
DTSTART;TZID=Europe/Berlin:20260917T090000
DTEND;TZID=Europe/Berlin:20260917T121500
UID:EG404221C3-20260917T090000@VHSWETTERAU
SUMMARY:Deutsch als Zweitsprache A1/2 (Modul 2) Integrationskurs am Vormittag (EG404221C3) 
LOCATION:BV BFW G.-Büchner-Gym., R. K210, Außenstelle, Huizener Straße 60, 61118 Bad Vilbel
END:VEVENT
BEGIN:VEVENT
DTSTAMP:20260421T211513
DTSTART;TZID=Europe/Berlin:20260918T090000
DTEND;TZID=Europe/Berlin:20260918T121500
UID:EG404221C3-20260918T090000@VHSWETTERAU
SUMMARY:Deutsch als Zweitsprache A1/2 (Modul 2) Integrationskurs am Vormittag (EG404221C3) 
LOCATION:BV BFW G.-Büchner-Gym., R. K210, Außenstelle, Huizener Straße 60, 61118 Bad Vilbel
END:VEVENT
BEGIN:VEVENT
DTSTAMP:20260421T211513
DTSTART;TZID=Europe/Berlin:20260921T090000
DTEND;TZID=Europe/Berlin:20260921T121500
UID:EG404221C3-20260921T090000@VHSWETTERAU
SUMMARY:Deutsch als Zweitsprache A1/2 (Modul 2) Integrationskurs am Vormittag (EG404221C3) 
LOCATION:BV BFW G.-Büchner-Gym., R. K210, Außenstelle, Huizener Straße 60, 61118 Bad Vilbel
END:VEVENT
BEGIN:VEVENT
DTSTAMP:20260421T211513
DTSTART;TZID=Europe/Berlin:20260922T090000
DTEND;TZID=Europe/Berlin:20260922T121500
UID:EG404221C3-20260922T090000@VHSWETTERAU
SUMMARY:Deutsch als Zweitsprache A1/2 (Modul 2) Integrationskurs am Vormittag (EG404221C3) 
LOCATION:BV BFW G.-Büchner-Gym., R. K210, Außenstelle, Huizener Straße 60, 61118 Bad Vilbel
END:VEVENT
BEGIN:VEVENT
DTSTAMP:20260421T211513
DTSTART;TZID=Europe/Berlin:20260923T090000
DTEND;TZID=Europe/Berlin:20260923T121500
UID:EG404221C3-20260923T090000@VHSWETTERAU
SUMMARY:Deutsch als Zweitsprache A1/2 (Modul 2) Integrationskurs am Vormittag (EG404221C3) 
LOCATION:BV BFW G.-Büchner-Gym., R. K210, Außenstelle, Huizener Straße 60, 61118 Bad Vilbel
END:VEVENT
BEGIN:VEVENT
DTSTAMP:20260421T211513
DTSTART;TZID=Europe/Berlin:20260924T090000
DTEND;TZID=Europe/Berlin:20260924T121500
UID:EG404221C3-20260924T090000@VHSWETTERAU
SUMMARY:Deutsch als Zweitsprache A1/2 (Modul 2) Integrationskurs am Vormittag (EG404221C3) 
LOCATION:BV BFW G.-Büchner-Gym., R. K210, Außenstelle, Huizener Straße 60, 61118 Bad Vilbel
END:VEVENT
BEGIN:VEVENT
DTSTAMP:20260421T211513
DTSTART;TZID=Europe/Berlin:20260925T090000
DTEND;TZID=Europe/Berlin:20260925T121500
UID:EG404221C3-20260925T090000@VHSWETTERAU
SUMMARY:Deutsch als Zweitsprache A1/2 (Modul 2) Integrationskurs am Vormittag (EG404221C3) 
LOCATION:BV BFW G.-Büchner-Gym., R. K210, Außenstelle, Huizener Straße 60, 61118 Bad Vilbel
END:VEVENT
BEGIN:VEVENT
DTSTAMP:20260421T211513
DTSTART;TZID=Europe/Berlin:20260928T090000
DTEND;TZID=Europe/Berlin:20260928T121500
UID:EG404221C3-20260928T090000@VHSWETTERAU
SUMMARY:Deutsch als Zweitsprache A1/2 (Modul 2) Integrationskurs am Vormittag (EG404221C3) 
LOCATION:BV BFW G.-Büchner-Gym., R. K210, Außenstelle, Huizener Straße 60, 61118 Bad Vilbel
END:VEVENT
BEGIN:VEVENT
DTSTAMP:20260421T211513
DTSTART;TZID=Europe/Berlin:20260929T090000
DTEND;TZID=Europe/Berlin:20260929T121500
UID:EG404221C3-20260929T090000@VHSWETTERAU
SUMMARY:Deutsch als Zweitsprache A1/2 (Modul 2) Integrationskurs am Vormittag (EG404221C3) 
LOCATION:BV BFW G.-Büchner-Gym., R. K210, Außenstelle, Huizener Straße 60, 61118 Bad Vilbel
END:VEVENT
BEGIN:VEVENT
DTSTAMP:20260421T211513
DTSTART;TZID=Europe/Berlin:20260930T090000
DTEND;TZID=Europe/Berlin:20260930T121500
UID:EG404221C3-20260930T090000@VHSWETTERAU
SUMMARY:Deutsch als Zweitsprache A1/2 (Modul 2) Integrationskurs am Vormittag (EG404221C3) 
LOCATION:BV BFW G.-Büchner-Gym., R. K210, Außenstelle, Huizener Straße 60, 61118 Bad Vilbel
END:VEVENT
BEGIN:VEVENT
DTSTAMP:20260421T211513
DTSTART;TZID=Europe/Berlin:20261001T090000
DTEND;TZID=Europe/Berlin:20261001T121500
UID:EG404221C3-20261001T090000@VHSWETTERAU
SUMMARY:Deutsch als Zweitsprache A1/2 (Modul 2) Integrationskurs am Vormittag (EG404221C3) 
LOCATION:BV BFW G.-Büchner-Gym., R. K210, Außenstelle, Huizener Straße 60, 61118 Bad Vilbel
END:VEVENT
BEGIN:VEVENT
DTSTAMP:20260421T211513
DTSTART;TZID=Europe/Berlin:20261019T090000
DTEND;TZID=Europe/Berlin:20261019T121500
UID:EG404221C3-20261019T090000@VHSWETTERAU
SUMMARY:Deutsch als Zweitsprache A1/2 (Modul 2) Integrationskurs am Vormittag (EG404221C3) 
LOCATION:BV BFW G.-Büchner-Gym., R. K210, Außenstelle, Huizener Straße 60, 61118 Bad Vilbel
END:VEVENT
BEGIN:VEVENT
DTSTAMP:20260421T211513
DTSTART;TZID=Europe/Berlin:20261020T090000
DTEND;TZID=Europe/Berlin:20261020T121500
UID:EG404221C3-20261020T090000@VHSWETTERAU
SUMMARY:Deutsch als Zweitsprache A1/2 (Modul 2) Integrationskurs am Vormittag (EG404221C3) 
LOCATION:BV BFW G.-Büchner-Gym., R. K210, Außenstelle, Huizener Straße 60, 61118 Bad Vilbel
END:VEVENT
BEGIN:VEVENT
DTSTAMP:20260421T211513
DTSTART;TZID=Europe/Berlin:20261021T090000
DTEND;TZID=Europe/Berlin:20261021T121500
UID:EG404221C3-20261021T090000@VHSWETTERAU
SUMMARY:Deutsch als Zweitsprache A1/2 (Modul 2) Integrationskurs am Vormittag (EG404221C3) 
LOCATION:BV BFW G.-Büchner-Gym., R. K210, Außenstelle, Huizener Straße 60, 61118 Bad Vilbel
END:VEVENT
BEGIN:VEVENT
DTSTAMP:20260421T211513
DTSTART;TZID=Europe/Berlin:20261022T090000
DTEND;TZID=Europe/Berlin:20261022T121500
UID:EG404221C3-20261022T090000@VHSWETTERAU
SUMMARY:Deutsch als Zweitsprache A1/2 (Modul 2) Integrationskurs am Vormittag (EG404221C3) 
LOCATION:BV BFW G.-Büchner-Gym., R. K210, Außenstelle, Huizener Straße 60, 61118 Bad Vilbel
END:VEVENT
BEGIN:VEVENT
DTSTAMP:20260421T211513
DTSTART;TZID=Europe/Berlin:20261023T090000
DTEND;TZID=Europe/Berlin:20261023T121500
UID:EG404221C3-20261023T090000@VHSWETTERAU
SUMMARY:Deutsch als Zweitsprache A1/2 (Modul 2) Integrationskurs am Vormittag (EG404221C3) 
LOCATION:BV BFW G.-Büchner-Gym., R. K210, Außenstelle, Huizener Straße 60, 61118 Bad Vilbel
END:VEVENT
BEGIN:VEVENT
DTSTAMP:20260421T211513
DTSTART;TZID=Europe/Berlin:20261026T090000
DTEND;TZID=Europe/Berlin:20261026T121500
UID:EG404221C3-20261026T090000@VHSWETTERAU
SUMMARY:Deutsch als Zweitsprache A1/2 (Modul 2) Integrationskurs am Vormittag (EG404221C3) 
LOCATION:BV BFW G.-Büchner-Gym., R. K210, Außenstelle, Huizener Straße 60, 61118 Bad Vilbel
END:VEVENT
BEGIN:VEVENT
DTSTAMP:20260421T211513
DTSTART;TZID=Europe/Berlin:20261027T090000
DTEND;TZID=Europe/Berlin:20261027T121500
UID:EG404221C3-20261027T090000@VHSWETTERAU
SUMMARY:Deutsch als Zweitsprache A1/2 (Modul 2) Integrationskurs am Vormittag (EG404221C3) 
LOCATION:BV BFW G.-Büchner-Gym., R. K210, Außenstelle, Huizener Straße 60, 61118 Bad Vilbel
END:VEVENT
BEGIN:VEVENT
DTSTAMP:20260421T211513
DTSTART;TZID=Europe/Berlin:20261028T090000
DTEND;TZID=Europe/Berlin:20261028T121500
UID:EG404221C3-20261028T090000@VHSWETTERAU
SUMMARY:Deutsch als Zweitsprache A1/2 (Modul 2) Integrationskurs am Vormittag (EG404221C3) 
LOCATION:BV BFW G.-Büchner-Gym., R. K210, Außenstelle, Huizener Straße 60, 61118 Bad Vilbel
END:VEVENT
END:VCALENDAR