BEGIN:VCALENDAR
VERSION:2.0
PRODID:https://www.kufer.de/kuferweb / DE
METHOD:PUBLISH
CALSCALE:GREGORIAN
X-WR-TIMEZONE:Europe/Berlin
BEGIN:VTIMEZONE
TZID:Europe/Berlin
X-LIC-LOCATION:Europe/Berlin
BEGIN:DAYLIGHT
TZOFFSETFROM:+0100
TZOFFSETTO:+0200
TZNAME:CEST
DTSTART:19700329T020000
RRULE:FREQ=YEARLY;INTERVAL=1;BYDAY=-1SU;BYMONTH=3
END:DAYLIGHT
BEGIN:STANDARD
TZOFFSETFROM:+0200
TZOFFSETTO:+0100
TZNAME:CET
DTSTART:19701025T030000
RRULE:FREQ=YEARLY;INTERVAL=1;BYDAY=-1SU;BYMONTH=10
END:STANDARD
END:VTIMEZONE
BEGIN:VEVENT
DTSTAMP:20260421T223156
DTSTART;TZID=Europe/Berlin:20260917T090000
DTEND;TZID=Europe/Berlin:20260917T121500
UID:EG404221H2-20260917T090000@VHSWETTERAU
SUMMARY:Kurs für gering Literalisierte (GeLi) Basiskurs 2 (Modul 2) Integrationskurs am Vormittag (EG404221H2) 
LOCATION:FB Am Dachspfad 32A, R. 210, Am Dachspfad 32A, 61169 Friedberg
END:VEVENT
BEGIN:VEVENT
DTSTAMP:20260421T223156
DTSTART;TZID=Europe/Berlin:20260918T090000
DTEND;TZID=Europe/Berlin:20260918T121500
UID:EG404221H2-20260918T090000@VHSWETTERAU
SUMMARY:Kurs für gering Literalisierte (GeLi) Basiskurs 2 (Modul 2) Integrationskurs am Vormittag (EG404221H2) 
LOCATION:FB Am Dachspfad 32A, R. 210, Am Dachspfad 32A, 61169 Friedberg
END:VEVENT
BEGIN:VEVENT
DTSTAMP:20260421T223156
DTSTART;TZID=Europe/Berlin:20260921T090000
DTEND;TZID=Europe/Berlin:20260921T121500
UID:EG404221H2-20260921T090000@VHSWETTERAU
SUMMARY:Kurs für gering Literalisierte (GeLi) Basiskurs 2 (Modul 2) Integrationskurs am Vormittag (EG404221H2) 
LOCATION:FB Am Dachspfad 32A, R. 210, Am Dachspfad 32A, 61169 Friedberg
END:VEVENT
BEGIN:VEVENT
DTSTAMP:20260421T223156
DTSTART;TZID=Europe/Berlin:20260922T090000
DTEND;TZID=Europe/Berlin:20260922T121500
UID:EG404221H2-20260922T090000@VHSWETTERAU
SUMMARY:Kurs für gering Literalisierte (GeLi) Basiskurs 2 (Modul 2) Integrationskurs am Vormittag (EG404221H2) 
LOCATION:FB Am Dachspfad 32A, R. 210, Am Dachspfad 32A, 61169 Friedberg
END:VEVENT
BEGIN:VEVENT
DTSTAMP:20260421T223156
DTSTART;TZID=Europe/Berlin:20260923T090000
DTEND;TZID=Europe/Berlin:20260923T121500
UID:EG404221H2-20260923T090000@VHSWETTERAU
SUMMARY:Kurs für gering Literalisierte (GeLi) Basiskurs 2 (Modul 2) Integrationskurs am Vormittag (EG404221H2) 
LOCATION:FB Am Dachspfad 32A, R. 210, Am Dachspfad 32A, 61169 Friedberg
END:VEVENT
BEGIN:VEVENT
DTSTAMP:20260421T223156
DTSTART;TZID=Europe/Berlin:20260924T090000
DTEND;TZID=Europe/Berlin:20260924T121500
UID:EG404221H2-20260924T090000@VHSWETTERAU
SUMMARY:Kurs für gering Literalisierte (GeLi) Basiskurs 2 (Modul 2) Integrationskurs am Vormittag (EG404221H2) 
LOCATION:FB Am Dachspfad 32A, R. 210, Am Dachspfad 32A, 61169 Friedberg
END:VEVENT
BEGIN:VEVENT
DTSTAMP:20260421T223156
DTSTART;TZID=Europe/Berlin:20260925T090000
DTEND;TZID=Europe/Berlin:20260925T121500
UID:EG404221H2-20260925T090000@VHSWETTERAU
SUMMARY:Kurs für gering Literalisierte (GeLi) Basiskurs 2 (Modul 2) Integrationskurs am Vormittag (EG404221H2) 
LOCATION:FB Am Dachspfad 32A, R. 210, Am Dachspfad 32A, 61169 Friedberg
END:VEVENT
BEGIN:VEVENT
DTSTAMP:20260421T223156
DTSTART;TZID=Europe/Berlin:20260928T090000
DTEND;TZID=Europe/Berlin:20260928T121500
UID:EG404221H2-20260928T090000@VHSWETTERAU
SUMMARY:Kurs für gering Literalisierte (GeLi) Basiskurs 2 (Modul 2) Integrationskurs am Vormittag (EG404221H2) 
LOCATION:FB Am Dachspfad 32A, R. 210, Am Dachspfad 32A, 61169 Friedberg
END:VEVENT
BEGIN:VEVENT
DTSTAMP:20260421T223156
DTSTART;TZID=Europe/Berlin:20260929T090000
DTEND;TZID=Europe/Berlin:20260929T121500
UID:EG404221H2-20260929T090000@VHSWETTERAU
SUMMARY:Kurs für gering Literalisierte (GeLi) Basiskurs 2 (Modul 2) Integrationskurs am Vormittag (EG404221H2) 
LOCATION:FB Am Dachspfad 32A, R. 210, Am Dachspfad 32A, 61169 Friedberg
END:VEVENT
BEGIN:VEVENT
DTSTAMP:20260421T223156
DTSTART;TZID=Europe/Berlin:20260930T090000
DTEND;TZID=Europe/Berlin:20260930T121500
UID:EG404221H2-20260930T090000@VHSWETTERAU
SUMMARY:Kurs für gering Literalisierte (GeLi) Basiskurs 2 (Modul 2) Integrationskurs am Vormittag (EG404221H2) 
LOCATION:FB Am Dachspfad 32A, R. 210, Am Dachspfad 32A, 61169 Friedberg
END:VEVENT
BEGIN:VEVENT
DTSTAMP:20260421T223156
DTSTART;TZID=Europe/Berlin:20261001T090000
DTEND;TZID=Europe/Berlin:20261001T121500
UID:EG404221H2-20261001T090000@VHSWETTERAU
SUMMARY:Kurs für gering Literalisierte (GeLi) Basiskurs 2 (Modul 2) Integrationskurs am Vormittag (EG404221H2) 
LOCATION:FB Am Dachspfad 32A, R. 210, Am Dachspfad 32A, 61169 Friedberg
END:VEVENT
BEGIN:VEVENT
DTSTAMP:20260421T223156
DTSTART;TZID=Europe/Berlin:20261019T090000
DTEND;TZID=Europe/Berlin:20261019T121500
UID:EG404221H2-20261019T090000@VHSWETTERAU
SUMMARY:Kurs für gering Literalisierte (GeLi) Basiskurs 2 (Modul 2) Integrationskurs am Vormittag (EG404221H2) 
LOCATION:FB Am Dachspfad 32A, R. 210, Am Dachspfad 32A, 61169 Friedberg
END:VEVENT
BEGIN:VEVENT
DTSTAMP:20260421T223156
DTSTART;TZID=Europe/Berlin:20261020T090000
DTEND;TZID=Europe/Berlin:20261020T121500
UID:EG404221H2-20261020T090000@VHSWETTERAU
SUMMARY:Kurs für gering Literalisierte (GeLi) Basiskurs 2 (Modul 2) Integrationskurs am Vormittag (EG404221H2) 
LOCATION:FB Am Dachspfad 32A, R. 210, Am Dachspfad 32A, 61169 Friedberg
END:VEVENT
BEGIN:VEVENT
DTSTAMP:20260421T223156
DTSTART;TZID=Europe/Berlin:20261021T090000
DTEND;TZID=Europe/Berlin:20261021T121500
UID:EG404221H2-20261021T090000@VHSWETTERAU
SUMMARY:Kurs für gering Literalisierte (GeLi) Basiskurs 2 (Modul 2) Integrationskurs am Vormittag (EG404221H2) 
LOCATION:FB Am Dachspfad 32A, R. 210, Am Dachspfad 32A, 61169 Friedberg
END:VEVENT
BEGIN:VEVENT
DTSTAMP:20260421T223156
DTSTART;TZID=Europe/Berlin:20261022T090000
DTEND;TZID=Europe/Berlin:20261022T121500
UID:EG404221H2-20261022T090000@VHSWETTERAU
SUMMARY:Kurs für gering Literalisierte (GeLi) Basiskurs 2 (Modul 2) Integrationskurs am Vormittag (EG404221H2) 
LOCATION:FB Am Dachspfad 32A, R. 210, Am Dachspfad 32A, 61169 Friedberg
END:VEVENT
BEGIN:VEVENT
DTSTAMP:20260421T223156
DTSTART;TZID=Europe/Berlin:20261023T090000
DTEND;TZID=Europe/Berlin:20261023T121500
UID:EG404221H2-20261023T090000@VHSWETTERAU
SUMMARY:Kurs für gering Literalisierte (GeLi) Basiskurs 2 (Modul 2) Integrationskurs am Vormittag (EG404221H2) 
LOCATION:FB Am Dachspfad 32A, R. 210, Am Dachspfad 32A, 61169 Friedberg
END:VEVENT
BEGIN:VEVENT
DTSTAMP:20260421T223156
DTSTART;TZID=Europe/Berlin:20261026T090000
DTEND;TZID=Europe/Berlin:20261026T121500
UID:EG404221H2-20261026T090000@VHSWETTERAU
SUMMARY:Kurs für gering Literalisierte (GeLi) Basiskurs 2 (Modul 2) Integrationskurs am Vormittag (EG404221H2) 
LOCATION:FB Am Dachspfad 32A, R. 210, Am Dachspfad 32A, 61169 Friedberg
END:VEVENT
BEGIN:VEVENT
DTSTAMP:20260421T223156
DTSTART;TZID=Europe/Berlin:20261027T090000
DTEND;TZID=Europe/Berlin:20261027T121500
UID:EG404221H2-20261027T090000@VHSWETTERAU
SUMMARY:Kurs für gering Literalisierte (GeLi) Basiskurs 2 (Modul 2) Integrationskurs am Vormittag (EG404221H2) 
LOCATION:FB Am Dachspfad 32A, R. 210, Am Dachspfad 32A, 61169 Friedberg
END:VEVENT
BEGIN:VEVENT
DTSTAMP:20260421T223156
DTSTART;TZID=Europe/Berlin:20261028T090000
DTEND;TZID=Europe/Berlin:20261028T121500
UID:EG404221H2-20261028T090000@VHSWETTERAU
SUMMARY:Kurs für gering Literalisierte (GeLi) Basiskurs 2 (Modul 2) Integrationskurs am Vormittag (EG404221H2) 
LOCATION:FB Am Dachspfad 32A, R. 210, Am Dachspfad 32A, 61169 Friedberg
END:VEVENT
BEGIN:VEVENT
DTSTAMP:20260421T223156
DTSTART;TZID=Europe/Berlin:20261029T090000
DTEND;TZID=Europe/Berlin:20261029T121500
UID:EG404221H2-20261029T090000@VHSWETTERAU
SUMMARY:Kurs für gering Literalisierte (GeLi) Basiskurs 2 (Modul 2) Integrationskurs am Vormittag (EG404221H2) 
LOCATION:FB Am Dachspfad 32A, R. 210, Am Dachspfad 32A, 61169 Friedberg
END:VEVENT
BEGIN:VEVENT
DTSTAMP:20260421T223156
DTSTART;TZID=Europe/Berlin:20261030T090000
DTEND;TZID=Europe/Berlin:20261030T121500
UID:EG404221H2-20261030T090000@VHSWETTERAU
SUMMARY:Kurs für gering Literalisierte (GeLi) Basiskurs 2 (Modul 2) Integrationskurs am Vormittag (EG404221H2) 
LOCATION:FB Am Dachspfad 32A, R. 210, Am Dachspfad 32A, 61169 Friedberg
END:VEVENT
BEGIN:VEVENT
DTSTAMP:20260421T223156
DTSTART;TZID=Europe/Berlin:20261102T090000
DTEND;TZID=Europe/Berlin:20261102T121500
UID:EG404221H2-20261102T090000@VHSWETTERAU
SUMMARY:Kurs für gering Literalisierte (GeLi) Basiskurs 2 (Modul 2) Integrationskurs am Vormittag (EG404221H2) 
LOCATION:FB Am Dachspfad 32A, R. 210, Am Dachspfad 32A, 61169 Friedberg
END:VEVENT
BEGIN:VEVENT
DTSTAMP:20260421T223156
DTSTART;TZID=Europe/Berlin:20261103T090000
DTEND;TZID=Europe/Berlin:20261103T121500
UID:EG404221H2-20261103T090000@VHSWETTERAU
SUMMARY:Kurs für gering Literalisierte (GeLi) Basiskurs 2 (Modul 2) Integrationskurs am Vormittag (EG404221H2) 
LOCATION:FB Am Dachspfad 32A, R. 210, Am Dachspfad 32A, 61169 Friedberg
END:VEVENT
BEGIN:VEVENT
DTSTAMP:20260421T223156
DTSTART;TZID=Europe/Berlin:20261104T090000
DTEND;TZID=Europe/Berlin:20261104T121500
UID:EG404221H2-20261104T090000@VHSWETTERAU
SUMMARY:Kurs für gering Literalisierte (GeLi) Basiskurs 2 (Modul 2) Integrationskurs am Vormittag (EG404221H2) 
LOCATION:FB Am Dachspfad 32A, R. 210, Am Dachspfad 32A, 61169 Friedberg
END:VEVENT
BEGIN:VEVENT
DTSTAMP:20260421T223156
DTSTART;TZID=Europe/Berlin:20261105T090000
DTEND;TZID=Europe/Berlin:20261105T121500
UID:EG404221H2-20261105T090000@VHSWETTERAU
SUMMARY:Kurs für gering Literalisierte (GeLi) Basiskurs 2 (Modul 2) Integrationskurs am Vormittag (EG404221H2) 
LOCATION:FB Am Dachspfad 32A, R. 210, Am Dachspfad 32A, 61169 Friedberg
END:VEVENT
END:VCALENDAR