BEGIN:VCALENDAR
VERSION:2.0
PRODID:https://www.kufer.de/kuferweb / DE
METHOD:PUBLISH
CALSCALE:GREGORIAN
X-WR-TIMEZONE:Europe/Berlin
BEGIN:VTIMEZONE
TZID:Europe/Berlin
X-LIC-LOCATION:Europe/Berlin
BEGIN:DAYLIGHT
TZOFFSETFROM:+0100
TZOFFSETTO:+0200
TZNAME:CEST
DTSTART:19700329T020000
RRULE:FREQ=YEARLY;INTERVAL=1;BYDAY=-1SU;BYMONTH=3
END:DAYLIGHT
BEGIN:STANDARD
TZOFFSETFROM:+0200
TZOFFSETTO:+0100
TZNAME:CET
DTSTART:19701025T030000
RRULE:FREQ=YEARLY;INTERVAL=1;BYDAY=-1SU;BYMONTH=10
END:STANDARD
END:VTIMEZONE
BEGIN:VEVENT
DTSTAMP:20260421T223318
DTSTART;TZID=Europe/Berlin:20261021T090000
DTEND;TZID=Europe/Berlin:20261021T130500
UID:EG404221H8-20261021T090000@VHSWETTERAU
SUMMARY:Deutsch als Zweitsprache A1/2 (Modul 2) Integrationskurs am Vormittag (EG404221H8) 
LOCATION:Fb vhs B210 (JPR), Friedensstr. 18, 61169 Friedberg
END:VEVENT
BEGIN:VEVENT
DTSTAMP:20260421T223318
DTSTART;TZID=Europe/Berlin:20261022T090000
DTEND;TZID=Europe/Berlin:20261022T130500
UID:EG404221H8-20261022T090000@VHSWETTERAU
SUMMARY:Deutsch als Zweitsprache A1/2 (Modul 2) Integrationskurs am Vormittag (EG404221H8) 
LOCATION:Fb vhs B210 (JPR), Friedensstr. 18, 61169 Friedberg
END:VEVENT
BEGIN:VEVENT
DTSTAMP:20260421T223318
DTSTART;TZID=Europe/Berlin:20261023T090000
DTEND;TZID=Europe/Berlin:20261023T130500
UID:EG404221H8-20261023T090000@VHSWETTERAU
SUMMARY:Deutsch als Zweitsprache A1/2 (Modul 2) Integrationskurs am Vormittag (EG404221H8) 
LOCATION:Fb vhs B210 (JPR), Friedensstr. 18, 61169 Friedberg
END:VEVENT
BEGIN:VEVENT
DTSTAMP:20260421T223318
DTSTART;TZID=Europe/Berlin:20261026T090000
DTEND;TZID=Europe/Berlin:20261026T130500
UID:EG404221H8-20261026T090000@VHSWETTERAU
SUMMARY:Deutsch als Zweitsprache A1/2 (Modul 2) Integrationskurs am Vormittag (EG404221H8) 
LOCATION:Fb vhs B210 (JPR), Friedensstr. 18, 61169 Friedberg
END:VEVENT
BEGIN:VEVENT
DTSTAMP:20260421T223318
DTSTART;TZID=Europe/Berlin:20261027T090000
DTEND;TZID=Europe/Berlin:20261027T130500
UID:EG404221H8-20261027T090000@VHSWETTERAU
SUMMARY:Deutsch als Zweitsprache A1/2 (Modul 2) Integrationskurs am Vormittag (EG404221H8) 
LOCATION:Fb vhs B210 (JPR), Friedensstr. 18, 61169 Friedberg
END:VEVENT
BEGIN:VEVENT
DTSTAMP:20260421T223318
DTSTART;TZID=Europe/Berlin:20261028T090000
DTEND;TZID=Europe/Berlin:20261028T130500
UID:EG404221H8-20261028T090000@VHSWETTERAU
SUMMARY:Deutsch als Zweitsprache A1/2 (Modul 2) Integrationskurs am Vormittag (EG404221H8) 
LOCATION:Fb vhs B210 (JPR), Friedensstr. 18, 61169 Friedberg
END:VEVENT
BEGIN:VEVENT
DTSTAMP:20260421T223318
DTSTART;TZID=Europe/Berlin:20261029T090000
DTEND;TZID=Europe/Berlin:20261029T130500
UID:EG404221H8-20261029T090000@VHSWETTERAU
SUMMARY:Deutsch als Zweitsprache A1/2 (Modul 2) Integrationskurs am Vormittag (EG404221H8) 
LOCATION:Fb vhs B210 (JPR), Friedensstr. 18, 61169 Friedberg
END:VEVENT
BEGIN:VEVENT
DTSTAMP:20260421T223318
DTSTART;TZID=Europe/Berlin:20261030T090000
DTEND;TZID=Europe/Berlin:20261030T130500
UID:EG404221H8-20261030T090000@VHSWETTERAU
SUMMARY:Deutsch als Zweitsprache A1/2 (Modul 2) Integrationskurs am Vormittag (EG404221H8) 
LOCATION:Fb vhs B210 (JPR), Friedensstr. 18, 61169 Friedberg
END:VEVENT
BEGIN:VEVENT
DTSTAMP:20260421T223318
DTSTART;TZID=Europe/Berlin:20261102T090000
DTEND;TZID=Europe/Berlin:20261102T130500
UID:EG404221H8-20261102T090000@VHSWETTERAU
SUMMARY:Deutsch als Zweitsprache A1/2 (Modul 2) Integrationskurs am Vormittag (EG404221H8) 
LOCATION:Fb vhs B210 (JPR), Friedensstr. 18, 61169 Friedberg
END:VEVENT
BEGIN:VEVENT
DTSTAMP:20260421T223318
DTSTART;TZID=Europe/Berlin:20261103T090000
DTEND;TZID=Europe/Berlin:20261103T130500
UID:EG404221H8-20261103T090000@VHSWETTERAU
SUMMARY:Deutsch als Zweitsprache A1/2 (Modul 2) Integrationskurs am Vormittag (EG404221H8) 
LOCATION:Fb vhs B210 (JPR), Friedensstr. 18, 61169 Friedberg
END:VEVENT
BEGIN:VEVENT
DTSTAMP:20260421T223318
DTSTART;TZID=Europe/Berlin:20261104T090000
DTEND;TZID=Europe/Berlin:20261104T130500
UID:EG404221H8-20261104T090000@VHSWETTERAU
SUMMARY:Deutsch als Zweitsprache A1/2 (Modul 2) Integrationskurs am Vormittag (EG404221H8) 
LOCATION:Fb vhs B210 (JPR), Friedensstr. 18, 61169 Friedberg
END:VEVENT
BEGIN:VEVENT
DTSTAMP:20260421T223318
DTSTART;TZID=Europe/Berlin:20261105T090000
DTEND;TZID=Europe/Berlin:20261105T130500
UID:EG404221H8-20261105T090000@VHSWETTERAU
SUMMARY:Deutsch als Zweitsprache A1/2 (Modul 2) Integrationskurs am Vormittag (EG404221H8) 
LOCATION:Fb vhs B210 (JPR), Friedensstr. 18, 61169 Friedberg
END:VEVENT
BEGIN:VEVENT
DTSTAMP:20260421T223318
DTSTART;TZID=Europe/Berlin:20261106T090000
DTEND;TZID=Europe/Berlin:20261106T130500
UID:EG404221H8-20261106T090000@VHSWETTERAU
SUMMARY:Deutsch als Zweitsprache A1/2 (Modul 2) Integrationskurs am Vormittag (EG404221H8) 
LOCATION:Fb vhs B210 (JPR), Friedensstr. 18, 61169 Friedberg
END:VEVENT
BEGIN:VEVENT
DTSTAMP:20260421T223318
DTSTART;TZID=Europe/Berlin:20261109T090000
DTEND;TZID=Europe/Berlin:20261109T130500
UID:EG404221H8-20261109T090000@VHSWETTERAU
SUMMARY:Deutsch als Zweitsprache A1/2 (Modul 2) Integrationskurs am Vormittag (EG404221H8) 
LOCATION:Fb vhs B210 (JPR), Friedensstr. 18, 61169 Friedberg
END:VEVENT
BEGIN:VEVENT
DTSTAMP:20260421T223318
DTSTART;TZID=Europe/Berlin:20261110T090000
DTEND;TZID=Europe/Berlin:20261110T130500
UID:EG404221H8-20261110T090000@VHSWETTERAU
SUMMARY:Deutsch als Zweitsprache A1/2 (Modul 2) Integrationskurs am Vormittag (EG404221H8) 
LOCATION:Fb vhs B210 (JPR), Friedensstr. 18, 61169 Friedberg
END:VEVENT
BEGIN:VEVENT
DTSTAMP:20260421T223318
DTSTART;TZID=Europe/Berlin:20261111T090000
DTEND;TZID=Europe/Berlin:20261111T130500
UID:EG404221H8-20261111T090000@VHSWETTERAU
SUMMARY:Deutsch als Zweitsprache A1/2 (Modul 2) Integrationskurs am Vormittag (EG404221H8) 
LOCATION:Fb vhs B210 (JPR), Friedensstr. 18, 61169 Friedberg
END:VEVENT
BEGIN:VEVENT
DTSTAMP:20260421T223318
DTSTART;TZID=Europe/Berlin:20261112T090000
DTEND;TZID=Europe/Berlin:20261112T130500
UID:EG404221H8-20261112T090000@VHSWETTERAU
SUMMARY:Deutsch als Zweitsprache A1/2 (Modul 2) Integrationskurs am Vormittag (EG404221H8) 
LOCATION:Fb vhs B210 (JPR), Friedensstr. 18, 61169 Friedberg
END:VEVENT
BEGIN:VEVENT
DTSTAMP:20260421T223318
DTSTART;TZID=Europe/Berlin:20261113T090000
DTEND;TZID=Europe/Berlin:20261113T130500
UID:EG404221H8-20261113T090000@VHSWETTERAU
SUMMARY:Deutsch als Zweitsprache A1/2 (Modul 2) Integrationskurs am Vormittag (EG404221H8) 
LOCATION:Fb vhs B210 (JPR), Friedensstr. 18, 61169 Friedberg
END:VEVENT
BEGIN:VEVENT
DTSTAMP:20260421T223318
DTSTART;TZID=Europe/Berlin:20261116T090000
DTEND;TZID=Europe/Berlin:20261116T130500
UID:EG404221H8-20261116T090000@VHSWETTERAU
SUMMARY:Deutsch als Zweitsprache A1/2 (Modul 2) Integrationskurs am Vormittag (EG404221H8) 
LOCATION:Fb vhs B210 (JPR), Friedensstr. 18, 61169 Friedberg
END:VEVENT
BEGIN:VEVENT
DTSTAMP:20260421T223318
DTSTART;TZID=Europe/Berlin:20261117T090000
DTEND;TZID=Europe/Berlin:20261117T130500
UID:EG404221H8-20261117T090000@VHSWETTERAU
SUMMARY:Deutsch als Zweitsprache A1/2 (Modul 2) Integrationskurs am Vormittag (EG404221H8) 
LOCATION:Fb vhs B210 (JPR), Friedensstr. 18, 61169 Friedberg
END:VEVENT
END:VCALENDAR