BEGIN:VCALENDAR
VERSION:2.0
PRODID:https://www.kufer.de/kuferweb / DE
METHOD:PUBLISH
CALSCALE:GREGORIAN
X-WR-TIMEZONE:Europe/Berlin
BEGIN:VTIMEZONE
TZID:Europe/Berlin
X-LIC-LOCATION:Europe/Berlin
BEGIN:DAYLIGHT
TZOFFSETFROM:+0100
TZOFFSETTO:+0200
TZNAME:CEST
DTSTART:19700329T020000
RRULE:FREQ=YEARLY;INTERVAL=1;BYDAY=-1SU;BYMONTH=3
END:DAYLIGHT
BEGIN:STANDARD
TZOFFSETFROM:+0200
TZOFFSETTO:+0100
TZNAME:CET
DTSTART:19701025T030000
RRULE:FREQ=YEARLY;INTERVAL=1;BYDAY=-1SU;BYMONTH=10
END:STANDARD
END:VTIMEZONE
BEGIN:VEVENT
DTSTAMP:20260421T210012
DTSTART;TZID=Europe/Berlin:20260810T134500
DTEND;TZID=Europe/Berlin:20260810T170000
UID:EG404222H2-20260810T134500@VHSWETTERAU
SUMMARY:Deutsch als Zweitsprache A1/2 (Modul 2) Integrationskurs am Nachmittag (EG404222H2) 
LOCATION:FB Am Dachspfad 32A, R. 201, Am Dachspfad 32A, 61169 Friedberg
END:VEVENT
BEGIN:VEVENT
DTSTAMP:20260421T210012
DTSTART;TZID=Europe/Berlin:20260811T134500
DTEND;TZID=Europe/Berlin:20260811T170000
UID:EG404222H2-20260811T134500@VHSWETTERAU
SUMMARY:Deutsch als Zweitsprache A1/2 (Modul 2) Integrationskurs am Nachmittag (EG404222H2) 
LOCATION:FB Am Dachspfad 32A, R. 201, Am Dachspfad 32A, 61169 Friedberg
END:VEVENT
BEGIN:VEVENT
DTSTAMP:20260421T210012
DTSTART;TZID=Europe/Berlin:20260812T134500
DTEND;TZID=Europe/Berlin:20260812T170000
UID:EG404222H2-20260812T134500@VHSWETTERAU
SUMMARY:Deutsch als Zweitsprache A1/2 (Modul 2) Integrationskurs am Nachmittag (EG404222H2) 
LOCATION:FB Am Dachspfad 32A, R. 201, Am Dachspfad 32A, 61169 Friedberg
END:VEVENT
BEGIN:VEVENT
DTSTAMP:20260421T210012
DTSTART;TZID=Europe/Berlin:20260813T134500
DTEND;TZID=Europe/Berlin:20260813T170000
UID:EG404222H2-20260813T134500@VHSWETTERAU
SUMMARY:Deutsch als Zweitsprache A1/2 (Modul 2) Integrationskurs am Nachmittag (EG404222H2) 
LOCATION:FB Am Dachspfad 32A, R. 201, Am Dachspfad 32A, 61169 Friedberg
END:VEVENT
BEGIN:VEVENT
DTSTAMP:20260421T210012
DTSTART;TZID=Europe/Berlin:20260814T134500
DTEND;TZID=Europe/Berlin:20260814T170000
UID:EG404222H2-20260814T134500@VHSWETTERAU
SUMMARY:Deutsch als Zweitsprache A1/2 (Modul 2) Integrationskurs am Nachmittag (EG404222H2) 
LOCATION:FB Am Dachspfad 32A, R. 201, Am Dachspfad 32A, 61169 Friedberg
END:VEVENT
BEGIN:VEVENT
DTSTAMP:20260421T210012
DTSTART;TZID=Europe/Berlin:20260817T134500
DTEND;TZID=Europe/Berlin:20260817T170000
UID:EG404222H2-20260817T134500@VHSWETTERAU
SUMMARY:Deutsch als Zweitsprache A1/2 (Modul 2) Integrationskurs am Nachmittag (EG404222H2) 
LOCATION:FB Am Dachspfad 32A, R. 201, Am Dachspfad 32A, 61169 Friedberg
END:VEVENT
BEGIN:VEVENT
DTSTAMP:20260421T210012
DTSTART;TZID=Europe/Berlin:20260818T134500
DTEND;TZID=Europe/Berlin:20260818T170000
UID:EG404222H2-20260818T134500@VHSWETTERAU
SUMMARY:Deutsch als Zweitsprache A1/2 (Modul 2) Integrationskurs am Nachmittag (EG404222H2) 
LOCATION:FB Am Dachspfad 32A, R. 201, Am Dachspfad 32A, 61169 Friedberg
END:VEVENT
BEGIN:VEVENT
DTSTAMP:20260421T210012
DTSTART;TZID=Europe/Berlin:20260819T134500
DTEND;TZID=Europe/Berlin:20260819T170000
UID:EG404222H2-20260819T134500@VHSWETTERAU
SUMMARY:Deutsch als Zweitsprache A1/2 (Modul 2) Integrationskurs am Nachmittag (EG404222H2) 
LOCATION:FB Am Dachspfad 32A, R. 201, Am Dachspfad 32A, 61169 Friedberg
END:VEVENT
BEGIN:VEVENT
DTSTAMP:20260421T210012
DTSTART;TZID=Europe/Berlin:20260820T134500
DTEND;TZID=Europe/Berlin:20260820T170000
UID:EG404222H2-20260820T134500@VHSWETTERAU
SUMMARY:Deutsch als Zweitsprache A1/2 (Modul 2) Integrationskurs am Nachmittag (EG404222H2) 
LOCATION:FB Am Dachspfad 32A, R. 201, Am Dachspfad 32A, 61169 Friedberg
END:VEVENT
BEGIN:VEVENT
DTSTAMP:20260421T210012
DTSTART;TZID=Europe/Berlin:20260821T134500
DTEND;TZID=Europe/Berlin:20260821T170000
UID:EG404222H2-20260821T134500@VHSWETTERAU
SUMMARY:Deutsch als Zweitsprache A1/2 (Modul 2) Integrationskurs am Nachmittag (EG404222H2) 
LOCATION:FB Am Dachspfad 32A, R. 201, Am Dachspfad 32A, 61169 Friedberg
END:VEVENT
BEGIN:VEVENT
DTSTAMP:20260421T210012
DTSTART;TZID=Europe/Berlin:20260824T134500
DTEND;TZID=Europe/Berlin:20260824T170000
UID:EG404222H2-20260824T134500@VHSWETTERAU
SUMMARY:Deutsch als Zweitsprache A1/2 (Modul 2) Integrationskurs am Nachmittag (EG404222H2) 
LOCATION:FB Am Dachspfad 32A, R. 201, Am Dachspfad 32A, 61169 Friedberg
END:VEVENT
BEGIN:VEVENT
DTSTAMP:20260421T210012
DTSTART;TZID=Europe/Berlin:20260825T134500
DTEND;TZID=Europe/Berlin:20260825T170000
UID:EG404222H2-20260825T134500@VHSWETTERAU
SUMMARY:Deutsch als Zweitsprache A1/2 (Modul 2) Integrationskurs am Nachmittag (EG404222H2) 
LOCATION:FB Am Dachspfad 32A, R. 201, Am Dachspfad 32A, 61169 Friedberg
END:VEVENT
BEGIN:VEVENT
DTSTAMP:20260421T210012
DTSTART;TZID=Europe/Berlin:20260826T134500
DTEND;TZID=Europe/Berlin:20260826T170000
UID:EG404222H2-20260826T134500@VHSWETTERAU
SUMMARY:Deutsch als Zweitsprache A1/2 (Modul 2) Integrationskurs am Nachmittag (EG404222H2) 
LOCATION:FB Am Dachspfad 32A, R. 201, Am Dachspfad 32A, 61169 Friedberg
END:VEVENT
BEGIN:VEVENT
DTSTAMP:20260421T210012
DTSTART;TZID=Europe/Berlin:20260827T134500
DTEND;TZID=Europe/Berlin:20260827T170000
UID:EG404222H2-20260827T134500@VHSWETTERAU
SUMMARY:Deutsch als Zweitsprache A1/2 (Modul 2) Integrationskurs am Nachmittag (EG404222H2) 
LOCATION:FB Am Dachspfad 32A, R. 201, Am Dachspfad 32A, 61169 Friedberg
END:VEVENT
BEGIN:VEVENT
DTSTAMP:20260421T210012
DTSTART;TZID=Europe/Berlin:20260828T134500
DTEND;TZID=Europe/Berlin:20260828T170000
UID:EG404222H2-20260828T134500@VHSWETTERAU
SUMMARY:Deutsch als Zweitsprache A1/2 (Modul 2) Integrationskurs am Nachmittag (EG404222H2) 
LOCATION:FB Am Dachspfad 32A, R. 201, Am Dachspfad 32A, 61169 Friedberg
END:VEVENT
BEGIN:VEVENT
DTSTAMP:20260421T210012
DTSTART;TZID=Europe/Berlin:20260831T134500
DTEND;TZID=Europe/Berlin:20260831T170000
UID:EG404222H2-20260831T134500@VHSWETTERAU
SUMMARY:Deutsch als Zweitsprache A1/2 (Modul 2) Integrationskurs am Nachmittag (EG404222H2) 
LOCATION:FB Am Dachspfad 32A, R. 201, Am Dachspfad 32A, 61169 Friedberg
END:VEVENT
BEGIN:VEVENT
DTSTAMP:20260421T210012
DTSTART;TZID=Europe/Berlin:20260901T134500
DTEND;TZID=Europe/Berlin:20260901T170000
UID:EG404222H2-20260901T134500@VHSWETTERAU
SUMMARY:Deutsch als Zweitsprache A1/2 (Modul 2) Integrationskurs am Nachmittag (EG404222H2) 
LOCATION:FB Am Dachspfad 32A, R. 201, Am Dachspfad 32A, 61169 Friedberg
END:VEVENT
BEGIN:VEVENT
DTSTAMP:20260421T210012
DTSTART;TZID=Europe/Berlin:20260902T134500
DTEND;TZID=Europe/Berlin:20260902T170000
UID:EG404222H2-20260902T134500@VHSWETTERAU
SUMMARY:Deutsch als Zweitsprache A1/2 (Modul 2) Integrationskurs am Nachmittag (EG404222H2) 
LOCATION:FB Am Dachspfad 32A, R. 201, Am Dachspfad 32A, 61169 Friedberg
END:VEVENT
BEGIN:VEVENT
DTSTAMP:20260421T210012
DTSTART;TZID=Europe/Berlin:20260903T134500
DTEND;TZID=Europe/Berlin:20260903T170000
UID:EG404222H2-20260903T134500@VHSWETTERAU
SUMMARY:Deutsch als Zweitsprache A1/2 (Modul 2) Integrationskurs am Nachmittag (EG404222H2) 
LOCATION:FB Am Dachspfad 32A, R. 201, Am Dachspfad 32A, 61169 Friedberg
END:VEVENT
BEGIN:VEVENT
DTSTAMP:20260421T210012
DTSTART;TZID=Europe/Berlin:20260904T134500
DTEND;TZID=Europe/Berlin:20260904T170000
UID:EG404222H2-20260904T134500@VHSWETTERAU
SUMMARY:Deutsch als Zweitsprache A1/2 (Modul 2) Integrationskurs am Nachmittag (EG404222H2) 
LOCATION:FB Am Dachspfad 32A, R. 201, Am Dachspfad 32A, 61169 Friedberg
END:VEVENT
BEGIN:VEVENT
DTSTAMP:20260421T210012
DTSTART;TZID=Europe/Berlin:20260907T134500
DTEND;TZID=Europe/Berlin:20260907T170000
UID:EG404222H2-20260907T134500@VHSWETTERAU
SUMMARY:Deutsch als Zweitsprache A1/2 (Modul 2) Integrationskurs am Nachmittag (EG404222H2) 
LOCATION:FB Am Dachspfad 32A, R. 201, Am Dachspfad 32A, 61169 Friedberg
END:VEVENT
BEGIN:VEVENT
DTSTAMP:20260421T210012
DTSTART;TZID=Europe/Berlin:20260908T134500
DTEND;TZID=Europe/Berlin:20260908T170000
UID:EG404222H2-20260908T134500@VHSWETTERAU
SUMMARY:Deutsch als Zweitsprache A1/2 (Modul 2) Integrationskurs am Nachmittag (EG404222H2) 
LOCATION:FB Am Dachspfad 32A, R. 201, Am Dachspfad 32A, 61169 Friedberg
END:VEVENT
BEGIN:VEVENT
DTSTAMP:20260421T210012
DTSTART;TZID=Europe/Berlin:20260909T134500
DTEND;TZID=Europe/Berlin:20260909T170000
UID:EG404222H2-20260909T134500@VHSWETTERAU
SUMMARY:Deutsch als Zweitsprache A1/2 (Modul 2) Integrationskurs am Nachmittag (EG404222H2) 
LOCATION:FB Am Dachspfad 32A, R. 201, Am Dachspfad 32A, 61169 Friedberg
END:VEVENT
BEGIN:VEVENT
DTSTAMP:20260421T210012
DTSTART;TZID=Europe/Berlin:20260910T134500
DTEND;TZID=Europe/Berlin:20260910T170000
UID:EG404222H2-20260910T134500@VHSWETTERAU
SUMMARY:Deutsch als Zweitsprache A1/2 (Modul 2) Integrationskurs am Nachmittag (EG404222H2) 
LOCATION:FB Am Dachspfad 32A, R. 201, Am Dachspfad 32A, 61169 Friedberg
END:VEVENT
BEGIN:VEVENT
DTSTAMP:20260421T210012
DTSTART;TZID=Europe/Berlin:20260911T134500
DTEND;TZID=Europe/Berlin:20260911T170000
UID:EG404222H2-20260911T134500@VHSWETTERAU
SUMMARY:Deutsch als Zweitsprache A1/2 (Modul 2) Integrationskurs am Nachmittag (EG404222H2) 
LOCATION:FB Am Dachspfad 32A, R. 201, Am Dachspfad 32A, 61169 Friedberg
END:VEVENT
END:VCALENDAR