BEGIN:VCALENDAR
VERSION:2.0
PRODID:https://www.kufer.de/kuferweb / DE
METHOD:PUBLISH
CALSCALE:GREGORIAN
X-WR-TIMEZONE:Europe/Berlin
BEGIN:VTIMEZONE
TZID:Europe/Berlin
X-LIC-LOCATION:Europe/Berlin
BEGIN:DAYLIGHT
TZOFFSETFROM:+0100
TZOFFSETTO:+0200
TZNAME:CEST
DTSTART:19700329T020000
RRULE:FREQ=YEARLY;INTERVAL=1;BYDAY=-1SU;BYMONTH=3
END:DAYLIGHT
BEGIN:STANDARD
TZOFFSETFROM:+0200
TZOFFSETTO:+0100
TZNAME:CET
DTSTART:19701025T030000
RRULE:FREQ=YEARLY;INTERVAL=1;BYDAY=-1SU;BYMONTH=10
END:STANDARD
END:VTIMEZONE
BEGIN:VEVENT
DTSTAMP:20260421T204850
DTSTART;TZID=Europe/Berlin:20260817T180000
DTEND;TZID=Europe/Berlin:20260817T211500
UID:EG404223C2-20260817T180000@VHSWETTERAU
SUMMARY:Deutsch als Zweitsprache A1/2 (Modul 2) Integrationskurs am Abend (EG404223C2) 
LOCATION:BV BFW G.-Büchner-Gym., R. K211, Außenstelle, Huizener Straße 60, 61118 Bad Vilbel
END:VEVENT
BEGIN:VEVENT
DTSTAMP:20260421T204850
DTSTART;TZID=Europe/Berlin:20260818T180000
DTEND;TZID=Europe/Berlin:20260818T211500
UID:EG404223C2-20260818T180000@VHSWETTERAU
SUMMARY:Deutsch als Zweitsprache A1/2 (Modul 2) Integrationskurs am Abend (EG404223C2) 
LOCATION:BV BFW G.-Büchner-Gym., R. K211, Außenstelle, Huizener Straße 60, 61118 Bad Vilbel
END:VEVENT
BEGIN:VEVENT
DTSTAMP:20260421T204850
DTSTART;TZID=Europe/Berlin:20260819T180000
DTEND;TZID=Europe/Berlin:20260819T211500
UID:EG404223C2-20260819T180000@VHSWETTERAU
SUMMARY:Deutsch als Zweitsprache A1/2 (Modul 2) Integrationskurs am Abend (EG404223C2) 
LOCATION:BV BFW G.-Büchner-Gym., R. K211, Außenstelle, Huizener Straße 60, 61118 Bad Vilbel
END:VEVENT
BEGIN:VEVENT
DTSTAMP:20260421T204850
DTSTART;TZID=Europe/Berlin:20260820T180000
DTEND;TZID=Europe/Berlin:20260820T211500
UID:EG404223C2-20260820T180000@VHSWETTERAU
SUMMARY:Deutsch als Zweitsprache A1/2 (Modul 2) Integrationskurs am Abend (EG404223C2) 
LOCATION:BV BFW G.-Büchner-Gym., R. K211, Außenstelle, Huizener Straße 60, 61118 Bad Vilbel
END:VEVENT
BEGIN:VEVENT
DTSTAMP:20260421T204850
DTSTART;TZID=Europe/Berlin:20260824T180000
DTEND;TZID=Europe/Berlin:20260824T211500
UID:EG404223C2-20260824T180000@VHSWETTERAU
SUMMARY:Deutsch als Zweitsprache A1/2 (Modul 2) Integrationskurs am Abend (EG404223C2) 
LOCATION:BV BFW G.-Büchner-Gym., R. K211, Außenstelle, Huizener Straße 60, 61118 Bad Vilbel
END:VEVENT
BEGIN:VEVENT
DTSTAMP:20260421T204850
DTSTART;TZID=Europe/Berlin:20260825T180000
DTEND;TZID=Europe/Berlin:20260825T211500
UID:EG404223C2-20260825T180000@VHSWETTERAU
SUMMARY:Deutsch als Zweitsprache A1/2 (Modul 2) Integrationskurs am Abend (EG404223C2) 
LOCATION:BV BFW G.-Büchner-Gym., R. K211, Außenstelle, Huizener Straße 60, 61118 Bad Vilbel
END:VEVENT
BEGIN:VEVENT
DTSTAMP:20260421T204850
DTSTART;TZID=Europe/Berlin:20260826T180000
DTEND;TZID=Europe/Berlin:20260826T211500
UID:EG404223C2-20260826T180000@VHSWETTERAU
SUMMARY:Deutsch als Zweitsprache A1/2 (Modul 2) Integrationskurs am Abend (EG404223C2) 
LOCATION:BV BFW G.-Büchner-Gym., R. K211, Außenstelle, Huizener Straße 60, 61118 Bad Vilbel
END:VEVENT
BEGIN:VEVENT
DTSTAMP:20260421T204850
DTSTART;TZID=Europe/Berlin:20260827T180000
DTEND;TZID=Europe/Berlin:20260827T211500
UID:EG404223C2-20260827T180000@VHSWETTERAU
SUMMARY:Deutsch als Zweitsprache A1/2 (Modul 2) Integrationskurs am Abend (EG404223C2) 
LOCATION:BV BFW G.-Büchner-Gym., R. K211, Außenstelle, Huizener Straße 60, 61118 Bad Vilbel
END:VEVENT
BEGIN:VEVENT
DTSTAMP:20260421T204850
DTSTART;TZID=Europe/Berlin:20260831T180000
DTEND;TZID=Europe/Berlin:20260831T211500
UID:EG404223C2-20260831T180000@VHSWETTERAU
SUMMARY:Deutsch als Zweitsprache A1/2 (Modul 2) Integrationskurs am Abend (EG404223C2) 
LOCATION:BV BFW G.-Büchner-Gym., R. K211, Außenstelle, Huizener Straße 60, 61118 Bad Vilbel
END:VEVENT
BEGIN:VEVENT
DTSTAMP:20260421T204850
DTSTART;TZID=Europe/Berlin:20260901T180000
DTEND;TZID=Europe/Berlin:20260901T211500
UID:EG404223C2-20260901T180000@VHSWETTERAU
SUMMARY:Deutsch als Zweitsprache A1/2 (Modul 2) Integrationskurs am Abend (EG404223C2) 
LOCATION:BV BFW G.-Büchner-Gym., R. K211, Außenstelle, Huizener Straße 60, 61118 Bad Vilbel
END:VEVENT
BEGIN:VEVENT
DTSTAMP:20260421T204850
DTSTART;TZID=Europe/Berlin:20260902T180000
DTEND;TZID=Europe/Berlin:20260902T211500
UID:EG404223C2-20260902T180000@VHSWETTERAU
SUMMARY:Deutsch als Zweitsprache A1/2 (Modul 2) Integrationskurs am Abend (EG404223C2) 
LOCATION:BV BFW G.-Büchner-Gym., R. K211, Außenstelle, Huizener Straße 60, 61118 Bad Vilbel
END:VEVENT
BEGIN:VEVENT
DTSTAMP:20260421T204850
DTSTART;TZID=Europe/Berlin:20260903T180000
DTEND;TZID=Europe/Berlin:20260903T211500
UID:EG404223C2-20260903T180000@VHSWETTERAU
SUMMARY:Deutsch als Zweitsprache A1/2 (Modul 2) Integrationskurs am Abend (EG404223C2) 
LOCATION:BV BFW G.-Büchner-Gym., R. K211, Außenstelle, Huizener Straße 60, 61118 Bad Vilbel
END:VEVENT
BEGIN:VEVENT
DTSTAMP:20260421T204850
DTSTART;TZID=Europe/Berlin:20260907T180000
DTEND;TZID=Europe/Berlin:20260907T211500
UID:EG404223C2-20260907T180000@VHSWETTERAU
SUMMARY:Deutsch als Zweitsprache A1/2 (Modul 2) Integrationskurs am Abend (EG404223C2) 
LOCATION:BV BFW G.-Büchner-Gym., R. K211, Außenstelle, Huizener Straße 60, 61118 Bad Vilbel
END:VEVENT
BEGIN:VEVENT
DTSTAMP:20260421T204850
DTSTART;TZID=Europe/Berlin:20260908T180000
DTEND;TZID=Europe/Berlin:20260908T211500
UID:EG404223C2-20260908T180000@VHSWETTERAU
SUMMARY:Deutsch als Zweitsprache A1/2 (Modul 2) Integrationskurs am Abend (EG404223C2) 
LOCATION:BV BFW G.-Büchner-Gym., R. K211, Außenstelle, Huizener Straße 60, 61118 Bad Vilbel
END:VEVENT
BEGIN:VEVENT
DTSTAMP:20260421T204850
DTSTART;TZID=Europe/Berlin:20260909T180000
DTEND;TZID=Europe/Berlin:20260909T211500
UID:EG404223C2-20260909T180000@VHSWETTERAU
SUMMARY:Deutsch als Zweitsprache A1/2 (Modul 2) Integrationskurs am Abend (EG404223C2) 
LOCATION:BV BFW G.-Büchner-Gym., R. K211, Außenstelle, Huizener Straße 60, 61118 Bad Vilbel
END:VEVENT
BEGIN:VEVENT
DTSTAMP:20260421T204850
DTSTART;TZID=Europe/Berlin:20260910T180000
DTEND;TZID=Europe/Berlin:20260910T211500
UID:EG404223C2-20260910T180000@VHSWETTERAU
SUMMARY:Deutsch als Zweitsprache A1/2 (Modul 2) Integrationskurs am Abend (EG404223C2) 
LOCATION:BV BFW G.-Büchner-Gym., R. K211, Außenstelle, Huizener Straße 60, 61118 Bad Vilbel
END:VEVENT
BEGIN:VEVENT
DTSTAMP:20260421T204850
DTSTART;TZID=Europe/Berlin:20260914T180000
DTEND;TZID=Europe/Berlin:20260914T211500
UID:EG404223C2-20260914T180000@VHSWETTERAU
SUMMARY:Deutsch als Zweitsprache A1/2 (Modul 2) Integrationskurs am Abend (EG404223C2) 
LOCATION:BV BFW G.-Büchner-Gym., R. K211, Außenstelle, Huizener Straße 60, 61118 Bad Vilbel
END:VEVENT
BEGIN:VEVENT
DTSTAMP:20260421T204850
DTSTART;TZID=Europe/Berlin:20260915T180000
DTEND;TZID=Europe/Berlin:20260915T211500
UID:EG404223C2-20260915T180000@VHSWETTERAU
SUMMARY:Deutsch als Zweitsprache A1/2 (Modul 2) Integrationskurs am Abend (EG404223C2) 
LOCATION:BV BFW G.-Büchner-Gym., R. K211, Außenstelle, Huizener Straße 60, 61118 Bad Vilbel
END:VEVENT
BEGIN:VEVENT
DTSTAMP:20260421T204850
DTSTART;TZID=Europe/Berlin:20260916T180000
DTEND;TZID=Europe/Berlin:20260916T211500
UID:EG404223C2-20260916T180000@VHSWETTERAU
SUMMARY:Deutsch als Zweitsprache A1/2 (Modul 2) Integrationskurs am Abend (EG404223C2) 
LOCATION:BV BFW G.-Büchner-Gym., R. K211, Außenstelle, Huizener Straße 60, 61118 Bad Vilbel
END:VEVENT
BEGIN:VEVENT
DTSTAMP:20260421T204850
DTSTART;TZID=Europe/Berlin:20260917T180000
DTEND;TZID=Europe/Berlin:20260917T211500
UID:EG404223C2-20260917T180000@VHSWETTERAU
SUMMARY:Deutsch als Zweitsprache A1/2 (Modul 2) Integrationskurs am Abend (EG404223C2) 
LOCATION:BV BFW G.-Büchner-Gym., R. K211, Außenstelle, Huizener Straße 60, 61118 Bad Vilbel
END:VEVENT
BEGIN:VEVENT
DTSTAMP:20260421T204850
DTSTART;TZID=Europe/Berlin:20260921T180000
DTEND;TZID=Europe/Berlin:20260921T211500
UID:EG404223C2-20260921T180000@VHSWETTERAU
SUMMARY:Deutsch als Zweitsprache A1/2 (Modul 2) Integrationskurs am Abend (EG404223C2) 
LOCATION:BV BFW G.-Büchner-Gym., R. K211, Außenstelle, Huizener Straße 60, 61118 Bad Vilbel
END:VEVENT
BEGIN:VEVENT
DTSTAMP:20260421T204850
DTSTART;TZID=Europe/Berlin:20260922T180000
DTEND;TZID=Europe/Berlin:20260922T211500
UID:EG404223C2-20260922T180000@VHSWETTERAU
SUMMARY:Deutsch als Zweitsprache A1/2 (Modul 2) Integrationskurs am Abend (EG404223C2) 
LOCATION:BV BFW G.-Büchner-Gym., R. K211, Außenstelle, Huizener Straße 60, 61118 Bad Vilbel
END:VEVENT
BEGIN:VEVENT
DTSTAMP:20260421T204850
DTSTART;TZID=Europe/Berlin:20260923T180000
DTEND;TZID=Europe/Berlin:20260923T211500
UID:EG404223C2-20260923T180000@VHSWETTERAU
SUMMARY:Deutsch als Zweitsprache A1/2 (Modul 2) Integrationskurs am Abend (EG404223C2) 
LOCATION:BV BFW G.-Büchner-Gym., R. K211, Außenstelle, Huizener Straße 60, 61118 Bad Vilbel
END:VEVENT
BEGIN:VEVENT
DTSTAMP:20260421T204850
DTSTART;TZID=Europe/Berlin:20260924T180000
DTEND;TZID=Europe/Berlin:20260924T211500
UID:EG404223C2-20260924T180000@VHSWETTERAU
SUMMARY:Deutsch als Zweitsprache A1/2 (Modul 2) Integrationskurs am Abend (EG404223C2) 
LOCATION:BV BFW G.-Büchner-Gym., R. K211, Außenstelle, Huizener Straße 60, 61118 Bad Vilbel
END:VEVENT
BEGIN:VEVENT
DTSTAMP:20260421T204850
DTSTART;TZID=Europe/Berlin:20260925T180000
DTEND;TZID=Europe/Berlin:20260925T211500
UID:EG404223C2-20260925T180000@VHSWETTERAU
SUMMARY:Deutsch als Zweitsprache A1/2 (Modul 2) Integrationskurs am Abend (EG404223C2) 
LOCATION:BV BFW G.-Büchner-Gym., R. K211, Außenstelle, Huizener Straße 60, 61118 Bad Vilbel
END:VEVENT
END:VCALENDAR