BEGIN:VCALENDAR
VERSION:2.0
PRODID:https://www.kufer.de/kuferweb / DE
METHOD:PUBLISH
CALSCALE:GREGORIAN
X-WR-TIMEZONE:Europe/Berlin
BEGIN:VTIMEZONE
TZID:Europe/Berlin
X-LIC-LOCATION:Europe/Berlin
BEGIN:DAYLIGHT
TZOFFSETFROM:+0100
TZOFFSETTO:+0200
TZNAME:CEST
DTSTART:19700329T020000
RRULE:FREQ=YEARLY;INTERVAL=1;BYDAY=-1SU;BYMONTH=3
END:DAYLIGHT
BEGIN:STANDARD
TZOFFSETFROM:+0200
TZOFFSETTO:+0100
TZNAME:CET
DTSTART:19701025T030000
RRULE:FREQ=YEARLY;INTERVAL=1;BYDAY=-1SU;BYMONTH=10
END:STANDARD
END:VTIMEZONE
BEGIN:VEVENT
DTSTAMP:20260421T223120
DTSTART;TZID=Europe/Berlin:20261102T090000
DTEND;TZID=Europe/Berlin:20261102T121500
UID:EG404231C3-20261102T090000@VHSWETTERAU
SUMMARY:Deutsch als Zweitsprache A2/1 (Modul 3) Integrationskurs am Vormittag (EG404231C3) 
LOCATION:BV BFW G.-Büchner-Gym., R. K210, Außenstelle, Huizener Straße 60, 61118 Bad Vilbel
END:VEVENT
BEGIN:VEVENT
DTSTAMP:20260421T223120
DTSTART;TZID=Europe/Berlin:20261103T090000
DTEND;TZID=Europe/Berlin:20261103T121500
UID:EG404231C3-20261103T090000@VHSWETTERAU
SUMMARY:Deutsch als Zweitsprache A2/1 (Modul 3) Integrationskurs am Vormittag (EG404231C3) 
LOCATION:BV BFW G.-Büchner-Gym., R. K210, Außenstelle, Huizener Straße 60, 61118 Bad Vilbel
END:VEVENT
BEGIN:VEVENT
DTSTAMP:20260421T223120
DTSTART;TZID=Europe/Berlin:20261104T090000
DTEND;TZID=Europe/Berlin:20261104T121500
UID:EG404231C3-20261104T090000@VHSWETTERAU
SUMMARY:Deutsch als Zweitsprache A2/1 (Modul 3) Integrationskurs am Vormittag (EG404231C3) 
LOCATION:BV BFW G.-Büchner-Gym., R. K210, Außenstelle, Huizener Straße 60, 61118 Bad Vilbel
END:VEVENT
BEGIN:VEVENT
DTSTAMP:20260421T223120
DTSTART;TZID=Europe/Berlin:20261105T090000
DTEND;TZID=Europe/Berlin:20261105T121500
UID:EG404231C3-20261105T090000@VHSWETTERAU
SUMMARY:Deutsch als Zweitsprache A2/1 (Modul 3) Integrationskurs am Vormittag (EG404231C3) 
LOCATION:BV BFW G.-Büchner-Gym., R. K210, Außenstelle, Huizener Straße 60, 61118 Bad Vilbel
END:VEVENT
BEGIN:VEVENT
DTSTAMP:20260421T223120
DTSTART;TZID=Europe/Berlin:20261106T090000
DTEND;TZID=Europe/Berlin:20261106T121500
UID:EG404231C3-20261106T090000@VHSWETTERAU
SUMMARY:Deutsch als Zweitsprache A2/1 (Modul 3) Integrationskurs am Vormittag (EG404231C3) 
LOCATION:BV BFW G.-Büchner-Gym., R. K210, Außenstelle, Huizener Straße 60, 61118 Bad Vilbel
END:VEVENT
BEGIN:VEVENT
DTSTAMP:20260421T223120
DTSTART;TZID=Europe/Berlin:20261109T090000
DTEND;TZID=Europe/Berlin:20261109T121500
UID:EG404231C3-20261109T090000@VHSWETTERAU
SUMMARY:Deutsch als Zweitsprache A2/1 (Modul 3) Integrationskurs am Vormittag (EG404231C3) 
LOCATION:BV BFW G.-Büchner-Gym., R. K210, Außenstelle, Huizener Straße 60, 61118 Bad Vilbel
END:VEVENT
BEGIN:VEVENT
DTSTAMP:20260421T223120
DTSTART;TZID=Europe/Berlin:20261110T090000
DTEND;TZID=Europe/Berlin:20261110T121500
UID:EG404231C3-20261110T090000@VHSWETTERAU
SUMMARY:Deutsch als Zweitsprache A2/1 (Modul 3) Integrationskurs am Vormittag (EG404231C3) 
LOCATION:BV BFW G.-Büchner-Gym., R. K210, Außenstelle, Huizener Straße 60, 61118 Bad Vilbel
END:VEVENT
BEGIN:VEVENT
DTSTAMP:20260421T223120
DTSTART;TZID=Europe/Berlin:20261111T090000
DTEND;TZID=Europe/Berlin:20261111T121500
UID:EG404231C3-20261111T090000@VHSWETTERAU
SUMMARY:Deutsch als Zweitsprache A2/1 (Modul 3) Integrationskurs am Vormittag (EG404231C3) 
LOCATION:BV BFW G.-Büchner-Gym., R. K210, Außenstelle, Huizener Straße 60, 61118 Bad Vilbel
END:VEVENT
BEGIN:VEVENT
DTSTAMP:20260421T223120
DTSTART;TZID=Europe/Berlin:20261112T090000
DTEND;TZID=Europe/Berlin:20261112T121500
UID:EG404231C3-20261112T090000@VHSWETTERAU
SUMMARY:Deutsch als Zweitsprache A2/1 (Modul 3) Integrationskurs am Vormittag (EG404231C3) 
LOCATION:BV BFW G.-Büchner-Gym., R. K210, Außenstelle, Huizener Straße 60, 61118 Bad Vilbel
END:VEVENT
BEGIN:VEVENT
DTSTAMP:20260421T223120
DTSTART;TZID=Europe/Berlin:20261113T090000
DTEND;TZID=Europe/Berlin:20261113T121500
UID:EG404231C3-20261113T090000@VHSWETTERAU
SUMMARY:Deutsch als Zweitsprache A2/1 (Modul 3) Integrationskurs am Vormittag (EG404231C3) 
LOCATION:BV BFW G.-Büchner-Gym., R. K210, Außenstelle, Huizener Straße 60, 61118 Bad Vilbel
END:VEVENT
BEGIN:VEVENT
DTSTAMP:20260421T223120
DTSTART;TZID=Europe/Berlin:20261116T090000
DTEND;TZID=Europe/Berlin:20261116T121500
UID:EG404231C3-20261116T090000@VHSWETTERAU
SUMMARY:Deutsch als Zweitsprache A2/1 (Modul 3) Integrationskurs am Vormittag (EG404231C3) 
LOCATION:BV BFW G.-Büchner-Gym., R. K210, Außenstelle, Huizener Straße 60, 61118 Bad Vilbel
END:VEVENT
BEGIN:VEVENT
DTSTAMP:20260421T223120
DTSTART;TZID=Europe/Berlin:20261117T090000
DTEND;TZID=Europe/Berlin:20261117T121500
UID:EG404231C3-20261117T090000@VHSWETTERAU
SUMMARY:Deutsch als Zweitsprache A2/1 (Modul 3) Integrationskurs am Vormittag (EG404231C3) 
LOCATION:BV BFW G.-Büchner-Gym., R. K210, Außenstelle, Huizener Straße 60, 61118 Bad Vilbel
END:VEVENT
BEGIN:VEVENT
DTSTAMP:20260421T223120
DTSTART;TZID=Europe/Berlin:20261118T090000
DTEND;TZID=Europe/Berlin:20261118T121500
UID:EG404231C3-20261118T090000@VHSWETTERAU
SUMMARY:Deutsch als Zweitsprache A2/1 (Modul 3) Integrationskurs am Vormittag (EG404231C3) 
LOCATION:BV BFW G.-Büchner-Gym., R. K210, Außenstelle, Huizener Straße 60, 61118 Bad Vilbel
END:VEVENT
BEGIN:VEVENT
DTSTAMP:20260421T223120
DTSTART;TZID=Europe/Berlin:20261119T090000
DTEND;TZID=Europe/Berlin:20261119T121500
UID:EG404231C3-20261119T090000@VHSWETTERAU
SUMMARY:Deutsch als Zweitsprache A2/1 (Modul 3) Integrationskurs am Vormittag (EG404231C3) 
LOCATION:BV BFW G.-Büchner-Gym., R. K210, Außenstelle, Huizener Straße 60, 61118 Bad Vilbel
END:VEVENT
BEGIN:VEVENT
DTSTAMP:20260421T223120
DTSTART;TZID=Europe/Berlin:20261120T090000
DTEND;TZID=Europe/Berlin:20261120T121500
UID:EG404231C3-20261120T090000@VHSWETTERAU
SUMMARY:Deutsch als Zweitsprache A2/1 (Modul 3) Integrationskurs am Vormittag (EG404231C3) 
LOCATION:BV BFW G.-Büchner-Gym., R. K210, Außenstelle, Huizener Straße 60, 61118 Bad Vilbel
END:VEVENT
BEGIN:VEVENT
DTSTAMP:20260421T223120
DTSTART;TZID=Europe/Berlin:20261123T090000
DTEND;TZID=Europe/Berlin:20261123T121500
UID:EG404231C3-20261123T090000@VHSWETTERAU
SUMMARY:Deutsch als Zweitsprache A2/1 (Modul 3) Integrationskurs am Vormittag (EG404231C3) 
LOCATION:BV BFW G.-Büchner-Gym., R. K210, Außenstelle, Huizener Straße 60, 61118 Bad Vilbel
END:VEVENT
BEGIN:VEVENT
DTSTAMP:20260421T223120
DTSTART;TZID=Europe/Berlin:20261124T090000
DTEND;TZID=Europe/Berlin:20261124T121500
UID:EG404231C3-20261124T090000@VHSWETTERAU
SUMMARY:Deutsch als Zweitsprache A2/1 (Modul 3) Integrationskurs am Vormittag (EG404231C3) 
LOCATION:BV BFW G.-Büchner-Gym., R. K210, Außenstelle, Huizener Straße 60, 61118 Bad Vilbel
END:VEVENT
BEGIN:VEVENT
DTSTAMP:20260421T223120
DTSTART;TZID=Europe/Berlin:20261125T090000
DTEND;TZID=Europe/Berlin:20261125T121500
UID:EG404231C3-20261125T090000@VHSWETTERAU
SUMMARY:Deutsch als Zweitsprache A2/1 (Modul 3) Integrationskurs am Vormittag (EG404231C3) 
LOCATION:BV BFW G.-Büchner-Gym., R. K210, Außenstelle, Huizener Straße 60, 61118 Bad Vilbel
END:VEVENT
BEGIN:VEVENT
DTSTAMP:20260421T223120
DTSTART;TZID=Europe/Berlin:20261126T090000
DTEND;TZID=Europe/Berlin:20261126T121500
UID:EG404231C3-20261126T090000@VHSWETTERAU
SUMMARY:Deutsch als Zweitsprache A2/1 (Modul 3) Integrationskurs am Vormittag (EG404231C3) 
LOCATION:BV BFW G.-Büchner-Gym., R. K210, Außenstelle, Huizener Straße 60, 61118 Bad Vilbel
END:VEVENT
BEGIN:VEVENT
DTSTAMP:20260421T223120
DTSTART;TZID=Europe/Berlin:20261127T090000
DTEND;TZID=Europe/Berlin:20261127T121500
UID:EG404231C3-20261127T090000@VHSWETTERAU
SUMMARY:Deutsch als Zweitsprache A2/1 (Modul 3) Integrationskurs am Vormittag (EG404231C3) 
LOCATION:BV BFW G.-Büchner-Gym., R. K210, Außenstelle, Huizener Straße 60, 61118 Bad Vilbel
END:VEVENT
BEGIN:VEVENT
DTSTAMP:20260421T223120
DTSTART;TZID=Europe/Berlin:20261130T090000
DTEND;TZID=Europe/Berlin:20261130T121500
UID:EG404231C3-20261130T090000@VHSWETTERAU
SUMMARY:Deutsch als Zweitsprache A2/1 (Modul 3) Integrationskurs am Vormittag (EG404231C3) 
LOCATION:BV BFW G.-Büchner-Gym., R. K210, Außenstelle, Huizener Straße 60, 61118 Bad Vilbel
END:VEVENT
BEGIN:VEVENT
DTSTAMP:20260421T223120
DTSTART;TZID=Europe/Berlin:20261201T090000
DTEND;TZID=Europe/Berlin:20261201T121500
UID:EG404231C3-20261201T090000@VHSWETTERAU
SUMMARY:Deutsch als Zweitsprache A2/1 (Modul 3) Integrationskurs am Vormittag (EG404231C3) 
LOCATION:BV BFW G.-Büchner-Gym., R. K210, Außenstelle, Huizener Straße 60, 61118 Bad Vilbel
END:VEVENT
BEGIN:VEVENT
DTSTAMP:20260421T223120
DTSTART;TZID=Europe/Berlin:20261202T090000
DTEND;TZID=Europe/Berlin:20261202T121500
UID:EG404231C3-20261202T090000@VHSWETTERAU
SUMMARY:Deutsch als Zweitsprache A2/1 (Modul 3) Integrationskurs am Vormittag (EG404231C3) 
LOCATION:BV BFW G.-Büchner-Gym., R. K210, Außenstelle, Huizener Straße 60, 61118 Bad Vilbel
END:VEVENT
BEGIN:VEVENT
DTSTAMP:20260421T223120
DTSTART;TZID=Europe/Berlin:20261203T090000
DTEND;TZID=Europe/Berlin:20261203T121500
UID:EG404231C3-20261203T090000@VHSWETTERAU
SUMMARY:Deutsch als Zweitsprache A2/1 (Modul 3) Integrationskurs am Vormittag (EG404231C3) 
LOCATION:BV BFW G.-Büchner-Gym., R. K210, Außenstelle, Huizener Straße 60, 61118 Bad Vilbel
END:VEVENT
BEGIN:VEVENT
DTSTAMP:20260421T223120
DTSTART;TZID=Europe/Berlin:20261204T090000
DTEND;TZID=Europe/Berlin:20261204T121500
UID:EG404231C3-20261204T090000@VHSWETTERAU
SUMMARY:Deutsch als Zweitsprache A2/1 (Modul 3) Integrationskurs am Vormittag (EG404231C3) 
LOCATION:BV BFW G.-Büchner-Gym., R. K210, Außenstelle, Huizener Straße 60, 61118 Bad Vilbel
END:VEVENT
END:VCALENDAR