BEGIN:VCALENDAR
VERSION:2.0
PRODID:https://www.kufer.de/kuferweb / DE
METHOD:PUBLISH
CALSCALE:GREGORIAN
X-WR-TIMEZONE:Europe/Berlin
BEGIN:VTIMEZONE
TZID:Europe/Berlin
X-LIC-LOCATION:Europe/Berlin
BEGIN:DAYLIGHT
TZOFFSETFROM:+0100
TZOFFSETTO:+0200
TZNAME:CEST
DTSTART:19700329T020000
RRULE:FREQ=YEARLY;INTERVAL=1;BYDAY=-1SU;BYMONTH=3
END:DAYLIGHT
BEGIN:STANDARD
TZOFFSETFROM:+0200
TZOFFSETTO:+0100
TZNAME:CET
DTSTART:19701025T030000
RRULE:FREQ=YEARLY;INTERVAL=1;BYDAY=-1SU;BYMONTH=10
END:STANDARD
END:VTIMEZONE
BEGIN:VEVENT
DTSTAMP:20260422T001633
DTSTART;TZID=Europe/Berlin:20261123T090000
DTEND;TZID=Europe/Berlin:20261123T130500
UID:EG404231H0-20261123T090000@VHSWETTERAU
SUMMARY:Deutsch als Zweitsprache A2/1 (Modul 3) Integrationskurs am Vormittag (EG404231H0) 
LOCATION:Fb vhs B210 (JPR), Friedensstr. 18, 61169 Friedberg
END:VEVENT
BEGIN:VEVENT
DTSTAMP:20260422T001633
DTSTART;TZID=Europe/Berlin:20261124T090000
DTEND;TZID=Europe/Berlin:20261124T130500
UID:EG404231H0-20261124T090000@VHSWETTERAU
SUMMARY:Deutsch als Zweitsprache A2/1 (Modul 3) Integrationskurs am Vormittag (EG404231H0) 
LOCATION:Fb vhs B210 (JPR), Friedensstr. 18, 61169 Friedberg
END:VEVENT
BEGIN:VEVENT
DTSTAMP:20260422T001633
DTSTART;TZID=Europe/Berlin:20261125T090000
DTEND;TZID=Europe/Berlin:20261125T130500
UID:EG404231H0-20261125T090000@VHSWETTERAU
SUMMARY:Deutsch als Zweitsprache A2/1 (Modul 3) Integrationskurs am Vormittag (EG404231H0) 
LOCATION:Fb vhs B210 (JPR), Friedensstr. 18, 61169 Friedberg
END:VEVENT
BEGIN:VEVENT
DTSTAMP:20260422T001633
DTSTART;TZID=Europe/Berlin:20261126T090000
DTEND;TZID=Europe/Berlin:20261126T130500
UID:EG404231H0-20261126T090000@VHSWETTERAU
SUMMARY:Deutsch als Zweitsprache A2/1 (Modul 3) Integrationskurs am Vormittag (EG404231H0) 
LOCATION:Fb vhs B210 (JPR), Friedensstr. 18, 61169 Friedberg
END:VEVENT
BEGIN:VEVENT
DTSTAMP:20260422T001633
DTSTART;TZID=Europe/Berlin:20261127T090000
DTEND;TZID=Europe/Berlin:20261127T130500
UID:EG404231H0-20261127T090000@VHSWETTERAU
SUMMARY:Deutsch als Zweitsprache A2/1 (Modul 3) Integrationskurs am Vormittag (EG404231H0) 
LOCATION:Fb vhs B210 (JPR), Friedensstr. 18, 61169 Friedberg
END:VEVENT
BEGIN:VEVENT
DTSTAMP:20260422T001633
DTSTART;TZID=Europe/Berlin:20261130T090000
DTEND;TZID=Europe/Berlin:20261130T130500
UID:EG404231H0-20261130T090000@VHSWETTERAU
SUMMARY:Deutsch als Zweitsprache A2/1 (Modul 3) Integrationskurs am Vormittag (EG404231H0) 
LOCATION:Fb vhs B210 (JPR), Friedensstr. 18, 61169 Friedberg
END:VEVENT
BEGIN:VEVENT
DTSTAMP:20260422T001633
DTSTART;TZID=Europe/Berlin:20261201T090000
DTEND;TZID=Europe/Berlin:20261201T130500
UID:EG404231H0-20261201T090000@VHSWETTERAU
SUMMARY:Deutsch als Zweitsprache A2/1 (Modul 3) Integrationskurs am Vormittag (EG404231H0) 
LOCATION:Fb vhs B210 (JPR), Friedensstr. 18, 61169 Friedberg
END:VEVENT
BEGIN:VEVENT
DTSTAMP:20260422T001633
DTSTART;TZID=Europe/Berlin:20261202T090000
DTEND;TZID=Europe/Berlin:20261202T130500
UID:EG404231H0-20261202T090000@VHSWETTERAU
SUMMARY:Deutsch als Zweitsprache A2/1 (Modul 3) Integrationskurs am Vormittag (EG404231H0) 
LOCATION:Fb vhs B210 (JPR), Friedensstr. 18, 61169 Friedberg
END:VEVENT
BEGIN:VEVENT
DTSTAMP:20260422T001633
DTSTART;TZID=Europe/Berlin:20261203T090000
DTEND;TZID=Europe/Berlin:20261203T130500
UID:EG404231H0-20261203T090000@VHSWETTERAU
SUMMARY:Deutsch als Zweitsprache A2/1 (Modul 3) Integrationskurs am Vormittag (EG404231H0) 
LOCATION:Fb vhs B210 (JPR), Friedensstr. 18, 61169 Friedberg
END:VEVENT
BEGIN:VEVENT
DTSTAMP:20260422T001633
DTSTART;TZID=Europe/Berlin:20261204T090000
DTEND;TZID=Europe/Berlin:20261204T130500
UID:EG404231H0-20261204T090000@VHSWETTERAU
SUMMARY:Deutsch als Zweitsprache A2/1 (Modul 3) Integrationskurs am Vormittag (EG404231H0) 
LOCATION:Fb vhs B210 (JPR), Friedensstr. 18, 61169 Friedberg
END:VEVENT
BEGIN:VEVENT
DTSTAMP:20260422T001633
DTSTART;TZID=Europe/Berlin:20261207T090000
DTEND;TZID=Europe/Berlin:20261207T130500
UID:EG404231H0-20261207T090000@VHSWETTERAU
SUMMARY:Deutsch als Zweitsprache A2/1 (Modul 3) Integrationskurs am Vormittag (EG404231H0) 
LOCATION:Fb vhs B210 (JPR), Friedensstr. 18, 61169 Friedberg
END:VEVENT
BEGIN:VEVENT
DTSTAMP:20260422T001633
DTSTART;TZID=Europe/Berlin:20261208T090000
DTEND;TZID=Europe/Berlin:20261208T130500
UID:EG404231H0-20261208T090000@VHSWETTERAU
SUMMARY:Deutsch als Zweitsprache A2/1 (Modul 3) Integrationskurs am Vormittag (EG404231H0) 
LOCATION:Fb vhs B210 (JPR), Friedensstr. 18, 61169 Friedberg
END:VEVENT
BEGIN:VEVENT
DTSTAMP:20260422T001633
DTSTART;TZID=Europe/Berlin:20261209T090000
DTEND;TZID=Europe/Berlin:20261209T130500
UID:EG404231H0-20261209T090000@VHSWETTERAU
SUMMARY:Deutsch als Zweitsprache A2/1 (Modul 3) Integrationskurs am Vormittag (EG404231H0) 
LOCATION:Fb vhs B210 (JPR), Friedensstr. 18, 61169 Friedberg
END:VEVENT
BEGIN:VEVENT
DTSTAMP:20260422T001633
DTSTART;TZID=Europe/Berlin:20261210T090000
DTEND;TZID=Europe/Berlin:20261210T130500
UID:EG404231H0-20261210T090000@VHSWETTERAU
SUMMARY:Deutsch als Zweitsprache A2/1 (Modul 3) Integrationskurs am Vormittag (EG404231H0) 
LOCATION:Fb vhs B210 (JPR), Friedensstr. 18, 61169 Friedberg
END:VEVENT
BEGIN:VEVENT
DTSTAMP:20260422T001633
DTSTART;TZID=Europe/Berlin:20261211T090000
DTEND;TZID=Europe/Berlin:20261211T130500
UID:EG404231H0-20261211T090000@VHSWETTERAU
SUMMARY:Deutsch als Zweitsprache A2/1 (Modul 3) Integrationskurs am Vormittag (EG404231H0) 
LOCATION:Fb vhs B210 (JPR), Friedensstr. 18, 61169 Friedberg
END:VEVENT
BEGIN:VEVENT
DTSTAMP:20260422T001633
DTSTART;TZID=Europe/Berlin:20261214T090000
DTEND;TZID=Europe/Berlin:20261214T130500
UID:EG404231H0-20261214T090000@VHSWETTERAU
SUMMARY:Deutsch als Zweitsprache A2/1 (Modul 3) Integrationskurs am Vormittag (EG404231H0) 
LOCATION:Fb vhs B210 (JPR), Friedensstr. 18, 61169 Friedberg
END:VEVENT
BEGIN:VEVENT
DTSTAMP:20260422T001633
DTSTART;TZID=Europe/Berlin:20261215T090000
DTEND;TZID=Europe/Berlin:20261215T130500
UID:EG404231H0-20261215T090000@VHSWETTERAU
SUMMARY:Deutsch als Zweitsprache A2/1 (Modul 3) Integrationskurs am Vormittag (EG404231H0) 
LOCATION:Fb vhs B210 (JPR), Friedensstr. 18, 61169 Friedberg
END:VEVENT
BEGIN:VEVENT
DTSTAMP:20260422T001633
DTSTART;TZID=Europe/Berlin:20261216T090000
DTEND;TZID=Europe/Berlin:20261216T130500
UID:EG404231H0-20261216T090000@VHSWETTERAU
SUMMARY:Deutsch als Zweitsprache A2/1 (Modul 3) Integrationskurs am Vormittag (EG404231H0) 
LOCATION:Fb vhs B210 (JPR), Friedensstr. 18, 61169 Friedberg
END:VEVENT
BEGIN:VEVENT
DTSTAMP:20260422T001633
DTSTART;TZID=Europe/Berlin:20261217T090000
DTEND;TZID=Europe/Berlin:20261217T130500
UID:EG404231H0-20261217T090000@VHSWETTERAU
SUMMARY:Deutsch als Zweitsprache A2/1 (Modul 3) Integrationskurs am Vormittag (EG404231H0) 
LOCATION:Fb vhs B210 (JPR), Friedensstr. 18, 61169 Friedberg
END:VEVENT
BEGIN:VEVENT
DTSTAMP:20260422T001633
DTSTART;TZID=Europe/Berlin:20261218T090000
DTEND;TZID=Europe/Berlin:20261218T130500
UID:EG404231H0-20261218T090000@VHSWETTERAU
SUMMARY:Deutsch als Zweitsprache A2/1 (Modul 3) Integrationskurs am Vormittag (EG404231H0) 
LOCATION:Fb vhs B210 (JPR), Friedensstr. 18, 61169 Friedberg
END:VEVENT
END:VCALENDAR