BEGIN:VCALENDAR
VERSION:2.0
PRODID:https://www.kufer.de/kuferweb / DE
METHOD:PUBLISH
CALSCALE:GREGORIAN
X-WR-TIMEZONE:Europe/Berlin
BEGIN:VTIMEZONE
TZID:Europe/Berlin
X-LIC-LOCATION:Europe/Berlin
BEGIN:DAYLIGHT
TZOFFSETFROM:+0100
TZOFFSETTO:+0200
TZNAME:CEST
DTSTART:19700329T020000
RRULE:FREQ=YEARLY;INTERVAL=1;BYDAY=-1SU;BYMONTH=3
END:DAYLIGHT
BEGIN:STANDARD
TZOFFSETFROM:+0200
TZOFFSETTO:+0100
TZNAME:CET
DTSTART:19701025T030000
RRULE:FREQ=YEARLY;INTERVAL=1;BYDAY=-1SU;BYMONTH=10
END:STANDARD
END:VTIMEZONE
BEGIN:VEVENT
DTSTAMP:20260421T223222
DTSTART;TZID=Europe/Berlin:20261111T090000
DTEND;TZID=Europe/Berlin:20261111T121500
UID:EG404231H2-20261111T090000@VHSWETTERAU
SUMMARY:Kurs für gering Literalisierte (GeLi) (Modul 3) Integrationskurs am Vormittag (EG404231H2) 
LOCATION:FB Am Dachspfad 32A, R. 210, Am Dachspfad 32A, 61169 Friedberg
END:VEVENT
BEGIN:VEVENT
DTSTAMP:20260421T223222
DTSTART;TZID=Europe/Berlin:20261112T090000
DTEND;TZID=Europe/Berlin:20261112T121500
UID:EG404231H2-20261112T090000@VHSWETTERAU
SUMMARY:Kurs für gering Literalisierte (GeLi) (Modul 3) Integrationskurs am Vormittag (EG404231H2) 
LOCATION:FB Am Dachspfad 32A, R. 210, Am Dachspfad 32A, 61169 Friedberg
END:VEVENT
BEGIN:VEVENT
DTSTAMP:20260421T223222
DTSTART;TZID=Europe/Berlin:20261113T090000
DTEND;TZID=Europe/Berlin:20261113T121500
UID:EG404231H2-20261113T090000@VHSWETTERAU
SUMMARY:Kurs für gering Literalisierte (GeLi) (Modul 3) Integrationskurs am Vormittag (EG404231H2) 
LOCATION:FB Am Dachspfad 32A, R. 210, Am Dachspfad 32A, 61169 Friedberg
END:VEVENT
BEGIN:VEVENT
DTSTAMP:20260421T223222
DTSTART;TZID=Europe/Berlin:20261116T090000
DTEND;TZID=Europe/Berlin:20261116T121500
UID:EG404231H2-20261116T090000@VHSWETTERAU
SUMMARY:Kurs für gering Literalisierte (GeLi) (Modul 3) Integrationskurs am Vormittag (EG404231H2) 
LOCATION:FB Am Dachspfad 32A, R. 210, Am Dachspfad 32A, 61169 Friedberg
END:VEVENT
BEGIN:VEVENT
DTSTAMP:20260421T223222
DTSTART;TZID=Europe/Berlin:20261117T090000
DTEND;TZID=Europe/Berlin:20261117T121500
UID:EG404231H2-20261117T090000@VHSWETTERAU
SUMMARY:Kurs für gering Literalisierte (GeLi) (Modul 3) Integrationskurs am Vormittag (EG404231H2) 
LOCATION:FB Am Dachspfad 32A, R. 210, Am Dachspfad 32A, 61169 Friedberg
END:VEVENT
BEGIN:VEVENT
DTSTAMP:20260421T223222
DTSTART;TZID=Europe/Berlin:20261118T090000
DTEND;TZID=Europe/Berlin:20261118T121500
UID:EG404231H2-20261118T090000@VHSWETTERAU
SUMMARY:Kurs für gering Literalisierte (GeLi) (Modul 3) Integrationskurs am Vormittag (EG404231H2) 
LOCATION:FB Am Dachspfad 32A, R. 210, Am Dachspfad 32A, 61169 Friedberg
END:VEVENT
BEGIN:VEVENT
DTSTAMP:20260421T223222
DTSTART;TZID=Europe/Berlin:20261119T090000
DTEND;TZID=Europe/Berlin:20261119T121500
UID:EG404231H2-20261119T090000@VHSWETTERAU
SUMMARY:Kurs für gering Literalisierte (GeLi) (Modul 3) Integrationskurs am Vormittag (EG404231H2) 
LOCATION:FB Am Dachspfad 32A, R. 210, Am Dachspfad 32A, 61169 Friedberg
END:VEVENT
BEGIN:VEVENT
DTSTAMP:20260421T223222
DTSTART;TZID=Europe/Berlin:20261120T090000
DTEND;TZID=Europe/Berlin:20261120T121500
UID:EG404231H2-20261120T090000@VHSWETTERAU
SUMMARY:Kurs für gering Literalisierte (GeLi) (Modul 3) Integrationskurs am Vormittag (EG404231H2) 
LOCATION:FB Am Dachspfad 32A, R. 210, Am Dachspfad 32A, 61169 Friedberg
END:VEVENT
BEGIN:VEVENT
DTSTAMP:20260421T223222
DTSTART;TZID=Europe/Berlin:20261123T090000
DTEND;TZID=Europe/Berlin:20261123T121500
UID:EG404231H2-20261123T090000@VHSWETTERAU
SUMMARY:Kurs für gering Literalisierte (GeLi) (Modul 3) Integrationskurs am Vormittag (EG404231H2) 
LOCATION:FB Am Dachspfad 32A, R. 210, Am Dachspfad 32A, 61169 Friedberg
END:VEVENT
BEGIN:VEVENT
DTSTAMP:20260421T223222
DTSTART;TZID=Europe/Berlin:20261124T090000
DTEND;TZID=Europe/Berlin:20261124T121500
UID:EG404231H2-20261124T090000@VHSWETTERAU
SUMMARY:Kurs für gering Literalisierte (GeLi) (Modul 3) Integrationskurs am Vormittag (EG404231H2) 
LOCATION:FB Am Dachspfad 32A, R. 210, Am Dachspfad 32A, 61169 Friedberg
END:VEVENT
BEGIN:VEVENT
DTSTAMP:20260421T223222
DTSTART;TZID=Europe/Berlin:20261125T090000
DTEND;TZID=Europe/Berlin:20261125T121500
UID:EG404231H2-20261125T090000@VHSWETTERAU
SUMMARY:Kurs für gering Literalisierte (GeLi) (Modul 3) Integrationskurs am Vormittag (EG404231H2) 
LOCATION:FB Am Dachspfad 32A, R. 210, Am Dachspfad 32A, 61169 Friedberg
END:VEVENT
BEGIN:VEVENT
DTSTAMP:20260421T223222
DTSTART;TZID=Europe/Berlin:20261126T090000
DTEND;TZID=Europe/Berlin:20261126T121500
UID:EG404231H2-20261126T090000@VHSWETTERAU
SUMMARY:Kurs für gering Literalisierte (GeLi) (Modul 3) Integrationskurs am Vormittag (EG404231H2) 
LOCATION:FB Am Dachspfad 32A, R. 210, Am Dachspfad 32A, 61169 Friedberg
END:VEVENT
BEGIN:VEVENT
DTSTAMP:20260421T223222
DTSTART;TZID=Europe/Berlin:20261127T090000
DTEND;TZID=Europe/Berlin:20261127T121500
UID:EG404231H2-20261127T090000@VHSWETTERAU
SUMMARY:Kurs für gering Literalisierte (GeLi) (Modul 3) Integrationskurs am Vormittag (EG404231H2) 
LOCATION:FB Am Dachspfad 32A, R. 210, Am Dachspfad 32A, 61169 Friedberg
END:VEVENT
BEGIN:VEVENT
DTSTAMP:20260421T223222
DTSTART;TZID=Europe/Berlin:20261130T090000
DTEND;TZID=Europe/Berlin:20261130T121500
UID:EG404231H2-20261130T090000@VHSWETTERAU
SUMMARY:Kurs für gering Literalisierte (GeLi) (Modul 3) Integrationskurs am Vormittag (EG404231H2) 
LOCATION:FB Am Dachspfad 32A, R. 210, Am Dachspfad 32A, 61169 Friedberg
END:VEVENT
BEGIN:VEVENT
DTSTAMP:20260421T223222
DTSTART;TZID=Europe/Berlin:20261201T090000
DTEND;TZID=Europe/Berlin:20261201T121500
UID:EG404231H2-20261201T090000@VHSWETTERAU
SUMMARY:Kurs für gering Literalisierte (GeLi) (Modul 3) Integrationskurs am Vormittag (EG404231H2) 
LOCATION:FB Am Dachspfad 32A, R. 210, Am Dachspfad 32A, 61169 Friedberg
END:VEVENT
BEGIN:VEVENT
DTSTAMP:20260421T223222
DTSTART;TZID=Europe/Berlin:20261202T090000
DTEND;TZID=Europe/Berlin:20261202T121500
UID:EG404231H2-20261202T090000@VHSWETTERAU
SUMMARY:Kurs für gering Literalisierte (GeLi) (Modul 3) Integrationskurs am Vormittag (EG404231H2) 
LOCATION:FB Am Dachspfad 32A, R. 210, Am Dachspfad 32A, 61169 Friedberg
END:VEVENT
BEGIN:VEVENT
DTSTAMP:20260421T223222
DTSTART;TZID=Europe/Berlin:20261203T090000
DTEND;TZID=Europe/Berlin:20261203T121500
UID:EG404231H2-20261203T090000@VHSWETTERAU
SUMMARY:Kurs für gering Literalisierte (GeLi) (Modul 3) Integrationskurs am Vormittag (EG404231H2) 
LOCATION:FB Am Dachspfad 32A, R. 210, Am Dachspfad 32A, 61169 Friedberg
END:VEVENT
BEGIN:VEVENT
DTSTAMP:20260421T223222
DTSTART;TZID=Europe/Berlin:20261204T090000
DTEND;TZID=Europe/Berlin:20261204T121500
UID:EG404231H2-20261204T090000@VHSWETTERAU
SUMMARY:Kurs für gering Literalisierte (GeLi) (Modul 3) Integrationskurs am Vormittag (EG404231H2) 
LOCATION:FB Am Dachspfad 32A, R. 210, Am Dachspfad 32A, 61169 Friedberg
END:VEVENT
BEGIN:VEVENT
DTSTAMP:20260421T223222
DTSTART;TZID=Europe/Berlin:20261207T090000
DTEND;TZID=Europe/Berlin:20261207T121500
UID:EG404231H2-20261207T090000@VHSWETTERAU
SUMMARY:Kurs für gering Literalisierte (GeLi) (Modul 3) Integrationskurs am Vormittag (EG404231H2) 
LOCATION:FB Am Dachspfad 32A, R. 210, Am Dachspfad 32A, 61169 Friedberg
END:VEVENT
BEGIN:VEVENT
DTSTAMP:20260421T223222
DTSTART;TZID=Europe/Berlin:20261208T090000
DTEND;TZID=Europe/Berlin:20261208T121500
UID:EG404231H2-20261208T090000@VHSWETTERAU
SUMMARY:Kurs für gering Literalisierte (GeLi) (Modul 3) Integrationskurs am Vormittag (EG404231H2) 
LOCATION:FB Am Dachspfad 32A, R. 210, Am Dachspfad 32A, 61169 Friedberg
END:VEVENT
BEGIN:VEVENT
DTSTAMP:20260421T223222
DTSTART;TZID=Europe/Berlin:20261209T090000
DTEND;TZID=Europe/Berlin:20261209T121500
UID:EG404231H2-20261209T090000@VHSWETTERAU
SUMMARY:Kurs für gering Literalisierte (GeLi) (Modul 3) Integrationskurs am Vormittag (EG404231H2) 
LOCATION:FB Am Dachspfad 32A, R. 210, Am Dachspfad 32A, 61169 Friedberg
END:VEVENT
BEGIN:VEVENT
DTSTAMP:20260421T223222
DTSTART;TZID=Europe/Berlin:20261210T090000
DTEND;TZID=Europe/Berlin:20261210T121500
UID:EG404231H2-20261210T090000@VHSWETTERAU
SUMMARY:Kurs für gering Literalisierte (GeLi) (Modul 3) Integrationskurs am Vormittag (EG404231H2) 
LOCATION:FB Am Dachspfad 32A, R. 210, Am Dachspfad 32A, 61169 Friedberg
END:VEVENT
BEGIN:VEVENT
DTSTAMP:20260421T223222
DTSTART;TZID=Europe/Berlin:20261211T090000
DTEND;TZID=Europe/Berlin:20261211T121500
UID:EG404231H2-20261211T090000@VHSWETTERAU
SUMMARY:Kurs für gering Literalisierte (GeLi) (Modul 3) Integrationskurs am Vormittag (EG404231H2) 
LOCATION:FB Am Dachspfad 32A, R. 210, Am Dachspfad 32A, 61169 Friedberg
END:VEVENT
BEGIN:VEVENT
DTSTAMP:20260421T223222
DTSTART;TZID=Europe/Berlin:20261214T090000
DTEND;TZID=Europe/Berlin:20261214T121500
UID:EG404231H2-20261214T090000@VHSWETTERAU
SUMMARY:Kurs für gering Literalisierte (GeLi) (Modul 3) Integrationskurs am Vormittag (EG404231H2) 
LOCATION:FB Am Dachspfad 32A, R. 210, Am Dachspfad 32A, 61169 Friedberg
END:VEVENT
BEGIN:VEVENT
DTSTAMP:20260421T223222
DTSTART;TZID=Europe/Berlin:20261215T090000
DTEND;TZID=Europe/Berlin:20261215T121500
UID:EG404231H2-20261215T090000@VHSWETTERAU
SUMMARY:Kurs für gering Literalisierte (GeLi) (Modul 3) Integrationskurs am Vormittag (EG404231H2) 
LOCATION:FB Am Dachspfad 32A, R. 210, Am Dachspfad 32A, 61169 Friedberg
END:VEVENT
END:VCALENDAR