BEGIN:VCALENDAR
VERSION:2.0
PRODID:https://www.kufer.de/kuferweb / DE
METHOD:PUBLISH
CALSCALE:GREGORIAN
X-WR-TIMEZONE:Europe/Berlin
BEGIN:VTIMEZONE
TZID:Europe/Berlin
X-LIC-LOCATION:Europe/Berlin
BEGIN:DAYLIGHT
TZOFFSETFROM:+0100
TZOFFSETTO:+0200
TZNAME:CEST
DTSTART:19700329T020000
RRULE:FREQ=YEARLY;INTERVAL=1;BYDAY=-1SU;BYMONTH=3
END:DAYLIGHT
BEGIN:STANDARD
TZOFFSETFROM:+0200
TZOFFSETTO:+0100
TZNAME:CET
DTSTART:19701025T030000
RRULE:FREQ=YEARLY;INTERVAL=1;BYDAY=-1SU;BYMONTH=10
END:STANDARD
END:VTIMEZONE
BEGIN:VEVENT
DTSTAMP:20260422T013853
DTSTART;TZID=Europe/Berlin:20261126T083000
DTEND;TZID=Europe/Berlin:20261126T114500
UID:EG404231H4-20261126T083000@VHSWETTERAU
SUMMARY:Deutsch als Zweitsprache A2/1 (Modul 3)  Integrationskurs am Vormittag (EG404231H4) 
LOCATION:FB Am Dachspfad 32A, R. 201, Am Dachspfad 32A, 61169 Friedberg
END:VEVENT
BEGIN:VEVENT
DTSTAMP:20260422T013853
DTSTART;TZID=Europe/Berlin:20261127T083000
DTEND;TZID=Europe/Berlin:20261127T114500
UID:EG404231H4-20261127T083000@VHSWETTERAU
SUMMARY:Deutsch als Zweitsprache A2/1 (Modul 3)  Integrationskurs am Vormittag (EG404231H4) 
LOCATION:FB Am Dachspfad 32A, R. 201, Am Dachspfad 32A, 61169 Friedberg
END:VEVENT
BEGIN:VEVENT
DTSTAMP:20260422T013853
DTSTART;TZID=Europe/Berlin:20261130T083000
DTEND;TZID=Europe/Berlin:20261130T114500
UID:EG404231H4-20261130T083000@VHSWETTERAU
SUMMARY:Deutsch als Zweitsprache A2/1 (Modul 3)  Integrationskurs am Vormittag (EG404231H4) 
LOCATION:FB Am Dachspfad 32A, R. 201, Am Dachspfad 32A, 61169 Friedberg
END:VEVENT
BEGIN:VEVENT
DTSTAMP:20260422T013853
DTSTART;TZID=Europe/Berlin:20261201T083000
DTEND;TZID=Europe/Berlin:20261201T114500
UID:EG404231H4-20261201T083000@VHSWETTERAU
SUMMARY:Deutsch als Zweitsprache A2/1 (Modul 3)  Integrationskurs am Vormittag (EG404231H4) 
LOCATION:FB Am Dachspfad 32A, R. 201, Am Dachspfad 32A, 61169 Friedberg
END:VEVENT
BEGIN:VEVENT
DTSTAMP:20260422T013853
DTSTART;TZID=Europe/Berlin:20261202T083000
DTEND;TZID=Europe/Berlin:20261202T114500
UID:EG404231H4-20261202T083000@VHSWETTERAU
SUMMARY:Deutsch als Zweitsprache A2/1 (Modul 3)  Integrationskurs am Vormittag (EG404231H4) 
LOCATION:FB Am Dachspfad 32A, R. 201, Am Dachspfad 32A, 61169 Friedberg
END:VEVENT
BEGIN:VEVENT
DTSTAMP:20260422T013853
DTSTART;TZID=Europe/Berlin:20261203T083000
DTEND;TZID=Europe/Berlin:20261203T114500
UID:EG404231H4-20261203T083000@VHSWETTERAU
SUMMARY:Deutsch als Zweitsprache A2/1 (Modul 3)  Integrationskurs am Vormittag (EG404231H4) 
LOCATION:FB Am Dachspfad 32A, R. 201, Am Dachspfad 32A, 61169 Friedberg
END:VEVENT
BEGIN:VEVENT
DTSTAMP:20260422T013853
DTSTART;TZID=Europe/Berlin:20261204T083000
DTEND;TZID=Europe/Berlin:20261204T114500
UID:EG404231H4-20261204T083000@VHSWETTERAU
SUMMARY:Deutsch als Zweitsprache A2/1 (Modul 3)  Integrationskurs am Vormittag (EG404231H4) 
LOCATION:FB Am Dachspfad 32A, R. 201, Am Dachspfad 32A, 61169 Friedberg
END:VEVENT
BEGIN:VEVENT
DTSTAMP:20260422T013853
DTSTART;TZID=Europe/Berlin:20261207T083000
DTEND;TZID=Europe/Berlin:20261207T114500
UID:EG404231H4-20261207T083000@VHSWETTERAU
SUMMARY:Deutsch als Zweitsprache A2/1 (Modul 3)  Integrationskurs am Vormittag (EG404231H4) 
LOCATION:FB Am Dachspfad 32A, R. 201, Am Dachspfad 32A, 61169 Friedberg
END:VEVENT
BEGIN:VEVENT
DTSTAMP:20260422T013853
DTSTART;TZID=Europe/Berlin:20261208T083000
DTEND;TZID=Europe/Berlin:20261208T114500
UID:EG404231H4-20261208T083000@VHSWETTERAU
SUMMARY:Deutsch als Zweitsprache A2/1 (Modul 3)  Integrationskurs am Vormittag (EG404231H4) 
LOCATION:FB Am Dachspfad 32A, R. 201, Am Dachspfad 32A, 61169 Friedberg
END:VEVENT
BEGIN:VEVENT
DTSTAMP:20260422T013853
DTSTART;TZID=Europe/Berlin:20261209T083000
DTEND;TZID=Europe/Berlin:20261209T114500
UID:EG404231H4-20261209T083000@VHSWETTERAU
SUMMARY:Deutsch als Zweitsprache A2/1 (Modul 3)  Integrationskurs am Vormittag (EG404231H4) 
LOCATION:FB Am Dachspfad 32A, R. 201, Am Dachspfad 32A, 61169 Friedberg
END:VEVENT
BEGIN:VEVENT
DTSTAMP:20260422T013853
DTSTART;TZID=Europe/Berlin:20261210T083000
DTEND;TZID=Europe/Berlin:20261210T114500
UID:EG404231H4-20261210T083000@VHSWETTERAU
SUMMARY:Deutsch als Zweitsprache A2/1 (Modul 3)  Integrationskurs am Vormittag (EG404231H4) 
LOCATION:FB Am Dachspfad 32A, R. 201, Am Dachspfad 32A, 61169 Friedberg
END:VEVENT
BEGIN:VEVENT
DTSTAMP:20260422T013853
DTSTART;TZID=Europe/Berlin:20261211T083000
DTEND;TZID=Europe/Berlin:20261211T114500
UID:EG404231H4-20261211T083000@VHSWETTERAU
SUMMARY:Deutsch als Zweitsprache A2/1 (Modul 3)  Integrationskurs am Vormittag (EG404231H4) 
LOCATION:FB Am Dachspfad 32A, R. 201, Am Dachspfad 32A, 61169 Friedberg
END:VEVENT
BEGIN:VEVENT
DTSTAMP:20260422T013853
DTSTART;TZID=Europe/Berlin:20261214T083000
DTEND;TZID=Europe/Berlin:20261214T114500
UID:EG404231H4-20261214T083000@VHSWETTERAU
SUMMARY:Deutsch als Zweitsprache A2/1 (Modul 3)  Integrationskurs am Vormittag (EG404231H4) 
LOCATION:FB Am Dachspfad 32A, R. 201, Am Dachspfad 32A, 61169 Friedberg
END:VEVENT
BEGIN:VEVENT
DTSTAMP:20260422T013853
DTSTART;TZID=Europe/Berlin:20261215T083000
DTEND;TZID=Europe/Berlin:20261215T114500
UID:EG404231H4-20261215T083000@VHSWETTERAU
SUMMARY:Deutsch als Zweitsprache A2/1 (Modul 3)  Integrationskurs am Vormittag (EG404231H4) 
LOCATION:FB Am Dachspfad 32A, R. 201, Am Dachspfad 32A, 61169 Friedberg
END:VEVENT
BEGIN:VEVENT
DTSTAMP:20260422T013853
DTSTART;TZID=Europe/Berlin:20261216T083000
DTEND;TZID=Europe/Berlin:20261216T114500
UID:EG404231H4-20261216T083000@VHSWETTERAU
SUMMARY:Deutsch als Zweitsprache A2/1 (Modul 3)  Integrationskurs am Vormittag (EG404231H4) 
LOCATION:FB Am Dachspfad 32A, R. 201, Am Dachspfad 32A, 61169 Friedberg
END:VEVENT
BEGIN:VEVENT
DTSTAMP:20260422T013853
DTSTART;TZID=Europe/Berlin:20261217T083000
DTEND;TZID=Europe/Berlin:20261217T114500
UID:EG404231H4-20261217T083000@VHSWETTERAU
SUMMARY:Deutsch als Zweitsprache A2/1 (Modul 3)  Integrationskurs am Vormittag (EG404231H4) 
LOCATION:FB Am Dachspfad 32A, R. 201, Am Dachspfad 32A, 61169 Friedberg
END:VEVENT
BEGIN:VEVENT
DTSTAMP:20260422T013853
DTSTART;TZID=Europe/Berlin:20261218T083000
DTEND;TZID=Europe/Berlin:20261218T114500
UID:EG404231H4-20261218T083000@VHSWETTERAU
SUMMARY:Deutsch als Zweitsprache A2/1 (Modul 3)  Integrationskurs am Vormittag (EG404231H4) 
LOCATION:FB Am Dachspfad 32A, R. 201, Am Dachspfad 32A, 61169 Friedberg
END:VEVENT
BEGIN:VEVENT
DTSTAMP:20260422T013853
DTSTART;TZID=Europe/Berlin:20261221T083000
DTEND;TZID=Europe/Berlin:20261221T114500
UID:EG404231H4-20261221T083000@VHSWETTERAU
SUMMARY:Deutsch als Zweitsprache A2/1 (Modul 3)  Integrationskurs am Vormittag (EG404231H4) 
LOCATION:FB Am Dachspfad 32A, R. 201, Am Dachspfad 32A, 61169 Friedberg
END:VEVENT
BEGIN:VEVENT
DTSTAMP:20260422T013853
DTSTART;TZID=Europe/Berlin:20270113T083000
DTEND;TZID=Europe/Berlin:20270113T114500
UID:EG404231H4-20270113T083000@VHSWETTERAU
SUMMARY:Deutsch als Zweitsprache A2/1 (Modul 3)  Integrationskurs am Vormittag (EG404231H4) 
LOCATION:FB Am Dachspfad 32A, R. 201, Am Dachspfad 32A, 61169 Friedberg
END:VEVENT
BEGIN:VEVENT
DTSTAMP:20260422T013853
DTSTART;TZID=Europe/Berlin:20270114T083000
DTEND;TZID=Europe/Berlin:20270114T114500
UID:EG404231H4-20270114T083000@VHSWETTERAU
SUMMARY:Deutsch als Zweitsprache A2/1 (Modul 3)  Integrationskurs am Vormittag (EG404231H4) 
LOCATION:FB Am Dachspfad 32A, R. 201, Am Dachspfad 32A, 61169 Friedberg
END:VEVENT
BEGIN:VEVENT
DTSTAMP:20260422T013853
DTSTART;TZID=Europe/Berlin:20270115T083000
DTEND;TZID=Europe/Berlin:20270115T114500
UID:EG404231H4-20270115T083000@VHSWETTERAU
SUMMARY:Deutsch als Zweitsprache A2/1 (Modul 3)  Integrationskurs am Vormittag (EG404231H4) 
LOCATION:FB Am Dachspfad 32A, R. 201, Am Dachspfad 32A, 61169 Friedberg
END:VEVENT
BEGIN:VEVENT
DTSTAMP:20260422T013853
DTSTART;TZID=Europe/Berlin:20270118T083000
DTEND;TZID=Europe/Berlin:20270118T114500
UID:EG404231H4-20270118T083000@VHSWETTERAU
SUMMARY:Deutsch als Zweitsprache A2/1 (Modul 3)  Integrationskurs am Vormittag (EG404231H4) 
LOCATION:FB Am Dachspfad 32A, R. 201, Am Dachspfad 32A, 61169 Friedberg
END:VEVENT
BEGIN:VEVENT
DTSTAMP:20260422T013853
DTSTART;TZID=Europe/Berlin:20270119T083000
DTEND;TZID=Europe/Berlin:20270119T114500
UID:EG404231H4-20270119T083000@VHSWETTERAU
SUMMARY:Deutsch als Zweitsprache A2/1 (Modul 3)  Integrationskurs am Vormittag (EG404231H4) 
LOCATION:FB Am Dachspfad 32A, R. 201, Am Dachspfad 32A, 61169 Friedberg
END:VEVENT
BEGIN:VEVENT
DTSTAMP:20260422T013853
DTSTART;TZID=Europe/Berlin:20270120T083000
DTEND;TZID=Europe/Berlin:20270120T114500
UID:EG404231H4-20270120T083000@VHSWETTERAU
SUMMARY:Deutsch als Zweitsprache A2/1 (Modul 3)  Integrationskurs am Vormittag (EG404231H4) 
LOCATION:FB Am Dachspfad 32A, R. 201, Am Dachspfad 32A, 61169 Friedberg
END:VEVENT
BEGIN:VEVENT
DTSTAMP:20260422T013853
DTSTART;TZID=Europe/Berlin:20270121T083000
DTEND;TZID=Europe/Berlin:20270121T114500
UID:EG404231H4-20270121T083000@VHSWETTERAU
SUMMARY:Deutsch als Zweitsprache A2/1 (Modul 3)  Integrationskurs am Vormittag (EG404231H4) 
LOCATION:FB Am Dachspfad 32A, R. 201, Am Dachspfad 32A, 61169 Friedberg
END:VEVENT
END:VCALENDAR