BEGIN:VCALENDAR
VERSION:2.0
PRODID:https://www.kufer.de/kuferweb / DE
METHOD:PUBLISH
CALSCALE:GREGORIAN
X-WR-TIMEZONE:Europe/Berlin
BEGIN:VTIMEZONE
TZID:Europe/Berlin
X-LIC-LOCATION:Europe/Berlin
BEGIN:DAYLIGHT
TZOFFSETFROM:+0100
TZOFFSETTO:+0200
TZNAME:CEST
DTSTART:19700329T020000
RRULE:FREQ=YEARLY;INTERVAL=1;BYDAY=-1SU;BYMONTH=3
END:DAYLIGHT
BEGIN:STANDARD
TZOFFSETFROM:+0200
TZOFFSETTO:+0100
TZNAME:CET
DTSTART:19701025T030000
RRULE:FREQ=YEARLY;INTERVAL=1;BYDAY=-1SU;BYMONTH=10
END:STANDARD
END:VTIMEZONE
BEGIN:VEVENT
DTSTAMP:20260422T000204
DTSTART;TZID=Europe/Berlin:20260917T134500
DTEND;TZID=Europe/Berlin:20260917T170000
UID:EG404232H2-20260917T134500@VHSWETTERAU
SUMMARY:Deutsch als Zweitsprache A2/1 (Modul 3) Integrationskurs am Nachmittag (EG404232H2) 
LOCATION:FB Am Dachspfad 32A, R. 201, Am Dachspfad 32A, 61169 Friedberg
END:VEVENT
BEGIN:VEVENT
DTSTAMP:20260422T000204
DTSTART;TZID=Europe/Berlin:20260918T134500
DTEND;TZID=Europe/Berlin:20260918T170000
UID:EG404232H2-20260918T134500@VHSWETTERAU
SUMMARY:Deutsch als Zweitsprache A2/1 (Modul 3) Integrationskurs am Nachmittag (EG404232H2) 
LOCATION:FB Am Dachspfad 32A, R. 201, Am Dachspfad 32A, 61169 Friedberg
END:VEVENT
BEGIN:VEVENT
DTSTAMP:20260422T000204
DTSTART;TZID=Europe/Berlin:20260921T134500
DTEND;TZID=Europe/Berlin:20260921T170000
UID:EG404232H2-20260921T134500@VHSWETTERAU
SUMMARY:Deutsch als Zweitsprache A2/1 (Modul 3) Integrationskurs am Nachmittag (EG404232H2) 
LOCATION:FB Am Dachspfad 32A, R. 201, Am Dachspfad 32A, 61169 Friedberg
END:VEVENT
BEGIN:VEVENT
DTSTAMP:20260422T000204
DTSTART;TZID=Europe/Berlin:20260922T134500
DTEND;TZID=Europe/Berlin:20260922T170000
UID:EG404232H2-20260922T134500@VHSWETTERAU
SUMMARY:Deutsch als Zweitsprache A2/1 (Modul 3) Integrationskurs am Nachmittag (EG404232H2) 
LOCATION:FB Am Dachspfad 32A, R. 201, Am Dachspfad 32A, 61169 Friedberg
END:VEVENT
BEGIN:VEVENT
DTSTAMP:20260422T000204
DTSTART;TZID=Europe/Berlin:20260923T134500
DTEND;TZID=Europe/Berlin:20260923T170000
UID:EG404232H2-20260923T134500@VHSWETTERAU
SUMMARY:Deutsch als Zweitsprache A2/1 (Modul 3) Integrationskurs am Nachmittag (EG404232H2) 
LOCATION:FB Am Dachspfad 32A, R. 201, Am Dachspfad 32A, 61169 Friedberg
END:VEVENT
BEGIN:VEVENT
DTSTAMP:20260422T000204
DTSTART;TZID=Europe/Berlin:20260924T134500
DTEND;TZID=Europe/Berlin:20260924T170000
UID:EG404232H2-20260924T134500@VHSWETTERAU
SUMMARY:Deutsch als Zweitsprache A2/1 (Modul 3) Integrationskurs am Nachmittag (EG404232H2) 
LOCATION:FB Am Dachspfad 32A, R. 201, Am Dachspfad 32A, 61169 Friedberg
END:VEVENT
BEGIN:VEVENT
DTSTAMP:20260422T000204
DTSTART;TZID=Europe/Berlin:20260925T134500
DTEND;TZID=Europe/Berlin:20260925T170000
UID:EG404232H2-20260925T134500@VHSWETTERAU
SUMMARY:Deutsch als Zweitsprache A2/1 (Modul 3) Integrationskurs am Nachmittag (EG404232H2) 
LOCATION:FB Am Dachspfad 32A, R. 201, Am Dachspfad 32A, 61169 Friedberg
END:VEVENT
BEGIN:VEVENT
DTSTAMP:20260422T000204
DTSTART;TZID=Europe/Berlin:20260928T134500
DTEND;TZID=Europe/Berlin:20260928T170000
UID:EG404232H2-20260928T134500@VHSWETTERAU
SUMMARY:Deutsch als Zweitsprache A2/1 (Modul 3) Integrationskurs am Nachmittag (EG404232H2) 
LOCATION:FB Am Dachspfad 32A, R. 201, Am Dachspfad 32A, 61169 Friedberg
END:VEVENT
BEGIN:VEVENT
DTSTAMP:20260422T000204
DTSTART;TZID=Europe/Berlin:20260929T134500
DTEND;TZID=Europe/Berlin:20260929T170000
UID:EG404232H2-20260929T134500@VHSWETTERAU
SUMMARY:Deutsch als Zweitsprache A2/1 (Modul 3) Integrationskurs am Nachmittag (EG404232H2) 
LOCATION:FB Am Dachspfad 32A, R. 201, Am Dachspfad 32A, 61169 Friedberg
END:VEVENT
BEGIN:VEVENT
DTSTAMP:20260422T000204
DTSTART;TZID=Europe/Berlin:20260930T134500
DTEND;TZID=Europe/Berlin:20260930T170000
UID:EG404232H2-20260930T134500@VHSWETTERAU
SUMMARY:Deutsch als Zweitsprache A2/1 (Modul 3) Integrationskurs am Nachmittag (EG404232H2) 
LOCATION:FB Am Dachspfad 32A, R. 201, Am Dachspfad 32A, 61169 Friedberg
END:VEVENT
BEGIN:VEVENT
DTSTAMP:20260422T000204
DTSTART;TZID=Europe/Berlin:20261001T134500
DTEND;TZID=Europe/Berlin:20261001T170000
UID:EG404232H2-20261001T134500@VHSWETTERAU
SUMMARY:Deutsch als Zweitsprache A2/1 (Modul 3) Integrationskurs am Nachmittag (EG404232H2) 
LOCATION:FB Am Dachspfad 32A, R. 201, Am Dachspfad 32A, 61169 Friedberg
END:VEVENT
BEGIN:VEVENT
DTSTAMP:20260422T000204
DTSTART;TZID=Europe/Berlin:20261019T134500
DTEND;TZID=Europe/Berlin:20261019T170000
UID:EG404232H2-20261019T134500@VHSWETTERAU
SUMMARY:Deutsch als Zweitsprache A2/1 (Modul 3) Integrationskurs am Nachmittag (EG404232H2) 
LOCATION:FB Am Dachspfad 32A, R. 201, Am Dachspfad 32A, 61169 Friedberg
END:VEVENT
BEGIN:VEVENT
DTSTAMP:20260422T000204
DTSTART;TZID=Europe/Berlin:20261020T134500
DTEND;TZID=Europe/Berlin:20261020T170000
UID:EG404232H2-20261020T134500@VHSWETTERAU
SUMMARY:Deutsch als Zweitsprache A2/1 (Modul 3) Integrationskurs am Nachmittag (EG404232H2) 
LOCATION:FB Am Dachspfad 32A, R. 201, Am Dachspfad 32A, 61169 Friedberg
END:VEVENT
BEGIN:VEVENT
DTSTAMP:20260422T000204
DTSTART;TZID=Europe/Berlin:20261021T134500
DTEND;TZID=Europe/Berlin:20261021T170000
UID:EG404232H2-20261021T134500@VHSWETTERAU
SUMMARY:Deutsch als Zweitsprache A2/1 (Modul 3) Integrationskurs am Nachmittag (EG404232H2) 
LOCATION:FB Am Dachspfad 32A, R. 201, Am Dachspfad 32A, 61169 Friedberg
END:VEVENT
BEGIN:VEVENT
DTSTAMP:20260422T000204
DTSTART;TZID=Europe/Berlin:20261022T134500
DTEND;TZID=Europe/Berlin:20261022T170000
UID:EG404232H2-20261022T134500@VHSWETTERAU
SUMMARY:Deutsch als Zweitsprache A2/1 (Modul 3) Integrationskurs am Nachmittag (EG404232H2) 
LOCATION:FB Am Dachspfad 32A, R. 201, Am Dachspfad 32A, 61169 Friedberg
END:VEVENT
BEGIN:VEVENT
DTSTAMP:20260422T000204
DTSTART;TZID=Europe/Berlin:20261023T134500
DTEND;TZID=Europe/Berlin:20261023T170000
UID:EG404232H2-20261023T134500@VHSWETTERAU
SUMMARY:Deutsch als Zweitsprache A2/1 (Modul 3) Integrationskurs am Nachmittag (EG404232H2) 
LOCATION:FB Am Dachspfad 32A, R. 201, Am Dachspfad 32A, 61169 Friedberg
END:VEVENT
BEGIN:VEVENT
DTSTAMP:20260422T000204
DTSTART;TZID=Europe/Berlin:20261026T134500
DTEND;TZID=Europe/Berlin:20261026T170000
UID:EG404232H2-20261026T134500@VHSWETTERAU
SUMMARY:Deutsch als Zweitsprache A2/1 (Modul 3) Integrationskurs am Nachmittag (EG404232H2) 
LOCATION:FB Am Dachspfad 32A, R. 201, Am Dachspfad 32A, 61169 Friedberg
END:VEVENT
BEGIN:VEVENT
DTSTAMP:20260422T000204
DTSTART;TZID=Europe/Berlin:20261027T134500
DTEND;TZID=Europe/Berlin:20261027T170000
UID:EG404232H2-20261027T134500@VHSWETTERAU
SUMMARY:Deutsch als Zweitsprache A2/1 (Modul 3) Integrationskurs am Nachmittag (EG404232H2) 
LOCATION:FB Am Dachspfad 32A, R. 201, Am Dachspfad 32A, 61169 Friedberg
END:VEVENT
BEGIN:VEVENT
DTSTAMP:20260422T000204
DTSTART;TZID=Europe/Berlin:20261028T134500
DTEND;TZID=Europe/Berlin:20261028T170000
UID:EG404232H2-20261028T134500@VHSWETTERAU
SUMMARY:Deutsch als Zweitsprache A2/1 (Modul 3) Integrationskurs am Nachmittag (EG404232H2) 
LOCATION:FB Am Dachspfad 32A, R. 201, Am Dachspfad 32A, 61169 Friedberg
END:VEVENT
BEGIN:VEVENT
DTSTAMP:20260422T000204
DTSTART;TZID=Europe/Berlin:20261029T134500
DTEND;TZID=Europe/Berlin:20261029T170000
UID:EG404232H2-20261029T134500@VHSWETTERAU
SUMMARY:Deutsch als Zweitsprache A2/1 (Modul 3) Integrationskurs am Nachmittag (EG404232H2) 
LOCATION:FB Am Dachspfad 32A, R. 201, Am Dachspfad 32A, 61169 Friedberg
END:VEVENT
BEGIN:VEVENT
DTSTAMP:20260422T000204
DTSTART;TZID=Europe/Berlin:20261030T134500
DTEND;TZID=Europe/Berlin:20261030T170000
UID:EG404232H2-20261030T134500@VHSWETTERAU
SUMMARY:Deutsch als Zweitsprache A2/1 (Modul 3) Integrationskurs am Nachmittag (EG404232H2) 
LOCATION:FB Am Dachspfad 32A, R. 201, Am Dachspfad 32A, 61169 Friedberg
END:VEVENT
BEGIN:VEVENT
DTSTAMP:20260422T000204
DTSTART;TZID=Europe/Berlin:20261102T134500
DTEND;TZID=Europe/Berlin:20261102T170000
UID:EG404232H2-20261102T134500@VHSWETTERAU
SUMMARY:Deutsch als Zweitsprache A2/1 (Modul 3) Integrationskurs am Nachmittag (EG404232H2) 
LOCATION:FB Am Dachspfad 32A, R. 201, Am Dachspfad 32A, 61169 Friedberg
END:VEVENT
BEGIN:VEVENT
DTSTAMP:20260422T000204
DTSTART;TZID=Europe/Berlin:20261103T134500
DTEND;TZID=Europe/Berlin:20261103T170000
UID:EG404232H2-20261103T134500@VHSWETTERAU
SUMMARY:Deutsch als Zweitsprache A2/1 (Modul 3) Integrationskurs am Nachmittag (EG404232H2) 
LOCATION:FB Am Dachspfad 32A, R. 201, Am Dachspfad 32A, 61169 Friedberg
END:VEVENT
BEGIN:VEVENT
DTSTAMP:20260422T000204
DTSTART;TZID=Europe/Berlin:20261104T134500
DTEND;TZID=Europe/Berlin:20261104T170000
UID:EG404232H2-20261104T134500@VHSWETTERAU
SUMMARY:Deutsch als Zweitsprache A2/1 (Modul 3) Integrationskurs am Nachmittag (EG404232H2) 
LOCATION:FB Am Dachspfad 32A, R. 201, Am Dachspfad 32A, 61169 Friedberg
END:VEVENT
BEGIN:VEVENT
DTSTAMP:20260422T000204
DTSTART;TZID=Europe/Berlin:20261105T134500
DTEND;TZID=Europe/Berlin:20261105T170000
UID:EG404232H2-20261105T134500@VHSWETTERAU
SUMMARY:Deutsch als Zweitsprache A2/1 (Modul 3) Integrationskurs am Nachmittag (EG404232H2) 
LOCATION:FB Am Dachspfad 32A, R. 201, Am Dachspfad 32A, 61169 Friedberg
END:VEVENT
END:VCALENDAR