BEGIN:VCALENDAR
VERSION:2.0
PRODID:https://www.kufer.de/kuferweb / DE
METHOD:PUBLISH
CALSCALE:GREGORIAN
X-WR-TIMEZONE:Europe/Berlin
BEGIN:VTIMEZONE
TZID:Europe/Berlin
X-LIC-LOCATION:Europe/Berlin
BEGIN:DAYLIGHT
TZOFFSETFROM:+0100
TZOFFSETTO:+0200
TZNAME:CEST
DTSTART:19700329T020000
RRULE:FREQ=YEARLY;INTERVAL=1;BYDAY=-1SU;BYMONTH=3
END:DAYLIGHT
BEGIN:STANDARD
TZOFFSETFROM:+0200
TZOFFSETTO:+0100
TZNAME:CET
DTSTART:19701025T030000
RRULE:FREQ=YEARLY;INTERVAL=1;BYDAY=-1SU;BYMONTH=10
END:STANDARD
END:VTIMEZONE
BEGIN:VEVENT
DTSTAMP:20260422T000305
DTSTART;TZID=Europe/Berlin:20261130T140000
DTEND;TZID=Europe/Berlin:20261130T171000
UID:EG404232H5-20261130T140000@VHSWETTERAU
SUMMARY:Deutsch als Zweitsprache A2/1 (Modul 3) Integrationskurs am Nachmittag (EG404232H5) 
LOCATION:Fb vhs B210 (JPR), Friedensstr. 18, 61169 Friedberg
END:VEVENT
BEGIN:VEVENT
DTSTAMP:20260422T000305
DTSTART;TZID=Europe/Berlin:20261201T140000
DTEND;TZID=Europe/Berlin:20261201T171000
UID:EG404232H5-20261201T140000@VHSWETTERAU
SUMMARY:Deutsch als Zweitsprache A2/1 (Modul 3) Integrationskurs am Nachmittag (EG404232H5) 
LOCATION:Fb vhs B210 (JPR), Friedensstr. 18, 61169 Friedberg
END:VEVENT
BEGIN:VEVENT
DTSTAMP:20260422T000305
DTSTART;TZID=Europe/Berlin:20261202T140000
DTEND;TZID=Europe/Berlin:20261202T171000
UID:EG404232H5-20261202T140000@VHSWETTERAU
SUMMARY:Deutsch als Zweitsprache A2/1 (Modul 3) Integrationskurs am Nachmittag (EG404232H5) 
LOCATION:Fb vhs B210 (JPR), Friedensstr. 18, 61169 Friedberg
END:VEVENT
BEGIN:VEVENT
DTSTAMP:20260422T000305
DTSTART;TZID=Europe/Berlin:20261203T140000
DTEND;TZID=Europe/Berlin:20261203T171000
UID:EG404232H5-20261203T140000@VHSWETTERAU
SUMMARY:Deutsch als Zweitsprache A2/1 (Modul 3) Integrationskurs am Nachmittag (EG404232H5) 
LOCATION:Fb vhs B210 (JPR), Friedensstr. 18, 61169 Friedberg
END:VEVENT
BEGIN:VEVENT
DTSTAMP:20260422T000305
DTSTART;TZID=Europe/Berlin:20261204T140000
DTEND;TZID=Europe/Berlin:20261204T171000
UID:EG404232H5-20261204T140000@VHSWETTERAU
SUMMARY:Deutsch als Zweitsprache A2/1 (Modul 3) Integrationskurs am Nachmittag (EG404232H5) 
LOCATION:Fb vhs B210 (JPR), Friedensstr. 18, 61169 Friedberg
END:VEVENT
BEGIN:VEVENT
DTSTAMP:20260422T000305
DTSTART;TZID=Europe/Berlin:20261207T140000
DTEND;TZID=Europe/Berlin:20261207T171000
UID:EG404232H5-20261207T140000@VHSWETTERAU
SUMMARY:Deutsch als Zweitsprache A2/1 (Modul 3) Integrationskurs am Nachmittag (EG404232H5) 
LOCATION:Fb vhs B210 (JPR), Friedensstr. 18, 61169 Friedberg
END:VEVENT
BEGIN:VEVENT
DTSTAMP:20260422T000305
DTSTART;TZID=Europe/Berlin:20261208T140000
DTEND;TZID=Europe/Berlin:20261208T171000
UID:EG404232H5-20261208T140000@VHSWETTERAU
SUMMARY:Deutsch als Zweitsprache A2/1 (Modul 3) Integrationskurs am Nachmittag (EG404232H5) 
LOCATION:Fb vhs B210 (JPR), Friedensstr. 18, 61169 Friedberg
END:VEVENT
BEGIN:VEVENT
DTSTAMP:20260422T000305
DTSTART;TZID=Europe/Berlin:20261209T140000
DTEND;TZID=Europe/Berlin:20261209T171000
UID:EG404232H5-20261209T140000@VHSWETTERAU
SUMMARY:Deutsch als Zweitsprache A2/1 (Modul 3) Integrationskurs am Nachmittag (EG404232H5) 
LOCATION:Fb vhs B210 (JPR), Friedensstr. 18, 61169 Friedberg
END:VEVENT
BEGIN:VEVENT
DTSTAMP:20260422T000305
DTSTART;TZID=Europe/Berlin:20261210T140000
DTEND;TZID=Europe/Berlin:20261210T171000
UID:EG404232H5-20261210T140000@VHSWETTERAU
SUMMARY:Deutsch als Zweitsprache A2/1 (Modul 3) Integrationskurs am Nachmittag (EG404232H5) 
LOCATION:Fb vhs B210 (JPR), Friedensstr. 18, 61169 Friedberg
END:VEVENT
BEGIN:VEVENT
DTSTAMP:20260422T000305
DTSTART;TZID=Europe/Berlin:20261211T140000
DTEND;TZID=Europe/Berlin:20261211T171000
UID:EG404232H5-20261211T140000@VHSWETTERAU
SUMMARY:Deutsch als Zweitsprache A2/1 (Modul 3) Integrationskurs am Nachmittag (EG404232H5) 
LOCATION:Fb vhs B210 (JPR), Friedensstr. 18, 61169 Friedberg
END:VEVENT
BEGIN:VEVENT
DTSTAMP:20260422T000305
DTSTART;TZID=Europe/Berlin:20261214T140000
DTEND;TZID=Europe/Berlin:20261214T171000
UID:EG404232H5-20261214T140000@VHSWETTERAU
SUMMARY:Deutsch als Zweitsprache A2/1 (Modul 3) Integrationskurs am Nachmittag (EG404232H5) 
LOCATION:Fb vhs B210 (JPR), Friedensstr. 18, 61169 Friedberg
END:VEVENT
BEGIN:VEVENT
DTSTAMP:20260422T000305
DTSTART;TZID=Europe/Berlin:20261215T140000
DTEND;TZID=Europe/Berlin:20261215T171000
UID:EG404232H5-20261215T140000@VHSWETTERAU
SUMMARY:Deutsch als Zweitsprache A2/1 (Modul 3) Integrationskurs am Nachmittag (EG404232H5) 
LOCATION:Fb vhs B210 (JPR), Friedensstr. 18, 61169 Friedberg
END:VEVENT
BEGIN:VEVENT
DTSTAMP:20260422T000305
DTSTART;TZID=Europe/Berlin:20261216T140000
DTEND;TZID=Europe/Berlin:20261216T171000
UID:EG404232H5-20261216T140000@VHSWETTERAU
SUMMARY:Deutsch als Zweitsprache A2/1 (Modul 3) Integrationskurs am Nachmittag (EG404232H5) 
LOCATION:Fb vhs B210 (JPR), Friedensstr. 18, 61169 Friedberg
END:VEVENT
BEGIN:VEVENT
DTSTAMP:20260422T000305
DTSTART;TZID=Europe/Berlin:20261217T140000
DTEND;TZID=Europe/Berlin:20261217T171000
UID:EG404232H5-20261217T140000@VHSWETTERAU
SUMMARY:Deutsch als Zweitsprache A2/1 (Modul 3) Integrationskurs am Nachmittag (EG404232H5) 
LOCATION:Fb vhs B210 (JPR), Friedensstr. 18, 61169 Friedberg
END:VEVENT
BEGIN:VEVENT
DTSTAMP:20260422T000305
DTSTART;TZID=Europe/Berlin:20261218T140000
DTEND;TZID=Europe/Berlin:20261218T171000
UID:EG404232H5-20261218T140000@VHSWETTERAU
SUMMARY:Deutsch als Zweitsprache A2/1 (Modul 3) Integrationskurs am Nachmittag (EG404232H5) 
LOCATION:Fb vhs B210 (JPR), Friedensstr. 18, 61169 Friedberg
END:VEVENT
BEGIN:VEVENT
DTSTAMP:20260422T000305
DTSTART;TZID=Europe/Berlin:20270113T140000
DTEND;TZID=Europe/Berlin:20270113T171000
UID:EG404232H5-20270113T140000@VHSWETTERAU
SUMMARY:Deutsch als Zweitsprache A2/1 (Modul 3) Integrationskurs am Nachmittag (EG404232H5) 
LOCATION:Fb vhs B210 (JPR), Friedensstr. 18, 61169 Friedberg
END:VEVENT
BEGIN:VEVENT
DTSTAMP:20260422T000305
DTSTART;TZID=Europe/Berlin:20270114T140000
DTEND;TZID=Europe/Berlin:20270114T171000
UID:EG404232H5-20270114T140000@VHSWETTERAU
SUMMARY:Deutsch als Zweitsprache A2/1 (Modul 3) Integrationskurs am Nachmittag (EG404232H5) 
LOCATION:Fb vhs B210 (JPR), Friedensstr. 18, 61169 Friedberg
END:VEVENT
BEGIN:VEVENT
DTSTAMP:20260422T000305
DTSTART;TZID=Europe/Berlin:20270115T140000
DTEND;TZID=Europe/Berlin:20270115T171000
UID:EG404232H5-20270115T140000@VHSWETTERAU
SUMMARY:Deutsch als Zweitsprache A2/1 (Modul 3) Integrationskurs am Nachmittag (EG404232H5) 
LOCATION:Fb vhs B210 (JPR), Friedensstr. 18, 61169 Friedberg
END:VEVENT
BEGIN:VEVENT
DTSTAMP:20260422T000305
DTSTART;TZID=Europe/Berlin:20270118T140000
DTEND;TZID=Europe/Berlin:20270118T171000
UID:EG404232H5-20270118T140000@VHSWETTERAU
SUMMARY:Deutsch als Zweitsprache A2/1 (Modul 3) Integrationskurs am Nachmittag (EG404232H5) 
LOCATION:Fb vhs B210 (JPR), Friedensstr. 18, 61169 Friedberg
END:VEVENT
BEGIN:VEVENT
DTSTAMP:20260422T000305
DTSTART;TZID=Europe/Berlin:20270119T140000
DTEND;TZID=Europe/Berlin:20270119T171000
UID:EG404232H5-20270119T140000@VHSWETTERAU
SUMMARY:Deutsch als Zweitsprache A2/1 (Modul 3) Integrationskurs am Nachmittag (EG404232H5) 
LOCATION:Fb vhs B210 (JPR), Friedensstr. 18, 61169 Friedberg
END:VEVENT
BEGIN:VEVENT
DTSTAMP:20260422T000305
DTSTART;TZID=Europe/Berlin:20270120T140000
DTEND;TZID=Europe/Berlin:20270120T171000
UID:EG404232H5-20270120T140000@VHSWETTERAU
SUMMARY:Deutsch als Zweitsprache A2/1 (Modul 3) Integrationskurs am Nachmittag (EG404232H5) 
LOCATION:Fb vhs B210 (JPR), Friedensstr. 18, 61169 Friedberg
END:VEVENT
BEGIN:VEVENT
DTSTAMP:20260422T000305
DTSTART;TZID=Europe/Berlin:20270121T140000
DTEND;TZID=Europe/Berlin:20270121T171000
UID:EG404232H5-20270121T140000@VHSWETTERAU
SUMMARY:Deutsch als Zweitsprache A2/1 (Modul 3) Integrationskurs am Nachmittag (EG404232H5) 
LOCATION:Fb vhs B210 (JPR), Friedensstr. 18, 61169 Friedberg
END:VEVENT
BEGIN:VEVENT
DTSTAMP:20260422T000305
DTSTART;TZID=Europe/Berlin:20270122T140000
DTEND;TZID=Europe/Berlin:20270122T171000
UID:EG404232H5-20270122T140000@VHSWETTERAU
SUMMARY:Deutsch als Zweitsprache A2/1 (Modul 3) Integrationskurs am Nachmittag (EG404232H5) 
LOCATION:Fb vhs B210 (JPR), Friedensstr. 18, 61169 Friedberg
END:VEVENT
BEGIN:VEVENT
DTSTAMP:20260422T000305
DTSTART;TZID=Europe/Berlin:20270125T140000
DTEND;TZID=Europe/Berlin:20270125T171000
UID:EG404232H5-20270125T140000@VHSWETTERAU
SUMMARY:Deutsch als Zweitsprache A2/1 (Modul 3) Integrationskurs am Nachmittag (EG404232H5) 
LOCATION:Fb vhs B210 (JPR), Friedensstr. 18, 61169 Friedberg
END:VEVENT
BEGIN:VEVENT
DTSTAMP:20260422T000305
DTSTART;TZID=Europe/Berlin:20270126T140000
DTEND;TZID=Europe/Berlin:20270126T171000
UID:EG404232H5-20270126T140000@VHSWETTERAU
SUMMARY:Deutsch als Zweitsprache A2/1 (Modul 3) Integrationskurs am Nachmittag (EG404232H5) 
LOCATION:Fb vhs B210 (JPR), Friedensstr. 18, 61169 Friedberg
END:VEVENT
END:VCALENDAR