BEGIN:VCALENDAR
VERSION:2.0
PRODID:https://www.kufer.de/kuferweb / DE
METHOD:PUBLISH
CALSCALE:GREGORIAN
X-WR-TIMEZONE:Europe/Berlin
BEGIN:VTIMEZONE
TZID:Europe/Berlin
X-LIC-LOCATION:Europe/Berlin
BEGIN:DAYLIGHT
TZOFFSETFROM:+0100
TZOFFSETTO:+0200
TZNAME:CEST
DTSTART:19700329T020000
RRULE:FREQ=YEARLY;INTERVAL=1;BYDAY=-1SU;BYMONTH=3
END:DAYLIGHT
BEGIN:STANDARD
TZOFFSETFROM:+0200
TZOFFSETTO:+0100
TZNAME:CET
DTSTART:19701025T030000
RRULE:FREQ=YEARLY;INTERVAL=1;BYDAY=-1SU;BYMONTH=10
END:STANDARD
END:VTIMEZONE
BEGIN:VEVENT
DTSTAMP:20260422T000155
DTSTART;TZID=Europe/Berlin:20260930T180000
DTEND;TZID=Europe/Berlin:20260930T211500
UID:EG404233C2-20260930T180000@VHSWETTERAU
SUMMARY:Deutsch als Zweitsprache A2/1 (Modul 3) Integrationskurs am Abend (EG404233C2) 
LOCATION:BV BFW G.-Büchner-Gym., R. K211, Außenstelle, Huizener Straße 60, 61118 Bad Vilbel
END:VEVENT
BEGIN:VEVENT
DTSTAMP:20260422T000155
DTSTART;TZID=Europe/Berlin:20261001T180000
DTEND;TZID=Europe/Berlin:20261001T211500
UID:EG404233C2-20261001T180000@VHSWETTERAU
SUMMARY:Deutsch als Zweitsprache A2/1 (Modul 3) Integrationskurs am Abend (EG404233C2) 
LOCATION:BV BFW G.-Büchner-Gym., R. K211, Außenstelle, Huizener Straße 60, 61118 Bad Vilbel
END:VEVENT
BEGIN:VEVENT
DTSTAMP:20260422T000155
DTSTART;TZID=Europe/Berlin:20261012T180000
DTEND;TZID=Europe/Berlin:20261012T211500
UID:EG404233C2-20261012T180000@VHSWETTERAU
SUMMARY:Deutsch als Zweitsprache A2/1 (Modul 3) Integrationskurs am Abend (EG404233C2) 
LOCATION:BV BFW G.-Büchner-Gym., R. K211, Außenstelle, Huizener Straße 60, 61118 Bad Vilbel
END:VEVENT
BEGIN:VEVENT
DTSTAMP:20260422T000155
DTSTART;TZID=Europe/Berlin:20261013T180000
DTEND;TZID=Europe/Berlin:20261013T211500
UID:EG404233C2-20261013T180000@VHSWETTERAU
SUMMARY:Deutsch als Zweitsprache A2/1 (Modul 3) Integrationskurs am Abend (EG404233C2) 
LOCATION:BV BFW G.-Büchner-Gym., R. K211, Außenstelle, Huizener Straße 60, 61118 Bad Vilbel
END:VEVENT
BEGIN:VEVENT
DTSTAMP:20260422T000155
DTSTART;TZID=Europe/Berlin:20261014T180000
DTEND;TZID=Europe/Berlin:20261014T211500
UID:EG404233C2-20261014T180000@VHSWETTERAU
SUMMARY:Deutsch als Zweitsprache A2/1 (Modul 3) Integrationskurs am Abend (EG404233C2) 
LOCATION:BV BFW G.-Büchner-Gym., R. K211, Außenstelle, Huizener Straße 60, 61118 Bad Vilbel
END:VEVENT
BEGIN:VEVENT
DTSTAMP:20260422T000155
DTSTART;TZID=Europe/Berlin:20261015T180000
DTEND;TZID=Europe/Berlin:20261015T211500
UID:EG404233C2-20261015T180000@VHSWETTERAU
SUMMARY:Deutsch als Zweitsprache A2/1 (Modul 3) Integrationskurs am Abend (EG404233C2) 
LOCATION:BV BFW G.-Büchner-Gym., R. K211, Außenstelle, Huizener Straße 60, 61118 Bad Vilbel
END:VEVENT
BEGIN:VEVENT
DTSTAMP:20260422T000155
DTSTART;TZID=Europe/Berlin:20261019T180000
DTEND;TZID=Europe/Berlin:20261019T211500
UID:EG404233C2-20261019T180000@VHSWETTERAU
SUMMARY:Deutsch als Zweitsprache A2/1 (Modul 3) Integrationskurs am Abend (EG404233C2) 
LOCATION:BV BFW G.-Büchner-Gym., R. K211, Außenstelle, Huizener Straße 60, 61118 Bad Vilbel
END:VEVENT
BEGIN:VEVENT
DTSTAMP:20260422T000155
DTSTART;TZID=Europe/Berlin:20261020T180000
DTEND;TZID=Europe/Berlin:20261020T211500
UID:EG404233C2-20261020T180000@VHSWETTERAU
SUMMARY:Deutsch als Zweitsprache A2/1 (Modul 3) Integrationskurs am Abend (EG404233C2) 
LOCATION:BV BFW G.-Büchner-Gym., R. K211, Außenstelle, Huizener Straße 60, 61118 Bad Vilbel
END:VEVENT
BEGIN:VEVENT
DTSTAMP:20260422T000155
DTSTART;TZID=Europe/Berlin:20261021T180000
DTEND;TZID=Europe/Berlin:20261021T211500
UID:EG404233C2-20261021T180000@VHSWETTERAU
SUMMARY:Deutsch als Zweitsprache A2/1 (Modul 3) Integrationskurs am Abend (EG404233C2) 
LOCATION:BV BFW G.-Büchner-Gym., R. K211, Außenstelle, Huizener Straße 60, 61118 Bad Vilbel
END:VEVENT
BEGIN:VEVENT
DTSTAMP:20260422T000155
DTSTART;TZID=Europe/Berlin:20261022T180000
DTEND;TZID=Europe/Berlin:20261022T211500
UID:EG404233C2-20261022T180000@VHSWETTERAU
SUMMARY:Deutsch als Zweitsprache A2/1 (Modul 3) Integrationskurs am Abend (EG404233C2) 
LOCATION:BV BFW G.-Büchner-Gym., R. K211, Außenstelle, Huizener Straße 60, 61118 Bad Vilbel
END:VEVENT
BEGIN:VEVENT
DTSTAMP:20260422T000155
DTSTART;TZID=Europe/Berlin:20261026T180000
DTEND;TZID=Europe/Berlin:20261026T211500
UID:EG404233C2-20261026T180000@VHSWETTERAU
SUMMARY:Deutsch als Zweitsprache A2/1 (Modul 3) Integrationskurs am Abend (EG404233C2) 
LOCATION:BV BFW G.-Büchner-Gym., R. K211, Außenstelle, Huizener Straße 60, 61118 Bad Vilbel
END:VEVENT
BEGIN:VEVENT
DTSTAMP:20260422T000155
DTSTART;TZID=Europe/Berlin:20261027T180000
DTEND;TZID=Europe/Berlin:20261027T211500
UID:EG404233C2-20261027T180000@VHSWETTERAU
SUMMARY:Deutsch als Zweitsprache A2/1 (Modul 3) Integrationskurs am Abend (EG404233C2) 
LOCATION:BV BFW G.-Büchner-Gym., R. K211, Außenstelle, Huizener Straße 60, 61118 Bad Vilbel
END:VEVENT
BEGIN:VEVENT
DTSTAMP:20260422T000155
DTSTART;TZID=Europe/Berlin:20261028T180000
DTEND;TZID=Europe/Berlin:20261028T211500
UID:EG404233C2-20261028T180000@VHSWETTERAU
SUMMARY:Deutsch als Zweitsprache A2/1 (Modul 3) Integrationskurs am Abend (EG404233C2) 
LOCATION:BV BFW G.-Büchner-Gym., R. K211, Außenstelle, Huizener Straße 60, 61118 Bad Vilbel
END:VEVENT
BEGIN:VEVENT
DTSTAMP:20260422T000155
DTSTART;TZID=Europe/Berlin:20261029T180000
DTEND;TZID=Europe/Berlin:20261029T211500
UID:EG404233C2-20261029T180000@VHSWETTERAU
SUMMARY:Deutsch als Zweitsprache A2/1 (Modul 3) Integrationskurs am Abend (EG404233C2) 
LOCATION:BV BFW G.-Büchner-Gym., R. K211, Außenstelle, Huizener Straße 60, 61118 Bad Vilbel
END:VEVENT
BEGIN:VEVENT
DTSTAMP:20260422T000155
DTSTART;TZID=Europe/Berlin:20261102T180000
DTEND;TZID=Europe/Berlin:20261102T211500
UID:EG404233C2-20261102T180000@VHSWETTERAU
SUMMARY:Deutsch als Zweitsprache A2/1 (Modul 3) Integrationskurs am Abend (EG404233C2) 
LOCATION:BV BFW G.-Büchner-Gym., R. K211, Außenstelle, Huizener Straße 60, 61118 Bad Vilbel
END:VEVENT
BEGIN:VEVENT
DTSTAMP:20260422T000155
DTSTART;TZID=Europe/Berlin:20261103T180000
DTEND;TZID=Europe/Berlin:20261103T211500
UID:EG404233C2-20261103T180000@VHSWETTERAU
SUMMARY:Deutsch als Zweitsprache A2/1 (Modul 3) Integrationskurs am Abend (EG404233C2) 
LOCATION:BV BFW G.-Büchner-Gym., R. K211, Außenstelle, Huizener Straße 60, 61118 Bad Vilbel
END:VEVENT
BEGIN:VEVENT
DTSTAMP:20260422T000155
DTSTART;TZID=Europe/Berlin:20261104T180000
DTEND;TZID=Europe/Berlin:20261104T211500
UID:EG404233C2-20261104T180000@VHSWETTERAU
SUMMARY:Deutsch als Zweitsprache A2/1 (Modul 3) Integrationskurs am Abend (EG404233C2) 
LOCATION:BV BFW G.-Büchner-Gym., R. K211, Außenstelle, Huizener Straße 60, 61118 Bad Vilbel
END:VEVENT
BEGIN:VEVENT
DTSTAMP:20260422T000155
DTSTART;TZID=Europe/Berlin:20261105T180000
DTEND;TZID=Europe/Berlin:20261105T211500
UID:EG404233C2-20261105T180000@VHSWETTERAU
SUMMARY:Deutsch als Zweitsprache A2/1 (Modul 3) Integrationskurs am Abend (EG404233C2) 
LOCATION:BV BFW G.-Büchner-Gym., R. K211, Außenstelle, Huizener Straße 60, 61118 Bad Vilbel
END:VEVENT
BEGIN:VEVENT
DTSTAMP:20260422T000155
DTSTART;TZID=Europe/Berlin:20261109T180000
DTEND;TZID=Europe/Berlin:20261109T211500
UID:EG404233C2-20261109T180000@VHSWETTERAU
SUMMARY:Deutsch als Zweitsprache A2/1 (Modul 3) Integrationskurs am Abend (EG404233C2) 
LOCATION:BV BFW G.-Büchner-Gym., R. K211, Außenstelle, Huizener Straße 60, 61118 Bad Vilbel
END:VEVENT
BEGIN:VEVENT
DTSTAMP:20260422T000155
DTSTART;TZID=Europe/Berlin:20261110T180000
DTEND;TZID=Europe/Berlin:20261110T211500
UID:EG404233C2-20261110T180000@VHSWETTERAU
SUMMARY:Deutsch als Zweitsprache A2/1 (Modul 3) Integrationskurs am Abend (EG404233C2) 
LOCATION:BV BFW G.-Büchner-Gym., R. K211, Außenstelle, Huizener Straße 60, 61118 Bad Vilbel
END:VEVENT
BEGIN:VEVENT
DTSTAMP:20260422T000155
DTSTART;TZID=Europe/Berlin:20261111T180000
DTEND;TZID=Europe/Berlin:20261111T211500
UID:EG404233C2-20261111T180000@VHSWETTERAU
SUMMARY:Deutsch als Zweitsprache A2/1 (Modul 3) Integrationskurs am Abend (EG404233C2) 
LOCATION:BV BFW G.-Büchner-Gym., R. K211, Außenstelle, Huizener Straße 60, 61118 Bad Vilbel
END:VEVENT
BEGIN:VEVENT
DTSTAMP:20260422T000155
DTSTART;TZID=Europe/Berlin:20261112T180000
DTEND;TZID=Europe/Berlin:20261112T211500
UID:EG404233C2-20261112T180000@VHSWETTERAU
SUMMARY:Deutsch als Zweitsprache A2/1 (Modul 3) Integrationskurs am Abend (EG404233C2) 
LOCATION:BV BFW G.-Büchner-Gym., R. K211, Außenstelle, Huizener Straße 60, 61118 Bad Vilbel
END:VEVENT
BEGIN:VEVENT
DTSTAMP:20260422T000155
DTSTART;TZID=Europe/Berlin:20261116T180000
DTEND;TZID=Europe/Berlin:20261116T211500
UID:EG404233C2-20261116T180000@VHSWETTERAU
SUMMARY:Deutsch als Zweitsprache A2/1 (Modul 3) Integrationskurs am Abend (EG404233C2) 
LOCATION:BV BFW G.-Büchner-Gym., R. K211, Außenstelle, Huizener Straße 60, 61118 Bad Vilbel
END:VEVENT
BEGIN:VEVENT
DTSTAMP:20260422T000155
DTSTART;TZID=Europe/Berlin:20261117T180000
DTEND;TZID=Europe/Berlin:20261117T211500
UID:EG404233C2-20261117T180000@VHSWETTERAU
SUMMARY:Deutsch als Zweitsprache A2/1 (Modul 3) Integrationskurs am Abend (EG404233C2) 
LOCATION:BV BFW G.-Büchner-Gym., R. K211, Außenstelle, Huizener Straße 60, 61118 Bad Vilbel
END:VEVENT
BEGIN:VEVENT
DTSTAMP:20260422T000155
DTSTART;TZID=Europe/Berlin:20261118T180000
DTEND;TZID=Europe/Berlin:20261118T211500
UID:EG404233C2-20261118T180000@VHSWETTERAU
SUMMARY:Deutsch als Zweitsprache A2/1 (Modul 3) Integrationskurs am Abend (EG404233C2) 
LOCATION:BV BFW G.-Büchner-Gym., R. K211, Außenstelle, Huizener Straße 60, 61118 Bad Vilbel
END:VEVENT
END:VCALENDAR