BEGIN:VCALENDAR
VERSION:2.0
PRODID:https://www.kufer.de/kuferweb / DE
METHOD:PUBLISH
CALSCALE:GREGORIAN
X-WR-TIMEZONE:Europe/Berlin
BEGIN:VTIMEZONE
TZID:Europe/Berlin
X-LIC-LOCATION:Europe/Berlin
BEGIN:DAYLIGHT
TZOFFSETFROM:+0100
TZOFFSETTO:+0200
TZNAME:CEST
DTSTART:19700329T020000
RRULE:FREQ=YEARLY;INTERVAL=1;BYDAY=-1SU;BYMONTH=3
END:DAYLIGHT
BEGIN:STANDARD
TZOFFSETFROM:+0200
TZOFFSETTO:+0100
TZNAME:CET
DTSTART:19701025T030000
RRULE:FREQ=YEARLY;INTERVAL=1;BYDAY=-1SU;BYMONTH=10
END:STANDARD
END:VTIMEZONE
BEGIN:VEVENT
DTSTAMP:20260421T223208
DTSTART;TZID=Europe/Berlin:20261102T090000
DTEND;TZID=Europe/Berlin:20261102T121500
UID:EG404241D4-20261102T090000@VHSWETTERAU
SUMMARY:Deutsch als Zweitsprache A2/2 (Modul 4) Integrationskurs am Vormittag (EG404241D4) 
LOCATION:Büd Armstrong Kaserne, R. 110, Orleshäuser Str. 24, 63654 Büdingen
END:VEVENT
BEGIN:VEVENT
DTSTAMP:20260421T223208
DTSTART;TZID=Europe/Berlin:20261103T090000
DTEND;TZID=Europe/Berlin:20261103T121500
UID:EG404241D4-20261103T090000@VHSWETTERAU
SUMMARY:Deutsch als Zweitsprache A2/2 (Modul 4) Integrationskurs am Vormittag (EG404241D4) 
LOCATION:Büd Armstrong Kaserne, R. 110, Orleshäuser Str. 24, 63654 Büdingen
END:VEVENT
BEGIN:VEVENT
DTSTAMP:20260421T223208
DTSTART;TZID=Europe/Berlin:20261104T090000
DTEND;TZID=Europe/Berlin:20261104T121500
UID:EG404241D4-20261104T090000@VHSWETTERAU
SUMMARY:Deutsch als Zweitsprache A2/2 (Modul 4) Integrationskurs am Vormittag (EG404241D4) 
LOCATION:Büd Armstrong Kaserne, R. 110, Orleshäuser Str. 24, 63654 Büdingen
END:VEVENT
BEGIN:VEVENT
DTSTAMP:20260421T223208
DTSTART;TZID=Europe/Berlin:20261105T090000
DTEND;TZID=Europe/Berlin:20261105T121500
UID:EG404241D4-20261105T090000@VHSWETTERAU
SUMMARY:Deutsch als Zweitsprache A2/2 (Modul 4) Integrationskurs am Vormittag (EG404241D4) 
LOCATION:Büd Armstrong Kaserne, R. 110, Orleshäuser Str. 24, 63654 Büdingen
END:VEVENT
BEGIN:VEVENT
DTSTAMP:20260421T223208
DTSTART;TZID=Europe/Berlin:20261106T090000
DTEND;TZID=Europe/Berlin:20261106T121500
UID:EG404241D4-20261106T090000@VHSWETTERAU
SUMMARY:Deutsch als Zweitsprache A2/2 (Modul 4) Integrationskurs am Vormittag (EG404241D4) 
LOCATION:Büd Armstrong Kaserne, R. 110, Orleshäuser Str. 24, 63654 Büdingen
END:VEVENT
BEGIN:VEVENT
DTSTAMP:20260421T223208
DTSTART;TZID=Europe/Berlin:20261109T090000
DTEND;TZID=Europe/Berlin:20261109T121500
UID:EG404241D4-20261109T090000@VHSWETTERAU
SUMMARY:Deutsch als Zweitsprache A2/2 (Modul 4) Integrationskurs am Vormittag (EG404241D4) 
LOCATION:Büd Armstrong Kaserne, R. 110, Orleshäuser Str. 24, 63654 Büdingen
END:VEVENT
BEGIN:VEVENT
DTSTAMP:20260421T223208
DTSTART;TZID=Europe/Berlin:20261110T090000
DTEND;TZID=Europe/Berlin:20261110T121500
UID:EG404241D4-20261110T090000@VHSWETTERAU
SUMMARY:Deutsch als Zweitsprache A2/2 (Modul 4) Integrationskurs am Vormittag (EG404241D4) 
LOCATION:Büd Armstrong Kaserne, R. 110, Orleshäuser Str. 24, 63654 Büdingen
END:VEVENT
BEGIN:VEVENT
DTSTAMP:20260421T223208
DTSTART;TZID=Europe/Berlin:20261111T090000
DTEND;TZID=Europe/Berlin:20261111T121500
UID:EG404241D4-20261111T090000@VHSWETTERAU
SUMMARY:Deutsch als Zweitsprache A2/2 (Modul 4) Integrationskurs am Vormittag (EG404241D4) 
LOCATION:Büd Armstrong Kaserne, R. 110, Orleshäuser Str. 24, 63654 Büdingen
END:VEVENT
BEGIN:VEVENT
DTSTAMP:20260421T223208
DTSTART;TZID=Europe/Berlin:20261112T090000
DTEND;TZID=Europe/Berlin:20261112T121500
UID:EG404241D4-20261112T090000@VHSWETTERAU
SUMMARY:Deutsch als Zweitsprache A2/2 (Modul 4) Integrationskurs am Vormittag (EG404241D4) 
LOCATION:Büd Armstrong Kaserne, R. 110, Orleshäuser Str. 24, 63654 Büdingen
END:VEVENT
BEGIN:VEVENT
DTSTAMP:20260421T223208
DTSTART;TZID=Europe/Berlin:20261113T090000
DTEND;TZID=Europe/Berlin:20261113T121500
UID:EG404241D4-20261113T090000@VHSWETTERAU
SUMMARY:Deutsch als Zweitsprache A2/2 (Modul 4) Integrationskurs am Vormittag (EG404241D4) 
LOCATION:Büd Armstrong Kaserne, R. 110, Orleshäuser Str. 24, 63654 Büdingen
END:VEVENT
BEGIN:VEVENT
DTSTAMP:20260421T223208
DTSTART;TZID=Europe/Berlin:20261116T090000
DTEND;TZID=Europe/Berlin:20261116T121500
UID:EG404241D4-20261116T090000@VHSWETTERAU
SUMMARY:Deutsch als Zweitsprache A2/2 (Modul 4) Integrationskurs am Vormittag (EG404241D4) 
LOCATION:Büd Armstrong Kaserne, R. 110, Orleshäuser Str. 24, 63654 Büdingen
END:VEVENT
BEGIN:VEVENT
DTSTAMP:20260421T223208
DTSTART;TZID=Europe/Berlin:20261117T090000
DTEND;TZID=Europe/Berlin:20261117T121500
UID:EG404241D4-20261117T090000@VHSWETTERAU
SUMMARY:Deutsch als Zweitsprache A2/2 (Modul 4) Integrationskurs am Vormittag (EG404241D4) 
LOCATION:Büd Armstrong Kaserne, R. 110, Orleshäuser Str. 24, 63654 Büdingen
END:VEVENT
BEGIN:VEVENT
DTSTAMP:20260421T223208
DTSTART;TZID=Europe/Berlin:20261118T090000
DTEND;TZID=Europe/Berlin:20261118T121500
UID:EG404241D4-20261118T090000@VHSWETTERAU
SUMMARY:Deutsch als Zweitsprache A2/2 (Modul 4) Integrationskurs am Vormittag (EG404241D4) 
LOCATION:Büd Armstrong Kaserne, R. 110, Orleshäuser Str. 24, 63654 Büdingen
END:VEVENT
BEGIN:VEVENT
DTSTAMP:20260421T223208
DTSTART;TZID=Europe/Berlin:20261119T090000
DTEND;TZID=Europe/Berlin:20261119T121500
UID:EG404241D4-20261119T090000@VHSWETTERAU
SUMMARY:Deutsch als Zweitsprache A2/2 (Modul 4) Integrationskurs am Vormittag (EG404241D4) 
LOCATION:Büd Armstrong Kaserne, R. 110, Orleshäuser Str. 24, 63654 Büdingen
END:VEVENT
BEGIN:VEVENT
DTSTAMP:20260421T223208
DTSTART;TZID=Europe/Berlin:20261120T090000
DTEND;TZID=Europe/Berlin:20261120T121500
UID:EG404241D4-20261120T090000@VHSWETTERAU
SUMMARY:Deutsch als Zweitsprache A2/2 (Modul 4) Integrationskurs am Vormittag (EG404241D4) 
LOCATION:Büd Armstrong Kaserne, R. 110, Orleshäuser Str. 24, 63654 Büdingen
END:VEVENT
BEGIN:VEVENT
DTSTAMP:20260421T223208
DTSTART;TZID=Europe/Berlin:20261123T090000
DTEND;TZID=Europe/Berlin:20261123T121500
UID:EG404241D4-20261123T090000@VHSWETTERAU
SUMMARY:Deutsch als Zweitsprache A2/2 (Modul 4) Integrationskurs am Vormittag (EG404241D4) 
LOCATION:Büd Armstrong Kaserne, R. 110, Orleshäuser Str. 24, 63654 Büdingen
END:VEVENT
BEGIN:VEVENT
DTSTAMP:20260421T223208
DTSTART;TZID=Europe/Berlin:20261124T090000
DTEND;TZID=Europe/Berlin:20261124T121500
UID:EG404241D4-20261124T090000@VHSWETTERAU
SUMMARY:Deutsch als Zweitsprache A2/2 (Modul 4) Integrationskurs am Vormittag (EG404241D4) 
LOCATION:Büd Armstrong Kaserne, R. 110, Orleshäuser Str. 24, 63654 Büdingen
END:VEVENT
BEGIN:VEVENT
DTSTAMP:20260421T223208
DTSTART;TZID=Europe/Berlin:20261125T090000
DTEND;TZID=Europe/Berlin:20261125T121500
UID:EG404241D4-20261125T090000@VHSWETTERAU
SUMMARY:Deutsch als Zweitsprache A2/2 (Modul 4) Integrationskurs am Vormittag (EG404241D4) 
LOCATION:Büd Armstrong Kaserne, R. 110, Orleshäuser Str. 24, 63654 Büdingen
END:VEVENT
BEGIN:VEVENT
DTSTAMP:20260421T223208
DTSTART;TZID=Europe/Berlin:20261126T090000
DTEND;TZID=Europe/Berlin:20261126T121500
UID:EG404241D4-20261126T090000@VHSWETTERAU
SUMMARY:Deutsch als Zweitsprache A2/2 (Modul 4) Integrationskurs am Vormittag (EG404241D4) 
LOCATION:Büd Armstrong Kaserne, R. 110, Orleshäuser Str. 24, 63654 Büdingen
END:VEVENT
BEGIN:VEVENT
DTSTAMP:20260421T223208
DTSTART;TZID=Europe/Berlin:20261127T090000
DTEND;TZID=Europe/Berlin:20261127T121500
UID:EG404241D4-20261127T090000@VHSWETTERAU
SUMMARY:Deutsch als Zweitsprache A2/2 (Modul 4) Integrationskurs am Vormittag (EG404241D4) 
LOCATION:Büd Armstrong Kaserne, R. 110, Orleshäuser Str. 24, 63654 Büdingen
END:VEVENT
BEGIN:VEVENT
DTSTAMP:20260421T223208
DTSTART;TZID=Europe/Berlin:20261130T090000
DTEND;TZID=Europe/Berlin:20261130T121500
UID:EG404241D4-20261130T090000@VHSWETTERAU
SUMMARY:Deutsch als Zweitsprache A2/2 (Modul 4) Integrationskurs am Vormittag (EG404241D4) 
LOCATION:Büd Armstrong Kaserne, R. 110, Orleshäuser Str. 24, 63654 Büdingen
END:VEVENT
BEGIN:VEVENT
DTSTAMP:20260421T223208
DTSTART;TZID=Europe/Berlin:20261201T090000
DTEND;TZID=Europe/Berlin:20261201T121500
UID:EG404241D4-20261201T090000@VHSWETTERAU
SUMMARY:Deutsch als Zweitsprache A2/2 (Modul 4) Integrationskurs am Vormittag (EG404241D4) 
LOCATION:Büd Armstrong Kaserne, R. 110, Orleshäuser Str. 24, 63654 Büdingen
END:VEVENT
BEGIN:VEVENT
DTSTAMP:20260421T223208
DTSTART;TZID=Europe/Berlin:20261202T090000
DTEND;TZID=Europe/Berlin:20261202T121500
UID:EG404241D4-20261202T090000@VHSWETTERAU
SUMMARY:Deutsch als Zweitsprache A2/2 (Modul 4) Integrationskurs am Vormittag (EG404241D4) 
LOCATION:Büd Armstrong Kaserne, R. 110, Orleshäuser Str. 24, 63654 Büdingen
END:VEVENT
BEGIN:VEVENT
DTSTAMP:20260421T223208
DTSTART;TZID=Europe/Berlin:20261203T090000
DTEND;TZID=Europe/Berlin:20261203T121500
UID:EG404241D4-20261203T090000@VHSWETTERAU
SUMMARY:Deutsch als Zweitsprache A2/2 (Modul 4) Integrationskurs am Vormittag (EG404241D4) 
LOCATION:Büd Armstrong Kaserne, R. 110, Orleshäuser Str. 24, 63654 Büdingen
END:VEVENT
BEGIN:VEVENT
DTSTAMP:20260421T223208
DTSTART;TZID=Europe/Berlin:20261204T090000
DTEND;TZID=Europe/Berlin:20261204T121500
UID:EG404241D4-20261204T090000@VHSWETTERAU
SUMMARY:Deutsch als Zweitsprache A2/2 (Modul 4) Integrationskurs am Vormittag (EG404241D4) 
LOCATION:Büd Armstrong Kaserne, R. 110, Orleshäuser Str. 24, 63654 Büdingen
END:VEVENT
END:VCALENDAR