BEGIN:VCALENDAR
VERSION:2.0
PRODID:https://www.kufer.de/kuferweb / DE
METHOD:PUBLISH
CALSCALE:GREGORIAN
X-WR-TIMEZONE:Europe/Berlin
BEGIN:VTIMEZONE
TZID:Europe/Berlin
X-LIC-LOCATION:Europe/Berlin
BEGIN:DAYLIGHT
TZOFFSETFROM:+0100
TZOFFSETTO:+0200
TZNAME:CEST
DTSTART:19700329T020000
RRULE:FREQ=YEARLY;INTERVAL=1;BYDAY=-1SU;BYMONTH=3
END:DAYLIGHT
BEGIN:STANDARD
TZOFFSETFROM:+0200
TZOFFSETTO:+0100
TZNAME:CET
DTSTART:19701025T030000
RRULE:FREQ=YEARLY;INTERVAL=1;BYDAY=-1SU;BYMONTH=10
END:STANDARD
END:VTIMEZONE
BEGIN:VEVENT
DTSTAMP:20260421T211534
DTSTART;TZID=Europe/Berlin:20260827T090000
DTEND;TZID=Europe/Berlin:20260827T121500
UID:EG404241H1-20260827T090000@VHSWETTERAU
SUMMARY:Deutsch als Zweitsprache A2/2 (Modul 4) Integrationskurs am Vormittag (EG404241H1) 
LOCATION:FB Am Dachspfad 32A, R. 213, Am Dachspfad 32A, 61169 Friedberg
END:VEVENT
BEGIN:VEVENT
DTSTAMP:20260421T211534
DTSTART;TZID=Europe/Berlin:20260828T090000
DTEND;TZID=Europe/Berlin:20260828T121500
UID:EG404241H1-20260828T090000@VHSWETTERAU
SUMMARY:Deutsch als Zweitsprache A2/2 (Modul 4) Integrationskurs am Vormittag (EG404241H1) 
LOCATION:FB Am Dachspfad 32A, R. 213, Am Dachspfad 32A, 61169 Friedberg
END:VEVENT
BEGIN:VEVENT
DTSTAMP:20260421T211534
DTSTART;TZID=Europe/Berlin:20260831T090000
DTEND;TZID=Europe/Berlin:20260831T121500
UID:EG404241H1-20260831T090000@VHSWETTERAU
SUMMARY:Deutsch als Zweitsprache A2/2 (Modul 4) Integrationskurs am Vormittag (EG404241H1) 
LOCATION:FB Am Dachspfad 32A, R. 213, Am Dachspfad 32A, 61169 Friedberg
END:VEVENT
BEGIN:VEVENT
DTSTAMP:20260421T211534
DTSTART;TZID=Europe/Berlin:20260901T090000
DTEND;TZID=Europe/Berlin:20260901T121500
UID:EG404241H1-20260901T090000@VHSWETTERAU
SUMMARY:Deutsch als Zweitsprache A2/2 (Modul 4) Integrationskurs am Vormittag (EG404241H1) 
LOCATION:FB Am Dachspfad 32A, R. 213, Am Dachspfad 32A, 61169 Friedberg
END:VEVENT
BEGIN:VEVENT
DTSTAMP:20260421T211534
DTSTART;TZID=Europe/Berlin:20260902T090000
DTEND;TZID=Europe/Berlin:20260902T121500
UID:EG404241H1-20260902T090000@VHSWETTERAU
SUMMARY:Deutsch als Zweitsprache A2/2 (Modul 4) Integrationskurs am Vormittag (EG404241H1) 
LOCATION:FB Am Dachspfad 32A, R. 213, Am Dachspfad 32A, 61169 Friedberg
END:VEVENT
BEGIN:VEVENT
DTSTAMP:20260421T211534
DTSTART;TZID=Europe/Berlin:20260903T090000
DTEND;TZID=Europe/Berlin:20260903T121500
UID:EG404241H1-20260903T090000@VHSWETTERAU
SUMMARY:Deutsch als Zweitsprache A2/2 (Modul 4) Integrationskurs am Vormittag (EG404241H1) 
LOCATION:FB Am Dachspfad 32A, R. 213, Am Dachspfad 32A, 61169 Friedberg
END:VEVENT
BEGIN:VEVENT
DTSTAMP:20260421T211534
DTSTART;TZID=Europe/Berlin:20260904T090000
DTEND;TZID=Europe/Berlin:20260904T121500
UID:EG404241H1-20260904T090000@VHSWETTERAU
SUMMARY:Deutsch als Zweitsprache A2/2 (Modul 4) Integrationskurs am Vormittag (EG404241H1) 
LOCATION:FB Am Dachspfad 32A, R. 213, Am Dachspfad 32A, 61169 Friedberg
END:VEVENT
BEGIN:VEVENT
DTSTAMP:20260421T211534
DTSTART;TZID=Europe/Berlin:20260907T090000
DTEND;TZID=Europe/Berlin:20260907T121500
UID:EG404241H1-20260907T090000@VHSWETTERAU
SUMMARY:Deutsch als Zweitsprache A2/2 (Modul 4) Integrationskurs am Vormittag (EG404241H1) 
LOCATION:FB Am Dachspfad 32A, R. 213, Am Dachspfad 32A, 61169 Friedberg
END:VEVENT
BEGIN:VEVENT
DTSTAMP:20260421T211534
DTSTART;TZID=Europe/Berlin:20260908T090000
DTEND;TZID=Europe/Berlin:20260908T121500
UID:EG404241H1-20260908T090000@VHSWETTERAU
SUMMARY:Deutsch als Zweitsprache A2/2 (Modul 4) Integrationskurs am Vormittag (EG404241H1) 
LOCATION:FB Am Dachspfad 32A, R. 213, Am Dachspfad 32A, 61169 Friedberg
END:VEVENT
BEGIN:VEVENT
DTSTAMP:20260421T211534
DTSTART;TZID=Europe/Berlin:20260909T090000
DTEND;TZID=Europe/Berlin:20260909T121500
UID:EG404241H1-20260909T090000@VHSWETTERAU
SUMMARY:Deutsch als Zweitsprache A2/2 (Modul 4) Integrationskurs am Vormittag (EG404241H1) 
LOCATION:FB Am Dachspfad 32A, R. 213, Am Dachspfad 32A, 61169 Friedberg
END:VEVENT
BEGIN:VEVENT
DTSTAMP:20260421T211534
DTSTART;TZID=Europe/Berlin:20260910T090000
DTEND;TZID=Europe/Berlin:20260910T121500
UID:EG404241H1-20260910T090000@VHSWETTERAU
SUMMARY:Deutsch als Zweitsprache A2/2 (Modul 4) Integrationskurs am Vormittag (EG404241H1) 
LOCATION:FB Am Dachspfad 32A, R. 213, Am Dachspfad 32A, 61169 Friedberg
END:VEVENT
BEGIN:VEVENT
DTSTAMP:20260421T211534
DTSTART;TZID=Europe/Berlin:20260911T090000
DTEND;TZID=Europe/Berlin:20260911T121500
UID:EG404241H1-20260911T090000@VHSWETTERAU
SUMMARY:Deutsch als Zweitsprache A2/2 (Modul 4) Integrationskurs am Vormittag (EG404241H1) 
LOCATION:FB Am Dachspfad 32A, R. 213, Am Dachspfad 32A, 61169 Friedberg
END:VEVENT
BEGIN:VEVENT
DTSTAMP:20260421T211534
DTSTART;TZID=Europe/Berlin:20260914T090000
DTEND;TZID=Europe/Berlin:20260914T121500
UID:EG404241H1-20260914T090000@VHSWETTERAU
SUMMARY:Deutsch als Zweitsprache A2/2 (Modul 4) Integrationskurs am Vormittag (EG404241H1) 
LOCATION:FB Am Dachspfad 32A, R. 213, Am Dachspfad 32A, 61169 Friedberg
END:VEVENT
BEGIN:VEVENT
DTSTAMP:20260421T211534
DTSTART;TZID=Europe/Berlin:20260915T090000
DTEND;TZID=Europe/Berlin:20260915T121500
UID:EG404241H1-20260915T090000@VHSWETTERAU
SUMMARY:Deutsch als Zweitsprache A2/2 (Modul 4) Integrationskurs am Vormittag (EG404241H1) 
LOCATION:FB Am Dachspfad 32A, R. 213, Am Dachspfad 32A, 61169 Friedberg
END:VEVENT
BEGIN:VEVENT
DTSTAMP:20260421T211534
DTSTART;TZID=Europe/Berlin:20260916T090000
DTEND;TZID=Europe/Berlin:20260916T121500
UID:EG404241H1-20260916T090000@VHSWETTERAU
SUMMARY:Deutsch als Zweitsprache A2/2 (Modul 4) Integrationskurs am Vormittag (EG404241H1) 
LOCATION:FB Am Dachspfad 32A, R. 213, Am Dachspfad 32A, 61169 Friedberg
END:VEVENT
BEGIN:VEVENT
DTSTAMP:20260421T211534
DTSTART;TZID=Europe/Berlin:20260917T090000
DTEND;TZID=Europe/Berlin:20260917T121500
UID:EG404241H1-20260917T090000@VHSWETTERAU
SUMMARY:Deutsch als Zweitsprache A2/2 (Modul 4) Integrationskurs am Vormittag (EG404241H1) 
LOCATION:FB Am Dachspfad 32A, R. 213, Am Dachspfad 32A, 61169 Friedberg
END:VEVENT
BEGIN:VEVENT
DTSTAMP:20260421T211534
DTSTART;TZID=Europe/Berlin:20260918T090000
DTEND;TZID=Europe/Berlin:20260918T121500
UID:EG404241H1-20260918T090000@VHSWETTERAU
SUMMARY:Deutsch als Zweitsprache A2/2 (Modul 4) Integrationskurs am Vormittag (EG404241H1) 
LOCATION:FB Am Dachspfad 32A, R. 213, Am Dachspfad 32A, 61169 Friedberg
END:VEVENT
BEGIN:VEVENT
DTSTAMP:20260421T211534
DTSTART;TZID=Europe/Berlin:20260921T090000
DTEND;TZID=Europe/Berlin:20260921T121500
UID:EG404241H1-20260921T090000@VHSWETTERAU
SUMMARY:Deutsch als Zweitsprache A2/2 (Modul 4) Integrationskurs am Vormittag (EG404241H1) 
LOCATION:FB Am Dachspfad 32A, R. 213, Am Dachspfad 32A, 61169 Friedberg
END:VEVENT
BEGIN:VEVENT
DTSTAMP:20260421T211534
DTSTART;TZID=Europe/Berlin:20260922T090000
DTEND;TZID=Europe/Berlin:20260922T121500
UID:EG404241H1-20260922T090000@VHSWETTERAU
SUMMARY:Deutsch als Zweitsprache A2/2 (Modul 4) Integrationskurs am Vormittag (EG404241H1) 
LOCATION:FB Am Dachspfad 32A, R. 213, Am Dachspfad 32A, 61169 Friedberg
END:VEVENT
BEGIN:VEVENT
DTSTAMP:20260421T211534
DTSTART;TZID=Europe/Berlin:20260923T090000
DTEND;TZID=Europe/Berlin:20260923T121500
UID:EG404241H1-20260923T090000@VHSWETTERAU
SUMMARY:Deutsch als Zweitsprache A2/2 (Modul 4) Integrationskurs am Vormittag (EG404241H1) 
LOCATION:FB Am Dachspfad 32A, R. 213, Am Dachspfad 32A, 61169 Friedberg
END:VEVENT
BEGIN:VEVENT
DTSTAMP:20260421T211534
DTSTART;TZID=Europe/Berlin:20260924T090000
DTEND;TZID=Europe/Berlin:20260924T121500
UID:EG404241H1-20260924T090000@VHSWETTERAU
SUMMARY:Deutsch als Zweitsprache A2/2 (Modul 4) Integrationskurs am Vormittag (EG404241H1) 
LOCATION:FB Am Dachspfad 32A, R. 213, Am Dachspfad 32A, 61169 Friedberg
END:VEVENT
BEGIN:VEVENT
DTSTAMP:20260421T211534
DTSTART;TZID=Europe/Berlin:20260925T090000
DTEND;TZID=Europe/Berlin:20260925T121500
UID:EG404241H1-20260925T090000@VHSWETTERAU
SUMMARY:Deutsch als Zweitsprache A2/2 (Modul 4) Integrationskurs am Vormittag (EG404241H1) 
LOCATION:FB Am Dachspfad 32A, R. 213, Am Dachspfad 32A, 61169 Friedberg
END:VEVENT
BEGIN:VEVENT
DTSTAMP:20260421T211534
DTSTART;TZID=Europe/Berlin:20260928T090000
DTEND;TZID=Europe/Berlin:20260928T121500
UID:EG404241H1-20260928T090000@VHSWETTERAU
SUMMARY:Deutsch als Zweitsprache A2/2 (Modul 4) Integrationskurs am Vormittag (EG404241H1) 
LOCATION:FB Am Dachspfad 32A, R. 213, Am Dachspfad 32A, 61169 Friedberg
END:VEVENT
BEGIN:VEVENT
DTSTAMP:20260421T211534
DTSTART;TZID=Europe/Berlin:20260929T090000
DTEND;TZID=Europe/Berlin:20260929T121500
UID:EG404241H1-20260929T090000@VHSWETTERAU
SUMMARY:Deutsch als Zweitsprache A2/2 (Modul 4) Integrationskurs am Vormittag (EG404241H1) 
LOCATION:FB Am Dachspfad 32A, R. 213, Am Dachspfad 32A, 61169 Friedberg
END:VEVENT
BEGIN:VEVENT
DTSTAMP:20260421T211534
DTSTART;TZID=Europe/Berlin:20260930T090000
DTEND;TZID=Europe/Berlin:20260930T121500
UID:EG404241H1-20260930T090000@VHSWETTERAU
SUMMARY:Deutsch als Zweitsprache A2/2 (Modul 4) Integrationskurs am Vormittag (EG404241H1) 
LOCATION:FB Am Dachspfad 32A, R. 213, Am Dachspfad 32A, 61169 Friedberg
END:VEVENT
END:VCALENDAR