BEGIN:VCALENDAR
VERSION:2.0
PRODID:https://www.kufer.de/kuferweb / DE
METHOD:PUBLISH
CALSCALE:GREGORIAN
X-WR-TIMEZONE:Europe/Berlin
BEGIN:VTIMEZONE
TZID:Europe/Berlin
X-LIC-LOCATION:Europe/Berlin
BEGIN:DAYLIGHT
TZOFFSETFROM:+0100
TZOFFSETTO:+0200
TZNAME:CEST
DTSTART:19700329T020000
RRULE:FREQ=YEARLY;INTERVAL=1;BYDAY=-1SU;BYMONTH=3
END:DAYLIGHT
BEGIN:STANDARD
TZOFFSETFROM:+0200
TZOFFSETTO:+0100
TZNAME:CET
DTSTART:19701025T030000
RRULE:FREQ=YEARLY;INTERVAL=1;BYDAY=-1SU;BYMONTH=10
END:STANDARD
END:VTIMEZONE
BEGIN:VEVENT
DTSTAMP:20260421T205008
DTSTART;TZID=Europe/Berlin:20260810T140000
DTEND;TZID=Europe/Berlin:20260810T171500
UID:EG404241H6-20260810T140000@VHSWETTERAU
SUMMARY:Kurs für gering Literalisierte Aufbaukurs 1 (Modul 4) Integrationskurs am Nachmittag (EG404241H6) 
LOCATION:FB Am Dachspfad 32A, R. 207, Am Dachspfad 32A, 61169 Friedberg
END:VEVENT
BEGIN:VEVENT
DTSTAMP:20260421T205008
DTSTART;TZID=Europe/Berlin:20260811T140000
DTEND;TZID=Europe/Berlin:20260811T171500
UID:EG404241H6-20260811T140000@VHSWETTERAU
SUMMARY:Kurs für gering Literalisierte Aufbaukurs 1 (Modul 4) Integrationskurs am Nachmittag (EG404241H6) 
LOCATION:FB Am Dachspfad 32A, R. 207, Am Dachspfad 32A, 61169 Friedberg
END:VEVENT
BEGIN:VEVENT
DTSTAMP:20260421T205008
DTSTART;TZID=Europe/Berlin:20260812T140000
DTEND;TZID=Europe/Berlin:20260812T171500
UID:EG404241H6-20260812T140000@VHSWETTERAU
SUMMARY:Kurs für gering Literalisierte Aufbaukurs 1 (Modul 4) Integrationskurs am Nachmittag (EG404241H6) 
LOCATION:FB Am Dachspfad 32A, R. 207, Am Dachspfad 32A, 61169 Friedberg
END:VEVENT
BEGIN:VEVENT
DTSTAMP:20260421T205008
DTSTART;TZID=Europe/Berlin:20260813T140000
DTEND;TZID=Europe/Berlin:20260813T171500
UID:EG404241H6-20260813T140000@VHSWETTERAU
SUMMARY:Kurs für gering Literalisierte Aufbaukurs 1 (Modul 4) Integrationskurs am Nachmittag (EG404241H6) 
LOCATION:FB Am Dachspfad 32A, R. 207, Am Dachspfad 32A, 61169 Friedberg
END:VEVENT
BEGIN:VEVENT
DTSTAMP:20260421T205008
DTSTART;TZID=Europe/Berlin:20260814T140000
DTEND;TZID=Europe/Berlin:20260814T171500
UID:EG404241H6-20260814T140000@VHSWETTERAU
SUMMARY:Kurs für gering Literalisierte Aufbaukurs 1 (Modul 4) Integrationskurs am Nachmittag (EG404241H6) 
LOCATION:FB Am Dachspfad 32A, R. 207, Am Dachspfad 32A, 61169 Friedberg
END:VEVENT
BEGIN:VEVENT
DTSTAMP:20260421T205008
DTSTART;TZID=Europe/Berlin:20260817T140000
DTEND;TZID=Europe/Berlin:20260817T171500
UID:EG404241H6-20260817T140000@VHSWETTERAU
SUMMARY:Kurs für gering Literalisierte Aufbaukurs 1 (Modul 4) Integrationskurs am Nachmittag (EG404241H6) 
LOCATION:FB Am Dachspfad 32A, R. 207, Am Dachspfad 32A, 61169 Friedberg
END:VEVENT
BEGIN:VEVENT
DTSTAMP:20260421T205008
DTSTART;TZID=Europe/Berlin:20260818T140000
DTEND;TZID=Europe/Berlin:20260818T171500
UID:EG404241H6-20260818T140000@VHSWETTERAU
SUMMARY:Kurs für gering Literalisierte Aufbaukurs 1 (Modul 4) Integrationskurs am Nachmittag (EG404241H6) 
LOCATION:FB Am Dachspfad 32A, R. 207, Am Dachspfad 32A, 61169 Friedberg
END:VEVENT
BEGIN:VEVENT
DTSTAMP:20260421T205008
DTSTART;TZID=Europe/Berlin:20260819T140000
DTEND;TZID=Europe/Berlin:20260819T171500
UID:EG404241H6-20260819T140000@VHSWETTERAU
SUMMARY:Kurs für gering Literalisierte Aufbaukurs 1 (Modul 4) Integrationskurs am Nachmittag (EG404241H6) 
LOCATION:FB Am Dachspfad 32A, R. 207, Am Dachspfad 32A, 61169 Friedberg
END:VEVENT
BEGIN:VEVENT
DTSTAMP:20260421T205008
DTSTART;TZID=Europe/Berlin:20260820T140000
DTEND;TZID=Europe/Berlin:20260820T171500
UID:EG404241H6-20260820T140000@VHSWETTERAU
SUMMARY:Kurs für gering Literalisierte Aufbaukurs 1 (Modul 4) Integrationskurs am Nachmittag (EG404241H6) 
LOCATION:FB Am Dachspfad 32A, R. 207, Am Dachspfad 32A, 61169 Friedberg
END:VEVENT
BEGIN:VEVENT
DTSTAMP:20260421T205008
DTSTART;TZID=Europe/Berlin:20260821T140000
DTEND;TZID=Europe/Berlin:20260821T171500
UID:EG404241H6-20260821T140000@VHSWETTERAU
SUMMARY:Kurs für gering Literalisierte Aufbaukurs 1 (Modul 4) Integrationskurs am Nachmittag (EG404241H6) 
LOCATION:FB Am Dachspfad 32A, R. 207, Am Dachspfad 32A, 61169 Friedberg
END:VEVENT
BEGIN:VEVENT
DTSTAMP:20260421T205008
DTSTART;TZID=Europe/Berlin:20260824T140000
DTEND;TZID=Europe/Berlin:20260824T171500
UID:EG404241H6-20260824T140000@VHSWETTERAU
SUMMARY:Kurs für gering Literalisierte Aufbaukurs 1 (Modul 4) Integrationskurs am Nachmittag (EG404241H6) 
LOCATION:FB Am Dachspfad 32A, R. 207, Am Dachspfad 32A, 61169 Friedberg
END:VEVENT
BEGIN:VEVENT
DTSTAMP:20260421T205008
DTSTART;TZID=Europe/Berlin:20260825T140000
DTEND;TZID=Europe/Berlin:20260825T171500
UID:EG404241H6-20260825T140000@VHSWETTERAU
SUMMARY:Kurs für gering Literalisierte Aufbaukurs 1 (Modul 4) Integrationskurs am Nachmittag (EG404241H6) 
LOCATION:FB Am Dachspfad 32A, R. 207, Am Dachspfad 32A, 61169 Friedberg
END:VEVENT
BEGIN:VEVENT
DTSTAMP:20260421T205008
DTSTART;TZID=Europe/Berlin:20260826T140000
DTEND;TZID=Europe/Berlin:20260826T171500
UID:EG404241H6-20260826T140000@VHSWETTERAU
SUMMARY:Kurs für gering Literalisierte Aufbaukurs 1 (Modul 4) Integrationskurs am Nachmittag (EG404241H6) 
LOCATION:FB Am Dachspfad 32A, R. 207, Am Dachspfad 32A, 61169 Friedberg
END:VEVENT
BEGIN:VEVENT
DTSTAMP:20260421T205008
DTSTART;TZID=Europe/Berlin:20260827T140000
DTEND;TZID=Europe/Berlin:20260827T171500
UID:EG404241H6-20260827T140000@VHSWETTERAU
SUMMARY:Kurs für gering Literalisierte Aufbaukurs 1 (Modul 4) Integrationskurs am Nachmittag (EG404241H6) 
LOCATION:FB Am Dachspfad 32A, R. 207, Am Dachspfad 32A, 61169 Friedberg
END:VEVENT
BEGIN:VEVENT
DTSTAMP:20260421T205008
DTSTART;TZID=Europe/Berlin:20260828T140000
DTEND;TZID=Europe/Berlin:20260828T171500
UID:EG404241H6-20260828T140000@VHSWETTERAU
SUMMARY:Kurs für gering Literalisierte Aufbaukurs 1 (Modul 4) Integrationskurs am Nachmittag (EG404241H6) 
LOCATION:FB Am Dachspfad 32A, R. 207, Am Dachspfad 32A, 61169 Friedberg
END:VEVENT
BEGIN:VEVENT
DTSTAMP:20260421T205008
DTSTART;TZID=Europe/Berlin:20260831T140000
DTEND;TZID=Europe/Berlin:20260831T171500
UID:EG404241H6-20260831T140000@VHSWETTERAU
SUMMARY:Kurs für gering Literalisierte Aufbaukurs 1 (Modul 4) Integrationskurs am Nachmittag (EG404241H6) 
LOCATION:FB Am Dachspfad 32A, R. 207, Am Dachspfad 32A, 61169 Friedberg
END:VEVENT
BEGIN:VEVENT
DTSTAMP:20260421T205008
DTSTART;TZID=Europe/Berlin:20260901T140000
DTEND;TZID=Europe/Berlin:20260901T171500
UID:EG404241H6-20260901T140000@VHSWETTERAU
SUMMARY:Kurs für gering Literalisierte Aufbaukurs 1 (Modul 4) Integrationskurs am Nachmittag (EG404241H6) 
LOCATION:FB Am Dachspfad 32A, R. 207, Am Dachspfad 32A, 61169 Friedberg
END:VEVENT
BEGIN:VEVENT
DTSTAMP:20260421T205008
DTSTART;TZID=Europe/Berlin:20260902T140000
DTEND;TZID=Europe/Berlin:20260902T171500
UID:EG404241H6-20260902T140000@VHSWETTERAU
SUMMARY:Kurs für gering Literalisierte Aufbaukurs 1 (Modul 4) Integrationskurs am Nachmittag (EG404241H6) 
LOCATION:FB Am Dachspfad 32A, R. 207, Am Dachspfad 32A, 61169 Friedberg
END:VEVENT
BEGIN:VEVENT
DTSTAMP:20260421T205008
DTSTART;TZID=Europe/Berlin:20260903T140000
DTEND;TZID=Europe/Berlin:20260903T171500
UID:EG404241H6-20260903T140000@VHSWETTERAU
SUMMARY:Kurs für gering Literalisierte Aufbaukurs 1 (Modul 4) Integrationskurs am Nachmittag (EG404241H6) 
LOCATION:FB Am Dachspfad 32A, R. 207, Am Dachspfad 32A, 61169 Friedberg
END:VEVENT
BEGIN:VEVENT
DTSTAMP:20260421T205008
DTSTART;TZID=Europe/Berlin:20260904T140000
DTEND;TZID=Europe/Berlin:20260904T171500
UID:EG404241H6-20260904T140000@VHSWETTERAU
SUMMARY:Kurs für gering Literalisierte Aufbaukurs 1 (Modul 4) Integrationskurs am Nachmittag (EG404241H6) 
LOCATION:FB Am Dachspfad 32A, R. 207, Am Dachspfad 32A, 61169 Friedberg
END:VEVENT
BEGIN:VEVENT
DTSTAMP:20260421T205008
DTSTART;TZID=Europe/Berlin:20260907T140000
DTEND;TZID=Europe/Berlin:20260907T171500
UID:EG404241H6-20260907T140000@VHSWETTERAU
SUMMARY:Kurs für gering Literalisierte Aufbaukurs 1 (Modul 4) Integrationskurs am Nachmittag (EG404241H6) 
LOCATION:FB Am Dachspfad 32A, R. 207, Am Dachspfad 32A, 61169 Friedberg
END:VEVENT
BEGIN:VEVENT
DTSTAMP:20260421T205008
DTSTART;TZID=Europe/Berlin:20260908T140000
DTEND;TZID=Europe/Berlin:20260908T171500
UID:EG404241H6-20260908T140000@VHSWETTERAU
SUMMARY:Kurs für gering Literalisierte Aufbaukurs 1 (Modul 4) Integrationskurs am Nachmittag (EG404241H6) 
LOCATION:FB Am Dachspfad 32A, R. 207, Am Dachspfad 32A, 61169 Friedberg
END:VEVENT
BEGIN:VEVENT
DTSTAMP:20260421T205008
DTSTART;TZID=Europe/Berlin:20260909T140000
DTEND;TZID=Europe/Berlin:20260909T171500
UID:EG404241H6-20260909T140000@VHSWETTERAU
SUMMARY:Kurs für gering Literalisierte Aufbaukurs 1 (Modul 4) Integrationskurs am Nachmittag (EG404241H6) 
LOCATION:FB Am Dachspfad 32A, R. 207, Am Dachspfad 32A, 61169 Friedberg
END:VEVENT
BEGIN:VEVENT
DTSTAMP:20260421T205008
DTSTART;TZID=Europe/Berlin:20260910T140000
DTEND;TZID=Europe/Berlin:20260910T171500
UID:EG404241H6-20260910T140000@VHSWETTERAU
SUMMARY:Kurs für gering Literalisierte Aufbaukurs 1 (Modul 4) Integrationskurs am Nachmittag (EG404241H6) 
LOCATION:FB Am Dachspfad 32A, R. 207, Am Dachspfad 32A, 61169 Friedberg
END:VEVENT
BEGIN:VEVENT
DTSTAMP:20260421T205008
DTSTART;TZID=Europe/Berlin:20260911T140000
DTEND;TZID=Europe/Berlin:20260911T171500
UID:EG404241H6-20260911T140000@VHSWETTERAU
SUMMARY:Kurs für gering Literalisierte Aufbaukurs 1 (Modul 4) Integrationskurs am Nachmittag (EG404241H6) 
LOCATION:FB Am Dachspfad 32A, R. 207, Am Dachspfad 32A, 61169 Friedberg
END:VEVENT
END:VCALENDAR