BEGIN:VCALENDAR
VERSION:2.0
PRODID:https://www.kufer.de/kuferweb / DE
METHOD:PUBLISH
CALSCALE:GREGORIAN
X-WR-TIMEZONE:Europe/Berlin
BEGIN:VTIMEZONE
TZID:Europe/Berlin
X-LIC-LOCATION:Europe/Berlin
BEGIN:DAYLIGHT
TZOFFSETFROM:+0100
TZOFFSETTO:+0200
TZNAME:CEST
DTSTART:19700329T020000
RRULE:FREQ=YEARLY;INTERVAL=1;BYDAY=-1SU;BYMONTH=3
END:DAYLIGHT
BEGIN:STANDARD
TZOFFSETFROM:+0200
TZOFFSETTO:+0100
TZNAME:CET
DTSTART:19701025T030000
RRULE:FREQ=YEARLY;INTERVAL=1;BYDAY=-1SU;BYMONTH=10
END:STANDARD
END:VTIMEZONE
BEGIN:VEVENT
DTSTAMP:20260421T225422
DTSTART;TZID=Europe/Berlin:20261112T134500
DTEND;TZID=Europe/Berlin:20261112T170000
UID:EG404242H2-20261112T134500@VHSWETTERAU
SUMMARY:Deutsch als Zweitsprache A2/2 (Modul 4) Integrationskurs am Nachmittag (EG404242H2) 
LOCATION:FB Am Dachspfad 32A, R. 201, Am Dachspfad 32A, 61169 Friedberg
END:VEVENT
BEGIN:VEVENT
DTSTAMP:20260421T225422
DTSTART;TZID=Europe/Berlin:20261113T134500
DTEND;TZID=Europe/Berlin:20261113T170000
UID:EG404242H2-20261113T134500@VHSWETTERAU
SUMMARY:Deutsch als Zweitsprache A2/2 (Modul 4) Integrationskurs am Nachmittag (EG404242H2) 
LOCATION:FB Am Dachspfad 32A, R. 201, Am Dachspfad 32A, 61169 Friedberg
END:VEVENT
BEGIN:VEVENT
DTSTAMP:20260421T225422
DTSTART;TZID=Europe/Berlin:20261116T134500
DTEND;TZID=Europe/Berlin:20261116T170000
UID:EG404242H2-20261116T134500@VHSWETTERAU
SUMMARY:Deutsch als Zweitsprache A2/2 (Modul 4) Integrationskurs am Nachmittag (EG404242H2) 
LOCATION:FB Am Dachspfad 32A, R. 201, Am Dachspfad 32A, 61169 Friedberg
END:VEVENT
BEGIN:VEVENT
DTSTAMP:20260421T225422
DTSTART;TZID=Europe/Berlin:20261117T134500
DTEND;TZID=Europe/Berlin:20261117T170000
UID:EG404242H2-20261117T134500@VHSWETTERAU
SUMMARY:Deutsch als Zweitsprache A2/2 (Modul 4) Integrationskurs am Nachmittag (EG404242H2) 
LOCATION:FB Am Dachspfad 32A, R. 201, Am Dachspfad 32A, 61169 Friedberg
END:VEVENT
BEGIN:VEVENT
DTSTAMP:20260421T225422
DTSTART;TZID=Europe/Berlin:20261118T134500
DTEND;TZID=Europe/Berlin:20261118T170000
UID:EG404242H2-20261118T134500@VHSWETTERAU
SUMMARY:Deutsch als Zweitsprache A2/2 (Modul 4) Integrationskurs am Nachmittag (EG404242H2) 
LOCATION:FB Am Dachspfad 32A, R. 201, Am Dachspfad 32A, 61169 Friedberg
END:VEVENT
BEGIN:VEVENT
DTSTAMP:20260421T225422
DTSTART;TZID=Europe/Berlin:20261119T134500
DTEND;TZID=Europe/Berlin:20261119T170000
UID:EG404242H2-20261119T134500@VHSWETTERAU
SUMMARY:Deutsch als Zweitsprache A2/2 (Modul 4) Integrationskurs am Nachmittag (EG404242H2) 
LOCATION:FB Am Dachspfad 32A, R. 201, Am Dachspfad 32A, 61169 Friedberg
END:VEVENT
BEGIN:VEVENT
DTSTAMP:20260421T225422
DTSTART;TZID=Europe/Berlin:20261120T134500
DTEND;TZID=Europe/Berlin:20261120T170000
UID:EG404242H2-20261120T134500@VHSWETTERAU
SUMMARY:Deutsch als Zweitsprache A2/2 (Modul 4) Integrationskurs am Nachmittag (EG404242H2) 
LOCATION:FB Am Dachspfad 32A, R. 201, Am Dachspfad 32A, 61169 Friedberg
END:VEVENT
BEGIN:VEVENT
DTSTAMP:20260421T225422
DTSTART;TZID=Europe/Berlin:20261123T134500
DTEND;TZID=Europe/Berlin:20261123T170000
UID:EG404242H2-20261123T134500@VHSWETTERAU
SUMMARY:Deutsch als Zweitsprache A2/2 (Modul 4) Integrationskurs am Nachmittag (EG404242H2) 
LOCATION:FB Am Dachspfad 32A, R. 201, Am Dachspfad 32A, 61169 Friedberg
END:VEVENT
BEGIN:VEVENT
DTSTAMP:20260421T225422
DTSTART;TZID=Europe/Berlin:20261124T134500
DTEND;TZID=Europe/Berlin:20261124T170000
UID:EG404242H2-20261124T134500@VHSWETTERAU
SUMMARY:Deutsch als Zweitsprache A2/2 (Modul 4) Integrationskurs am Nachmittag (EG404242H2) 
LOCATION:FB Am Dachspfad 32A, R. 201, Am Dachspfad 32A, 61169 Friedberg
END:VEVENT
BEGIN:VEVENT
DTSTAMP:20260421T225422
DTSTART;TZID=Europe/Berlin:20261125T134500
DTEND;TZID=Europe/Berlin:20261125T170000
UID:EG404242H2-20261125T134500@VHSWETTERAU
SUMMARY:Deutsch als Zweitsprache A2/2 (Modul 4) Integrationskurs am Nachmittag (EG404242H2) 
LOCATION:FB Am Dachspfad 32A, R. 201, Am Dachspfad 32A, 61169 Friedberg
END:VEVENT
BEGIN:VEVENT
DTSTAMP:20260421T225422
DTSTART;TZID=Europe/Berlin:20261126T134500
DTEND;TZID=Europe/Berlin:20261126T170000
UID:EG404242H2-20261126T134500@VHSWETTERAU
SUMMARY:Deutsch als Zweitsprache A2/2 (Modul 4) Integrationskurs am Nachmittag (EG404242H2) 
LOCATION:FB Am Dachspfad 32A, R. 201, Am Dachspfad 32A, 61169 Friedberg
END:VEVENT
BEGIN:VEVENT
DTSTAMP:20260421T225422
DTSTART;TZID=Europe/Berlin:20261127T134500
DTEND;TZID=Europe/Berlin:20261127T170000
UID:EG404242H2-20261127T134500@VHSWETTERAU
SUMMARY:Deutsch als Zweitsprache A2/2 (Modul 4) Integrationskurs am Nachmittag (EG404242H2) 
LOCATION:FB Am Dachspfad 32A, R. 201, Am Dachspfad 32A, 61169 Friedberg
END:VEVENT
BEGIN:VEVENT
DTSTAMP:20260421T225422
DTSTART;TZID=Europe/Berlin:20261130T134500
DTEND;TZID=Europe/Berlin:20261130T170000
UID:EG404242H2-20261130T134500@VHSWETTERAU
SUMMARY:Deutsch als Zweitsprache A2/2 (Modul 4) Integrationskurs am Nachmittag (EG404242H2) 
LOCATION:FB Am Dachspfad 32A, R. 201, Am Dachspfad 32A, 61169 Friedberg
END:VEVENT
BEGIN:VEVENT
DTSTAMP:20260421T225422
DTSTART;TZID=Europe/Berlin:20261201T134500
DTEND;TZID=Europe/Berlin:20261201T170000
UID:EG404242H2-20261201T134500@VHSWETTERAU
SUMMARY:Deutsch als Zweitsprache A2/2 (Modul 4) Integrationskurs am Nachmittag (EG404242H2) 
LOCATION:FB Am Dachspfad 32A, R. 201, Am Dachspfad 32A, 61169 Friedberg
END:VEVENT
BEGIN:VEVENT
DTSTAMP:20260421T225422
DTSTART;TZID=Europe/Berlin:20261202T134500
DTEND;TZID=Europe/Berlin:20261202T170000
UID:EG404242H2-20261202T134500@VHSWETTERAU
SUMMARY:Deutsch als Zweitsprache A2/2 (Modul 4) Integrationskurs am Nachmittag (EG404242H2) 
LOCATION:FB Am Dachspfad 32A, R. 201, Am Dachspfad 32A, 61169 Friedberg
END:VEVENT
BEGIN:VEVENT
DTSTAMP:20260421T225422
DTSTART;TZID=Europe/Berlin:20261203T134500
DTEND;TZID=Europe/Berlin:20261203T170000
UID:EG404242H2-20261203T134500@VHSWETTERAU
SUMMARY:Deutsch als Zweitsprache A2/2 (Modul 4) Integrationskurs am Nachmittag (EG404242H2) 
LOCATION:FB Am Dachspfad 32A, R. 201, Am Dachspfad 32A, 61169 Friedberg
END:VEVENT
BEGIN:VEVENT
DTSTAMP:20260421T225422
DTSTART;TZID=Europe/Berlin:20261204T134500
DTEND;TZID=Europe/Berlin:20261204T170000
UID:EG404242H2-20261204T134500@VHSWETTERAU
SUMMARY:Deutsch als Zweitsprache A2/2 (Modul 4) Integrationskurs am Nachmittag (EG404242H2) 
LOCATION:FB Am Dachspfad 32A, R. 201, Am Dachspfad 32A, 61169 Friedberg
END:VEVENT
BEGIN:VEVENT
DTSTAMP:20260421T225422
DTSTART;TZID=Europe/Berlin:20261207T134500
DTEND;TZID=Europe/Berlin:20261207T170000
UID:EG404242H2-20261207T134500@VHSWETTERAU
SUMMARY:Deutsch als Zweitsprache A2/2 (Modul 4) Integrationskurs am Nachmittag (EG404242H2) 
LOCATION:FB Am Dachspfad 32A, R. 201, Am Dachspfad 32A, 61169 Friedberg
END:VEVENT
BEGIN:VEVENT
DTSTAMP:20260421T225422
DTSTART;TZID=Europe/Berlin:20261208T134500
DTEND;TZID=Europe/Berlin:20261208T170000
UID:EG404242H2-20261208T134500@VHSWETTERAU
SUMMARY:Deutsch als Zweitsprache A2/2 (Modul 4) Integrationskurs am Nachmittag (EG404242H2) 
LOCATION:FB Am Dachspfad 32A, R. 201, Am Dachspfad 32A, 61169 Friedberg
END:VEVENT
BEGIN:VEVENT
DTSTAMP:20260421T225422
DTSTART;TZID=Europe/Berlin:20261209T134500
DTEND;TZID=Europe/Berlin:20261209T170000
UID:EG404242H2-20261209T134500@VHSWETTERAU
SUMMARY:Deutsch als Zweitsprache A2/2 (Modul 4) Integrationskurs am Nachmittag (EG404242H2) 
LOCATION:FB Am Dachspfad 32A, R. 201, Am Dachspfad 32A, 61169 Friedberg
END:VEVENT
BEGIN:VEVENT
DTSTAMP:20260421T225422
DTSTART;TZID=Europe/Berlin:20261210T134500
DTEND;TZID=Europe/Berlin:20261210T170000
UID:EG404242H2-20261210T134500@VHSWETTERAU
SUMMARY:Deutsch als Zweitsprache A2/2 (Modul 4) Integrationskurs am Nachmittag (EG404242H2) 
LOCATION:FB Am Dachspfad 32A, R. 201, Am Dachspfad 32A, 61169 Friedberg
END:VEVENT
BEGIN:VEVENT
DTSTAMP:20260421T225422
DTSTART;TZID=Europe/Berlin:20261211T134500
DTEND;TZID=Europe/Berlin:20261211T170000
UID:EG404242H2-20261211T134500@VHSWETTERAU
SUMMARY:Deutsch als Zweitsprache A2/2 (Modul 4) Integrationskurs am Nachmittag (EG404242H2) 
LOCATION:FB Am Dachspfad 32A, R. 201, Am Dachspfad 32A, 61169 Friedberg
END:VEVENT
BEGIN:VEVENT
DTSTAMP:20260421T225422
DTSTART;TZID=Europe/Berlin:20261214T134500
DTEND;TZID=Europe/Berlin:20261214T170000
UID:EG404242H2-20261214T134500@VHSWETTERAU
SUMMARY:Deutsch als Zweitsprache A2/2 (Modul 4) Integrationskurs am Nachmittag (EG404242H2) 
LOCATION:FB Am Dachspfad 32A, R. 201, Am Dachspfad 32A, 61169 Friedberg
END:VEVENT
BEGIN:VEVENT
DTSTAMP:20260421T225422
DTSTART;TZID=Europe/Berlin:20261215T134500
DTEND;TZID=Europe/Berlin:20261215T170000
UID:EG404242H2-20261215T134500@VHSWETTERAU
SUMMARY:Deutsch als Zweitsprache A2/2 (Modul 4) Integrationskurs am Nachmittag (EG404242H2) 
LOCATION:FB Am Dachspfad 32A, R. 201, Am Dachspfad 32A, 61169 Friedberg
END:VEVENT
BEGIN:VEVENT
DTSTAMP:20260421T225422
DTSTART;TZID=Europe/Berlin:20261216T134500
DTEND;TZID=Europe/Berlin:20261216T170000
UID:EG404242H2-20261216T134500@VHSWETTERAU
SUMMARY:Deutsch als Zweitsprache A2/2 (Modul 4) Integrationskurs am Nachmittag (EG404242H2) 
LOCATION:FB Am Dachspfad 32A, R. 201, Am Dachspfad 32A, 61169 Friedberg
END:VEVENT
END:VCALENDAR