BEGIN:VCALENDAR
VERSION:2.0
PRODID:https://www.kufer.de/kuferweb / DE
METHOD:PUBLISH
CALSCALE:GREGORIAN
X-WR-TIMEZONE:Europe/Berlin
BEGIN:VTIMEZONE
TZID:Europe/Berlin
X-LIC-LOCATION:Europe/Berlin
BEGIN:DAYLIGHT
TZOFFSETFROM:+0100
TZOFFSETTO:+0200
TZNAME:CEST
DTSTART:19700329T020000
RRULE:FREQ=YEARLY;INTERVAL=1;BYDAY=-1SU;BYMONTH=3
END:DAYLIGHT
BEGIN:STANDARD
TZOFFSETFROM:+0200
TZOFFSETTO:+0100
TZNAME:CET
DTSTART:19701025T030000
RRULE:FREQ=YEARLY;INTERVAL=1;BYDAY=-1SU;BYMONTH=10
END:STANDARD
END:VTIMEZONE
BEGIN:VEVENT
DTSTAMP:20260422T000209
DTSTART;TZID=Europe/Berlin:20261123T180000
DTEND;TZID=Europe/Berlin:20261123T211500
UID:EG404243C2-20261123T180000@VHSWETTERAU
SUMMARY:Deutsch als Zweitsprache A2/2 (Modul 4) Integrationskurs am Abend (EG404243C2) 
LOCATION:BV BFW G.-Büchner-Gym., R. K211, Außenstelle, Huizener Straße 60, 61118 Bad Vilbel
END:VEVENT
BEGIN:VEVENT
DTSTAMP:20260422T000209
DTSTART;TZID=Europe/Berlin:20261124T180000
DTEND;TZID=Europe/Berlin:20261124T211500
UID:EG404243C2-20261124T180000@VHSWETTERAU
SUMMARY:Deutsch als Zweitsprache A2/2 (Modul 4) Integrationskurs am Abend (EG404243C2) 
LOCATION:BV BFW G.-Büchner-Gym., R. K211, Außenstelle, Huizener Straße 60, 61118 Bad Vilbel
END:VEVENT
BEGIN:VEVENT
DTSTAMP:20260422T000209
DTSTART;TZID=Europe/Berlin:20261125T180000
DTEND;TZID=Europe/Berlin:20261125T211500
UID:EG404243C2-20261125T180000@VHSWETTERAU
SUMMARY:Deutsch als Zweitsprache A2/2 (Modul 4) Integrationskurs am Abend (EG404243C2) 
LOCATION:BV BFW G.-Büchner-Gym., R. K211, Außenstelle, Huizener Straße 60, 61118 Bad Vilbel
END:VEVENT
BEGIN:VEVENT
DTSTAMP:20260422T000209
DTSTART;TZID=Europe/Berlin:20261126T180000
DTEND;TZID=Europe/Berlin:20261126T211500
UID:EG404243C2-20261126T180000@VHSWETTERAU
SUMMARY:Deutsch als Zweitsprache A2/2 (Modul 4) Integrationskurs am Abend (EG404243C2) 
LOCATION:BV BFW G.-Büchner-Gym., R. K211, Außenstelle, Huizener Straße 60, 61118 Bad Vilbel
END:VEVENT
BEGIN:VEVENT
DTSTAMP:20260422T000209
DTSTART;TZID=Europe/Berlin:20261130T180000
DTEND;TZID=Europe/Berlin:20261130T211500
UID:EG404243C2-20261130T180000@VHSWETTERAU
SUMMARY:Deutsch als Zweitsprache A2/2 (Modul 4) Integrationskurs am Abend (EG404243C2) 
LOCATION:BV BFW G.-Büchner-Gym., R. K211, Außenstelle, Huizener Straße 60, 61118 Bad Vilbel
END:VEVENT
BEGIN:VEVENT
DTSTAMP:20260422T000209
DTSTART;TZID=Europe/Berlin:20261201T180000
DTEND;TZID=Europe/Berlin:20261201T211500
UID:EG404243C2-20261201T180000@VHSWETTERAU
SUMMARY:Deutsch als Zweitsprache A2/2 (Modul 4) Integrationskurs am Abend (EG404243C2) 
LOCATION:BV BFW G.-Büchner-Gym., R. K211, Außenstelle, Huizener Straße 60, 61118 Bad Vilbel
END:VEVENT
BEGIN:VEVENT
DTSTAMP:20260422T000209
DTSTART;TZID=Europe/Berlin:20261202T180000
DTEND;TZID=Europe/Berlin:20261202T211500
UID:EG404243C2-20261202T180000@VHSWETTERAU
SUMMARY:Deutsch als Zweitsprache A2/2 (Modul 4) Integrationskurs am Abend (EG404243C2) 
LOCATION:BV BFW G.-Büchner-Gym., R. K211, Außenstelle, Huizener Straße 60, 61118 Bad Vilbel
END:VEVENT
BEGIN:VEVENT
DTSTAMP:20260422T000209
DTSTART;TZID=Europe/Berlin:20261203T180000
DTEND;TZID=Europe/Berlin:20261203T211500
UID:EG404243C2-20261203T180000@VHSWETTERAU
SUMMARY:Deutsch als Zweitsprache A2/2 (Modul 4) Integrationskurs am Abend (EG404243C2) 
LOCATION:BV BFW G.-Büchner-Gym., R. K211, Außenstelle, Huizener Straße 60, 61118 Bad Vilbel
END:VEVENT
BEGIN:VEVENT
DTSTAMP:20260422T000209
DTSTART;TZID=Europe/Berlin:20261207T180000
DTEND;TZID=Europe/Berlin:20261207T211500
UID:EG404243C2-20261207T180000@VHSWETTERAU
SUMMARY:Deutsch als Zweitsprache A2/2 (Modul 4) Integrationskurs am Abend (EG404243C2) 
LOCATION:BV BFW G.-Büchner-Gym., R. K211, Außenstelle, Huizener Straße 60, 61118 Bad Vilbel
END:VEVENT
BEGIN:VEVENT
DTSTAMP:20260422T000209
DTSTART;TZID=Europe/Berlin:20261208T180000
DTEND;TZID=Europe/Berlin:20261208T211500
UID:EG404243C2-20261208T180000@VHSWETTERAU
SUMMARY:Deutsch als Zweitsprache A2/2 (Modul 4) Integrationskurs am Abend (EG404243C2) 
LOCATION:BV BFW G.-Büchner-Gym., R. K211, Außenstelle, Huizener Straße 60, 61118 Bad Vilbel
END:VEVENT
BEGIN:VEVENT
DTSTAMP:20260422T000209
DTSTART;TZID=Europe/Berlin:20261209T180000
DTEND;TZID=Europe/Berlin:20261209T211500
UID:EG404243C2-20261209T180000@VHSWETTERAU
SUMMARY:Deutsch als Zweitsprache A2/2 (Modul 4) Integrationskurs am Abend (EG404243C2) 
LOCATION:BV BFW G.-Büchner-Gym., R. K211, Außenstelle, Huizener Straße 60, 61118 Bad Vilbel
END:VEVENT
BEGIN:VEVENT
DTSTAMP:20260422T000209
DTSTART;TZID=Europe/Berlin:20261210T180000
DTEND;TZID=Europe/Berlin:20261210T211500
UID:EG404243C2-20261210T180000@VHSWETTERAU
SUMMARY:Deutsch als Zweitsprache A2/2 (Modul 4) Integrationskurs am Abend (EG404243C2) 
LOCATION:BV BFW G.-Büchner-Gym., R. K211, Außenstelle, Huizener Straße 60, 61118 Bad Vilbel
END:VEVENT
BEGIN:VEVENT
DTSTAMP:20260422T000209
DTSTART;TZID=Europe/Berlin:20261214T180000
DTEND;TZID=Europe/Berlin:20261214T211500
UID:EG404243C2-20261214T180000@VHSWETTERAU
SUMMARY:Deutsch als Zweitsprache A2/2 (Modul 4) Integrationskurs am Abend (EG404243C2) 
LOCATION:BV BFW G.-Büchner-Gym., R. K211, Außenstelle, Huizener Straße 60, 61118 Bad Vilbel
END:VEVENT
BEGIN:VEVENT
DTSTAMP:20260422T000209
DTSTART;TZID=Europe/Berlin:20261215T180000
DTEND;TZID=Europe/Berlin:20261215T211500
UID:EG404243C2-20261215T180000@VHSWETTERAU
SUMMARY:Deutsch als Zweitsprache A2/2 (Modul 4) Integrationskurs am Abend (EG404243C2) 
LOCATION:BV BFW G.-Büchner-Gym., R. K211, Außenstelle, Huizener Straße 60, 61118 Bad Vilbel
END:VEVENT
BEGIN:VEVENT
DTSTAMP:20260422T000209
DTSTART;TZID=Europe/Berlin:20261216T180000
DTEND;TZID=Europe/Berlin:20261216T211500
UID:EG404243C2-20261216T180000@VHSWETTERAU
SUMMARY:Deutsch als Zweitsprache A2/2 (Modul 4) Integrationskurs am Abend (EG404243C2) 
LOCATION:BV BFW G.-Büchner-Gym., R. K211, Außenstelle, Huizener Straße 60, 61118 Bad Vilbel
END:VEVENT
BEGIN:VEVENT
DTSTAMP:20260422T000209
DTSTART;TZID=Europe/Berlin:20261217T180000
DTEND;TZID=Europe/Berlin:20261217T211500
UID:EG404243C2-20261217T180000@VHSWETTERAU
SUMMARY:Deutsch als Zweitsprache A2/2 (Modul 4) Integrationskurs am Abend (EG404243C2) 
LOCATION:BV BFW G.-Büchner-Gym., R. K211, Außenstelle, Huizener Straße 60, 61118 Bad Vilbel
END:VEVENT
BEGIN:VEVENT
DTSTAMP:20260422T000209
DTSTART;TZID=Europe/Berlin:20261221T180000
DTEND;TZID=Europe/Berlin:20261221T211500
UID:EG404243C2-20261221T180000@VHSWETTERAU
SUMMARY:Deutsch als Zweitsprache A2/2 (Modul 4) Integrationskurs am Abend (EG404243C2) 
LOCATION:BV BFW G.-Büchner-Gym., R. K211, Außenstelle, Huizener Straße 60, 61118 Bad Vilbel
END:VEVENT
BEGIN:VEVENT
DTSTAMP:20260422T000209
DTSTART;TZID=Europe/Berlin:20261222T180000
DTEND;TZID=Europe/Berlin:20261222T211500
UID:EG404243C2-20261222T180000@VHSWETTERAU
SUMMARY:Deutsch als Zweitsprache A2/2 (Modul 4) Integrationskurs am Abend (EG404243C2) 
LOCATION:BV BFW G.-Büchner-Gym., R. K211, Außenstelle, Huizener Straße 60, 61118 Bad Vilbel
END:VEVENT
BEGIN:VEVENT
DTSTAMP:20260422T000209
DTSTART;TZID=Europe/Berlin:20270111T180000
DTEND;TZID=Europe/Berlin:20270111T211500
UID:EG404243C2-20270111T180000@VHSWETTERAU
SUMMARY:Deutsch als Zweitsprache A2/2 (Modul 4) Integrationskurs am Abend (EG404243C2) 
LOCATION:BV BFW G.-Büchner-Gym., R. K211, Außenstelle, Huizener Straße 60, 61118 Bad Vilbel
END:VEVENT
BEGIN:VEVENT
DTSTAMP:20260422T000209
DTSTART;TZID=Europe/Berlin:20270112T180000
DTEND;TZID=Europe/Berlin:20270112T211500
UID:EG404243C2-20270112T180000@VHSWETTERAU
SUMMARY:Deutsch als Zweitsprache A2/2 (Modul 4) Integrationskurs am Abend (EG404243C2) 
LOCATION:BV BFW G.-Büchner-Gym., R. K211, Außenstelle, Huizener Straße 60, 61118 Bad Vilbel
END:VEVENT
BEGIN:VEVENT
DTSTAMP:20260422T000209
DTSTART;TZID=Europe/Berlin:20270113T180000
DTEND;TZID=Europe/Berlin:20270113T211500
UID:EG404243C2-20270113T180000@VHSWETTERAU
SUMMARY:Deutsch als Zweitsprache A2/2 (Modul 4) Integrationskurs am Abend (EG404243C2) 
LOCATION:BV BFW G.-Büchner-Gym., R. K211, Außenstelle, Huizener Straße 60, 61118 Bad Vilbel
END:VEVENT
BEGIN:VEVENT
DTSTAMP:20260422T000209
DTSTART;TZID=Europe/Berlin:20270114T180000
DTEND;TZID=Europe/Berlin:20270114T211500
UID:EG404243C2-20270114T180000@VHSWETTERAU
SUMMARY:Deutsch als Zweitsprache A2/2 (Modul 4) Integrationskurs am Abend (EG404243C2) 
LOCATION:BV BFW G.-Büchner-Gym., R. K211, Außenstelle, Huizener Straße 60, 61118 Bad Vilbel
END:VEVENT
BEGIN:VEVENT
DTSTAMP:20260422T000209
DTSTART;TZID=Europe/Berlin:20270118T180000
DTEND;TZID=Europe/Berlin:20270118T211500
UID:EG404243C2-20270118T180000@VHSWETTERAU
SUMMARY:Deutsch als Zweitsprache A2/2 (Modul 4) Integrationskurs am Abend (EG404243C2) 
LOCATION:BV BFW G.-Büchner-Gym., R. K211, Außenstelle, Huizener Straße 60, 61118 Bad Vilbel
END:VEVENT
BEGIN:VEVENT
DTSTAMP:20260422T000209
DTSTART;TZID=Europe/Berlin:20270119T180000
DTEND;TZID=Europe/Berlin:20270119T211500
UID:EG404243C2-20270119T180000@VHSWETTERAU
SUMMARY:Deutsch als Zweitsprache A2/2 (Modul 4) Integrationskurs am Abend (EG404243C2) 
LOCATION:BV BFW G.-Büchner-Gym., R. K211, Außenstelle, Huizener Straße 60, 61118 Bad Vilbel
END:VEVENT
BEGIN:VEVENT
DTSTAMP:20260422T000209
DTSTART;TZID=Europe/Berlin:20270120T180000
DTEND;TZID=Europe/Berlin:20270120T211500
UID:EG404243C2-20270120T180000@VHSWETTERAU
SUMMARY:Deutsch als Zweitsprache A2/2 (Modul 4) Integrationskurs am Abend (EG404243C2) 
LOCATION:BV BFW G.-Büchner-Gym., R. K211, Außenstelle, Huizener Straße 60, 61118 Bad Vilbel
END:VEVENT
END:VCALENDAR