BEGIN:VCALENDAR
VERSION:2.0
PRODID:https://www.kufer.de/kuferweb / DE
METHOD:PUBLISH
CALSCALE:GREGORIAN
X-WR-TIMEZONE:Europe/Berlin
BEGIN:VTIMEZONE
TZID:Europe/Berlin
X-LIC-LOCATION:Europe/Berlin
BEGIN:DAYLIGHT
TZOFFSETFROM:+0100
TZOFFSETTO:+0200
TZNAME:CEST
DTSTART:19700329T020000
RRULE:FREQ=YEARLY;INTERVAL=1;BYDAY=-1SU;BYMONTH=3
END:DAYLIGHT
BEGIN:STANDARD
TZOFFSETFROM:+0200
TZOFFSETTO:+0100
TZNAME:CET
DTSTART:19701025T030000
RRULE:FREQ=YEARLY;INTERVAL=1;BYDAY=-1SU;BYMONTH=10
END:STANDARD
END:VTIMEZONE
BEGIN:VEVENT
DTSTAMP:20260423T121412
DTSTART;TZID=Europe/Berlin:20260803T180000
DTEND;TZID=Europe/Berlin:20260803T211500
UID:EG404243H4-20260803T180000@VHSWETTERAU
SUMMARY:Deutsch als Zweitsprache A2/2 (Modul 4) Integrationskurs am Abend (EG404243H4) 
LOCATION:Fb vhs 101, Friedensstr. 18, 61169 Friedberg
END:VEVENT
BEGIN:VEVENT
DTSTAMP:20260423T121412
DTSTART;TZID=Europe/Berlin:20260804T180000
DTEND;TZID=Europe/Berlin:20260804T211500
UID:EG404243H4-20260804T180000@VHSWETTERAU
SUMMARY:Deutsch als Zweitsprache A2/2 (Modul 4) Integrationskurs am Abend (EG404243H4) 
LOCATION:Fb vhs 101, Friedensstr. 18, 61169 Friedberg
END:VEVENT
BEGIN:VEVENT
DTSTAMP:20260423T121412
DTSTART;TZID=Europe/Berlin:20260805T180000
DTEND;TZID=Europe/Berlin:20260805T211500
UID:EG404243H4-20260805T180000@VHSWETTERAU
SUMMARY:Deutsch als Zweitsprache A2/2 (Modul 4) Integrationskurs am Abend (EG404243H4) 
LOCATION:Fb vhs 101, Friedensstr. 18, 61169 Friedberg
END:VEVENT
BEGIN:VEVENT
DTSTAMP:20260423T121412
DTSTART;TZID=Europe/Berlin:20260806T180000
DTEND;TZID=Europe/Berlin:20260806T211500
UID:EG404243H4-20260806T180000@VHSWETTERAU
SUMMARY:Deutsch als Zweitsprache A2/2 (Modul 4) Integrationskurs am Abend (EG404243H4) 
LOCATION:Fb vhs 101, Friedensstr. 18, 61169 Friedberg
END:VEVENT
BEGIN:VEVENT
DTSTAMP:20260423T121412
DTSTART;TZID=Europe/Berlin:20260807T180000
DTEND;TZID=Europe/Berlin:20260807T211500
UID:EG404243H4-20260807T180000@VHSWETTERAU
SUMMARY:Deutsch als Zweitsprache A2/2 (Modul 4) Integrationskurs am Abend (EG404243H4) 
LOCATION:Fb vhs 101, Friedensstr. 18, 61169 Friedberg
END:VEVENT
BEGIN:VEVENT
DTSTAMP:20260423T121412
DTSTART;TZID=Europe/Berlin:20260810T180000
DTEND;TZID=Europe/Berlin:20260810T211500
UID:EG404243H4-20260810T180000@VHSWETTERAU
SUMMARY:Deutsch als Zweitsprache A2/2 (Modul 4) Integrationskurs am Abend (EG404243H4) 
LOCATION:Fb vhs B12 (JPR), Friedensstr. 18, 61169 Friedberg
END:VEVENT
BEGIN:VEVENT
DTSTAMP:20260423T121412
DTSTART;TZID=Europe/Berlin:20260811T180000
DTEND;TZID=Europe/Berlin:20260811T211500
UID:EG404243H4-20260811T180000@VHSWETTERAU
SUMMARY:Deutsch als Zweitsprache A2/2 (Modul 4) Integrationskurs am Abend (EG404243H4) 
LOCATION:Fb vhs B12 (JPR), Friedensstr. 18, 61169 Friedberg
END:VEVENT
BEGIN:VEVENT
DTSTAMP:20260423T121412
DTSTART;TZID=Europe/Berlin:20260812T180000
DTEND;TZID=Europe/Berlin:20260812T211500
UID:EG404243H4-20260812T180000@VHSWETTERAU
SUMMARY:Deutsch als Zweitsprache A2/2 (Modul 4) Integrationskurs am Abend (EG404243H4) 
LOCATION:Fb vhs B12 (JPR), Friedensstr. 18, 61169 Friedberg
END:VEVENT
BEGIN:VEVENT
DTSTAMP:20260423T121412
DTSTART;TZID=Europe/Berlin:20260813T180000
DTEND;TZID=Europe/Berlin:20260813T211500
UID:EG404243H4-20260813T180000@VHSWETTERAU
SUMMARY:Deutsch als Zweitsprache A2/2 (Modul 4) Integrationskurs am Abend (EG404243H4) 
LOCATION:Fb vhs B12 (JPR), Friedensstr. 18, 61169 Friedberg
END:VEVENT
BEGIN:VEVENT
DTSTAMP:20260423T121412
DTSTART;TZID=Europe/Berlin:20260814T180000
DTEND;TZID=Europe/Berlin:20260814T211500
UID:EG404243H4-20260814T180000@VHSWETTERAU
SUMMARY:Deutsch als Zweitsprache A2/2 (Modul 4) Integrationskurs am Abend (EG404243H4) 
LOCATION:Fb vhs B12 (JPR), Friedensstr. 18, 61169 Friedberg
END:VEVENT
BEGIN:VEVENT
DTSTAMP:20260423T121412
DTSTART;TZID=Europe/Berlin:20260817T180000
DTEND;TZID=Europe/Berlin:20260817T211500
UID:EG404243H4-20260817T180000@VHSWETTERAU
SUMMARY:Deutsch als Zweitsprache A2/2 (Modul 4) Integrationskurs am Abend (EG404243H4) 
LOCATION:Fb vhs B12 (JPR), Friedensstr. 18, 61169 Friedberg
END:VEVENT
BEGIN:VEVENT
DTSTAMP:20260423T121412
DTSTART;TZID=Europe/Berlin:20260818T180000
DTEND;TZID=Europe/Berlin:20260818T211500
UID:EG404243H4-20260818T180000@VHSWETTERAU
SUMMARY:Deutsch als Zweitsprache A2/2 (Modul 4) Integrationskurs am Abend (EG404243H4) 
LOCATION:Fb vhs B12 (JPR), Friedensstr. 18, 61169 Friedberg
END:VEVENT
BEGIN:VEVENT
DTSTAMP:20260423T121412
DTSTART;TZID=Europe/Berlin:20260819T180000
DTEND;TZID=Europe/Berlin:20260819T211500
UID:EG404243H4-20260819T180000@VHSWETTERAU
SUMMARY:Deutsch als Zweitsprache A2/2 (Modul 4) Integrationskurs am Abend (EG404243H4) 
LOCATION:Fb vhs B12 (JPR), Friedensstr. 18, 61169 Friedberg
END:VEVENT
BEGIN:VEVENT
DTSTAMP:20260423T121412
DTSTART;TZID=Europe/Berlin:20260820T180000
DTEND;TZID=Europe/Berlin:20260820T211500
UID:EG404243H4-20260820T180000@VHSWETTERAU
SUMMARY:Deutsch als Zweitsprache A2/2 (Modul 4) Integrationskurs am Abend (EG404243H4) 
LOCATION:Fb vhs B12 (JPR), Friedensstr. 18, 61169 Friedberg
END:VEVENT
BEGIN:VEVENT
DTSTAMP:20260423T121412
DTSTART;TZID=Europe/Berlin:20260821T180000
DTEND;TZID=Europe/Berlin:20260821T211500
UID:EG404243H4-20260821T180000@VHSWETTERAU
SUMMARY:Deutsch als Zweitsprache A2/2 (Modul 4) Integrationskurs am Abend (EG404243H4) 
LOCATION:Fb vhs B12 (JPR), Friedensstr. 18, 61169 Friedberg
END:VEVENT
BEGIN:VEVENT
DTSTAMP:20260423T121412
DTSTART;TZID=Europe/Berlin:20260824T180000
DTEND;TZID=Europe/Berlin:20260824T211500
UID:EG404243H4-20260824T180000@VHSWETTERAU
SUMMARY:Deutsch als Zweitsprache A2/2 (Modul 4) Integrationskurs am Abend (EG404243H4) 
LOCATION:Fb vhs B12 (JPR), Friedensstr. 18, 61169 Friedberg
END:VEVENT
BEGIN:VEVENT
DTSTAMP:20260423T121412
DTSTART;TZID=Europe/Berlin:20260825T180000
DTEND;TZID=Europe/Berlin:20260825T211500
UID:EG404243H4-20260825T180000@VHSWETTERAU
SUMMARY:Deutsch als Zweitsprache A2/2 (Modul 4) Integrationskurs am Abend (EG404243H4) 
LOCATION:Fb vhs B12 (JPR), Friedensstr. 18, 61169 Friedberg
END:VEVENT
BEGIN:VEVENT
DTSTAMP:20260423T121412
DTSTART;TZID=Europe/Berlin:20260826T180000
DTEND;TZID=Europe/Berlin:20260826T211500
UID:EG404243H4-20260826T180000@VHSWETTERAU
SUMMARY:Deutsch als Zweitsprache A2/2 (Modul 4) Integrationskurs am Abend (EG404243H4) 
LOCATION:Fb vhs B12 (JPR), Friedensstr. 18, 61169 Friedberg
END:VEVENT
BEGIN:VEVENT
DTSTAMP:20260423T121412
DTSTART;TZID=Europe/Berlin:20260827T180000
DTEND;TZID=Europe/Berlin:20260827T211500
UID:EG404243H4-20260827T180000@VHSWETTERAU
SUMMARY:Deutsch als Zweitsprache A2/2 (Modul 4) Integrationskurs am Abend (EG404243H4) 
LOCATION:Fb vhs B12 (JPR), Friedensstr. 18, 61169 Friedberg
END:VEVENT
BEGIN:VEVENT
DTSTAMP:20260423T121412
DTSTART;TZID=Europe/Berlin:20260828T180000
DTEND;TZID=Europe/Berlin:20260828T211500
UID:EG404243H4-20260828T180000@VHSWETTERAU
SUMMARY:Deutsch als Zweitsprache A2/2 (Modul 4) Integrationskurs am Abend (EG404243H4) 
LOCATION:Fb vhs B12 (JPR), Friedensstr. 18, 61169 Friedberg
END:VEVENT
BEGIN:VEVENT
DTSTAMP:20260423T121412
DTSTART;TZID=Europe/Berlin:20260831T180000
DTEND;TZID=Europe/Berlin:20260831T211500
UID:EG404243H4-20260831T180000@VHSWETTERAU
SUMMARY:Deutsch als Zweitsprache A2/2 (Modul 4) Integrationskurs am Abend (EG404243H4) 
LOCATION:Fb vhs B12 (JPR), Friedensstr. 18, 61169 Friedberg
END:VEVENT
BEGIN:VEVENT
DTSTAMP:20260423T121412
DTSTART;TZID=Europe/Berlin:20260901T180000
DTEND;TZID=Europe/Berlin:20260901T211500
UID:EG404243H4-20260901T180000@VHSWETTERAU
SUMMARY:Deutsch als Zweitsprache A2/2 (Modul 4) Integrationskurs am Abend (EG404243H4) 
LOCATION:Fb vhs B12 (JPR), Friedensstr. 18, 61169 Friedberg
END:VEVENT
BEGIN:VEVENT
DTSTAMP:20260423T121412
DTSTART;TZID=Europe/Berlin:20260902T180000
DTEND;TZID=Europe/Berlin:20260902T211500
UID:EG404243H4-20260902T180000@VHSWETTERAU
SUMMARY:Deutsch als Zweitsprache A2/2 (Modul 4) Integrationskurs am Abend (EG404243H4) 
LOCATION:Fb vhs B12 (JPR), Friedensstr. 18, 61169 Friedberg
END:VEVENT
BEGIN:VEVENT
DTSTAMP:20260423T121412
DTSTART;TZID=Europe/Berlin:20260903T180000
DTEND;TZID=Europe/Berlin:20260903T211500
UID:EG404243H4-20260903T180000@VHSWETTERAU
SUMMARY:Deutsch als Zweitsprache A2/2 (Modul 4) Integrationskurs am Abend (EG404243H4) 
LOCATION:Fb vhs B12 (JPR), Friedensstr. 18, 61169 Friedberg
END:VEVENT
BEGIN:VEVENT
DTSTAMP:20260423T121412
DTSTART;TZID=Europe/Berlin:20260904T180000
DTEND;TZID=Europe/Berlin:20260904T211500
UID:EG404243H4-20260904T180000@VHSWETTERAU
SUMMARY:Deutsch als Zweitsprache A2/2 (Modul 4) Integrationskurs am Abend (EG404243H4) 
LOCATION:Fb vhs B12 (JPR), Friedensstr. 18, 61169 Friedberg
END:VEVENT
END:VCALENDAR