BEGIN:VCALENDAR
VERSION:2.0
PRODID:https://www.kufer.de/kuferweb / DE
METHOD:PUBLISH
CALSCALE:GREGORIAN
X-WR-TIMEZONE:Europe/Berlin
BEGIN:VTIMEZONE
TZID:Europe/Berlin
X-LIC-LOCATION:Europe/Berlin
BEGIN:DAYLIGHT
TZOFFSETFROM:+0100
TZOFFSETTO:+0200
TZNAME:CEST
DTSTART:19700329T020000
RRULE:FREQ=YEARLY;INTERVAL=1;BYDAY=-1SU;BYMONTH=3
END:DAYLIGHT
BEGIN:STANDARD
TZOFFSETFROM:+0200
TZOFFSETTO:+0100
TZNAME:CET
DTSTART:19701025T030000
RRULE:FREQ=YEARLY;INTERVAL=1;BYDAY=-1SU;BYMONTH=10
END:STANDARD
END:VTIMEZONE
BEGIN:VEVENT
DTSTAMP:20260421T223243
DTSTART;TZID=Europe/Berlin:20261019T090000
DTEND;TZID=Europe/Berlin:20261019T121500
UID:EG404251H1-20261019T090000@VHSWETTERAU
SUMMARY:Deutsch als Zweitsprache B1/1 (Modul 5) Integrationskurs am Vormittag (EG404251H1) 
LOCATION:FB Am Dachspfad 32A, R. 213, Am Dachspfad 32A, 61169 Friedberg
END:VEVENT
BEGIN:VEVENT
DTSTAMP:20260421T223243
DTSTART;TZID=Europe/Berlin:20261020T090000
DTEND;TZID=Europe/Berlin:20261020T121500
UID:EG404251H1-20261020T090000@VHSWETTERAU
SUMMARY:Deutsch als Zweitsprache B1/1 (Modul 5) Integrationskurs am Vormittag (EG404251H1) 
LOCATION:FB Am Dachspfad 32A, R. 213, Am Dachspfad 32A, 61169 Friedberg
END:VEVENT
BEGIN:VEVENT
DTSTAMP:20260421T223243
DTSTART;TZID=Europe/Berlin:20261021T090000
DTEND;TZID=Europe/Berlin:20261021T121500
UID:EG404251H1-20261021T090000@VHSWETTERAU
SUMMARY:Deutsch als Zweitsprache B1/1 (Modul 5) Integrationskurs am Vormittag (EG404251H1) 
LOCATION:FB Am Dachspfad 32A, R. 213, Am Dachspfad 32A, 61169 Friedberg
END:VEVENT
BEGIN:VEVENT
DTSTAMP:20260421T223243
DTSTART;TZID=Europe/Berlin:20261022T090000
DTEND;TZID=Europe/Berlin:20261022T121500
UID:EG404251H1-20261022T090000@VHSWETTERAU
SUMMARY:Deutsch als Zweitsprache B1/1 (Modul 5) Integrationskurs am Vormittag (EG404251H1) 
LOCATION:FB Am Dachspfad 32A, R. 213, Am Dachspfad 32A, 61169 Friedberg
END:VEVENT
BEGIN:VEVENT
DTSTAMP:20260421T223243
DTSTART;TZID=Europe/Berlin:20261023T090000
DTEND;TZID=Europe/Berlin:20261023T121500
UID:EG404251H1-20261023T090000@VHSWETTERAU
SUMMARY:Deutsch als Zweitsprache B1/1 (Modul 5) Integrationskurs am Vormittag (EG404251H1) 
LOCATION:FB Am Dachspfad 32A, R. 213, Am Dachspfad 32A, 61169 Friedberg
END:VEVENT
BEGIN:VEVENT
DTSTAMP:20260421T223243
DTSTART;TZID=Europe/Berlin:20261026T090000
DTEND;TZID=Europe/Berlin:20261026T121500
UID:EG404251H1-20261026T090000@VHSWETTERAU
SUMMARY:Deutsch als Zweitsprache B1/1 (Modul 5) Integrationskurs am Vormittag (EG404251H1) 
LOCATION:FB Am Dachspfad 32A, R. 213, Am Dachspfad 32A, 61169 Friedberg
END:VEVENT
BEGIN:VEVENT
DTSTAMP:20260421T223243
DTSTART;TZID=Europe/Berlin:20261027T090000
DTEND;TZID=Europe/Berlin:20261027T121500
UID:EG404251H1-20261027T090000@VHSWETTERAU
SUMMARY:Deutsch als Zweitsprache B1/1 (Modul 5) Integrationskurs am Vormittag (EG404251H1) 
LOCATION:FB Am Dachspfad 32A, R. 213, Am Dachspfad 32A, 61169 Friedberg
END:VEVENT
BEGIN:VEVENT
DTSTAMP:20260421T223243
DTSTART;TZID=Europe/Berlin:20261028T090000
DTEND;TZID=Europe/Berlin:20261028T121500
UID:EG404251H1-20261028T090000@VHSWETTERAU
SUMMARY:Deutsch als Zweitsprache B1/1 (Modul 5) Integrationskurs am Vormittag (EG404251H1) 
LOCATION:FB Am Dachspfad 32A, R. 213, Am Dachspfad 32A, 61169 Friedberg
END:VEVENT
BEGIN:VEVENT
DTSTAMP:20260421T223243
DTSTART;TZID=Europe/Berlin:20261029T090000
DTEND;TZID=Europe/Berlin:20261029T121500
UID:EG404251H1-20261029T090000@VHSWETTERAU
SUMMARY:Deutsch als Zweitsprache B1/1 (Modul 5) Integrationskurs am Vormittag (EG404251H1) 
LOCATION:FB Am Dachspfad 32A, R. 213, Am Dachspfad 32A, 61169 Friedberg
END:VEVENT
BEGIN:VEVENT
DTSTAMP:20260421T223243
DTSTART;TZID=Europe/Berlin:20261030T090000
DTEND;TZID=Europe/Berlin:20261030T121500
UID:EG404251H1-20261030T090000@VHSWETTERAU
SUMMARY:Deutsch als Zweitsprache B1/1 (Modul 5) Integrationskurs am Vormittag (EG404251H1) 
LOCATION:FB Am Dachspfad 32A, R. 213, Am Dachspfad 32A, 61169 Friedberg
END:VEVENT
BEGIN:VEVENT
DTSTAMP:20260421T223243
DTSTART;TZID=Europe/Berlin:20261102T090000
DTEND;TZID=Europe/Berlin:20261102T121500
UID:EG404251H1-20261102T090000@VHSWETTERAU
SUMMARY:Deutsch als Zweitsprache B1/1 (Modul 5) Integrationskurs am Vormittag (EG404251H1) 
LOCATION:FB Am Dachspfad 32A, R. 213, Am Dachspfad 32A, 61169 Friedberg
END:VEVENT
BEGIN:VEVENT
DTSTAMP:20260421T223243
DTSTART;TZID=Europe/Berlin:20261103T090000
DTEND;TZID=Europe/Berlin:20261103T121500
UID:EG404251H1-20261103T090000@VHSWETTERAU
SUMMARY:Deutsch als Zweitsprache B1/1 (Modul 5) Integrationskurs am Vormittag (EG404251H1) 
LOCATION:FB Am Dachspfad 32A, R. 213, Am Dachspfad 32A, 61169 Friedberg
END:VEVENT
BEGIN:VEVENT
DTSTAMP:20260421T223243
DTSTART;TZID=Europe/Berlin:20261104T090000
DTEND;TZID=Europe/Berlin:20261104T121500
UID:EG404251H1-20261104T090000@VHSWETTERAU
SUMMARY:Deutsch als Zweitsprache B1/1 (Modul 5) Integrationskurs am Vormittag (EG404251H1) 
LOCATION:FB Am Dachspfad 32A, R. 213, Am Dachspfad 32A, 61169 Friedberg
END:VEVENT
BEGIN:VEVENT
DTSTAMP:20260421T223243
DTSTART;TZID=Europe/Berlin:20261105T090000
DTEND;TZID=Europe/Berlin:20261105T121500
UID:EG404251H1-20261105T090000@VHSWETTERAU
SUMMARY:Deutsch als Zweitsprache B1/1 (Modul 5) Integrationskurs am Vormittag (EG404251H1) 
LOCATION:FB Am Dachspfad 32A, R. 213, Am Dachspfad 32A, 61169 Friedberg
END:VEVENT
BEGIN:VEVENT
DTSTAMP:20260421T223243
DTSTART;TZID=Europe/Berlin:20261106T090000
DTEND;TZID=Europe/Berlin:20261106T121500
UID:EG404251H1-20261106T090000@VHSWETTERAU
SUMMARY:Deutsch als Zweitsprache B1/1 (Modul 5) Integrationskurs am Vormittag (EG404251H1) 
LOCATION:FB Am Dachspfad 32A, R. 213, Am Dachspfad 32A, 61169 Friedberg
END:VEVENT
BEGIN:VEVENT
DTSTAMP:20260421T223243
DTSTART;TZID=Europe/Berlin:20261109T090000
DTEND;TZID=Europe/Berlin:20261109T121500
UID:EG404251H1-20261109T090000@VHSWETTERAU
SUMMARY:Deutsch als Zweitsprache B1/1 (Modul 5) Integrationskurs am Vormittag (EG404251H1) 
LOCATION:FB Am Dachspfad 32A, R. 213, Am Dachspfad 32A, 61169 Friedberg
END:VEVENT
BEGIN:VEVENT
DTSTAMP:20260421T223243
DTSTART;TZID=Europe/Berlin:20261110T090000
DTEND;TZID=Europe/Berlin:20261110T121500
UID:EG404251H1-20261110T090000@VHSWETTERAU
SUMMARY:Deutsch als Zweitsprache B1/1 (Modul 5) Integrationskurs am Vormittag (EG404251H1) 
LOCATION:FB Am Dachspfad 32A, R. 213, Am Dachspfad 32A, 61169 Friedberg
END:VEVENT
BEGIN:VEVENT
DTSTAMP:20260421T223243
DTSTART;TZID=Europe/Berlin:20261111T090000
DTEND;TZID=Europe/Berlin:20261111T121500
UID:EG404251H1-20261111T090000@VHSWETTERAU
SUMMARY:Deutsch als Zweitsprache B1/1 (Modul 5) Integrationskurs am Vormittag (EG404251H1) 
LOCATION:FB Am Dachspfad 32A, R. 213, Am Dachspfad 32A, 61169 Friedberg
END:VEVENT
BEGIN:VEVENT
DTSTAMP:20260421T223243
DTSTART;TZID=Europe/Berlin:20261112T090000
DTEND;TZID=Europe/Berlin:20261112T121500
UID:EG404251H1-20261112T090000@VHSWETTERAU
SUMMARY:Deutsch als Zweitsprache B1/1 (Modul 5) Integrationskurs am Vormittag (EG404251H1) 
LOCATION:FB Am Dachspfad 32A, R. 213, Am Dachspfad 32A, 61169 Friedberg
END:VEVENT
BEGIN:VEVENT
DTSTAMP:20260421T223243
DTSTART;TZID=Europe/Berlin:20261113T090000
DTEND;TZID=Europe/Berlin:20261113T121500
UID:EG404251H1-20261113T090000@VHSWETTERAU
SUMMARY:Deutsch als Zweitsprache B1/1 (Modul 5) Integrationskurs am Vormittag (EG404251H1) 
LOCATION:FB Am Dachspfad 32A, R. 213, Am Dachspfad 32A, 61169 Friedberg
END:VEVENT
BEGIN:VEVENT
DTSTAMP:20260421T223243
DTSTART;TZID=Europe/Berlin:20261116T090000
DTEND;TZID=Europe/Berlin:20261116T121500
UID:EG404251H1-20261116T090000@VHSWETTERAU
SUMMARY:Deutsch als Zweitsprache B1/1 (Modul 5) Integrationskurs am Vormittag (EG404251H1) 
LOCATION:FB Am Dachspfad 32A, R. 213, Am Dachspfad 32A, 61169 Friedberg
END:VEVENT
BEGIN:VEVENT
DTSTAMP:20260421T223243
DTSTART;TZID=Europe/Berlin:20261117T090000
DTEND;TZID=Europe/Berlin:20261117T121500
UID:EG404251H1-20261117T090000@VHSWETTERAU
SUMMARY:Deutsch als Zweitsprache B1/1 (Modul 5) Integrationskurs am Vormittag (EG404251H1) 
LOCATION:FB Am Dachspfad 32A, R. 213, Am Dachspfad 32A, 61169 Friedberg
END:VEVENT
BEGIN:VEVENT
DTSTAMP:20260421T223243
DTSTART;TZID=Europe/Berlin:20261118T090000
DTEND;TZID=Europe/Berlin:20261118T121500
UID:EG404251H1-20261118T090000@VHSWETTERAU
SUMMARY:Deutsch als Zweitsprache B1/1 (Modul 5) Integrationskurs am Vormittag (EG404251H1) 
LOCATION:FB Am Dachspfad 32A, R. 213, Am Dachspfad 32A, 61169 Friedberg
END:VEVENT
BEGIN:VEVENT
DTSTAMP:20260421T223243
DTSTART;TZID=Europe/Berlin:20261119T090000
DTEND;TZID=Europe/Berlin:20261119T121500
UID:EG404251H1-20261119T090000@VHSWETTERAU
SUMMARY:Deutsch als Zweitsprache B1/1 (Modul 5) Integrationskurs am Vormittag (EG404251H1) 
LOCATION:FB Am Dachspfad 32A, R. 213, Am Dachspfad 32A, 61169 Friedberg
END:VEVENT
BEGIN:VEVENT
DTSTAMP:20260421T223243
DTSTART;TZID=Europe/Berlin:20261120T090000
DTEND;TZID=Europe/Berlin:20261120T121500
UID:EG404251H1-20261120T090000@VHSWETTERAU
SUMMARY:Deutsch als Zweitsprache B1/1 (Modul 5) Integrationskurs am Vormittag (EG404251H1) 
LOCATION:FB Am Dachspfad 32A, R. 213, Am Dachspfad 32A, 61169 Friedberg
END:VEVENT
END:VCALENDAR