BEGIN:VCALENDAR
VERSION:2.0
PRODID:https://www.kufer.de/kuferweb / DE
METHOD:PUBLISH
CALSCALE:GREGORIAN
X-WR-TIMEZONE:Europe/Berlin
BEGIN:VTIMEZONE
TZID:Europe/Berlin
X-LIC-LOCATION:Europe/Berlin
BEGIN:DAYLIGHT
TZOFFSETFROM:+0100
TZOFFSETTO:+0200
TZNAME:CEST
DTSTART:19700329T020000
RRULE:FREQ=YEARLY;INTERVAL=1;BYDAY=-1SU;BYMONTH=3
END:DAYLIGHT
BEGIN:STANDARD
TZOFFSETFROM:+0200
TZOFFSETTO:+0100
TZNAME:CET
DTSTART:19701025T030000
RRULE:FREQ=YEARLY;INTERVAL=1;BYDAY=-1SU;BYMONTH=10
END:STANDARD
END:VTIMEZONE
BEGIN:VEVENT
DTSTAMP:20260421T223258
DTSTART;TZID=Europe/Berlin:20260917T140000
DTEND;TZID=Europe/Berlin:20260917T171500
UID:EG404251H6-20260917T140000@VHSWETTERAU
SUMMARY:Kurs für gering Literalisierte Aufbaukurs 2 (Modul 5) Integrationskurs am Nachmittag (EG404251H6) 
LOCATION:FB Am Dachspfad 32A, R. 207, Am Dachspfad 32A, 61169 Friedberg
END:VEVENT
BEGIN:VEVENT
DTSTAMP:20260421T223258
DTSTART;TZID=Europe/Berlin:20260918T140000
DTEND;TZID=Europe/Berlin:20260918T171500
UID:EG404251H6-20260918T140000@VHSWETTERAU
SUMMARY:Kurs für gering Literalisierte Aufbaukurs 2 (Modul 5) Integrationskurs am Nachmittag (EG404251H6) 
LOCATION:FB Am Dachspfad 32A, R. 207, Am Dachspfad 32A, 61169 Friedberg
END:VEVENT
BEGIN:VEVENT
DTSTAMP:20260421T223258
DTSTART;TZID=Europe/Berlin:20260921T140000
DTEND;TZID=Europe/Berlin:20260921T171500
UID:EG404251H6-20260921T140000@VHSWETTERAU
SUMMARY:Kurs für gering Literalisierte Aufbaukurs 2 (Modul 5) Integrationskurs am Nachmittag (EG404251H6) 
LOCATION:FB Am Dachspfad 32A, R. 207, Am Dachspfad 32A, 61169 Friedberg
END:VEVENT
BEGIN:VEVENT
DTSTAMP:20260421T223258
DTSTART;TZID=Europe/Berlin:20260922T140000
DTEND;TZID=Europe/Berlin:20260922T171500
UID:EG404251H6-20260922T140000@VHSWETTERAU
SUMMARY:Kurs für gering Literalisierte Aufbaukurs 2 (Modul 5) Integrationskurs am Nachmittag (EG404251H6) 
LOCATION:FB Am Dachspfad 32A, R. 207, Am Dachspfad 32A, 61169 Friedberg
END:VEVENT
BEGIN:VEVENT
DTSTAMP:20260421T223258
DTSTART;TZID=Europe/Berlin:20260923T140000
DTEND;TZID=Europe/Berlin:20260923T171500
UID:EG404251H6-20260923T140000@VHSWETTERAU
SUMMARY:Kurs für gering Literalisierte Aufbaukurs 2 (Modul 5) Integrationskurs am Nachmittag (EG404251H6) 
LOCATION:FB Am Dachspfad 32A, R. 207, Am Dachspfad 32A, 61169 Friedberg
END:VEVENT
BEGIN:VEVENT
DTSTAMP:20260421T223258
DTSTART;TZID=Europe/Berlin:20260924T140000
DTEND;TZID=Europe/Berlin:20260924T171500
UID:EG404251H6-20260924T140000@VHSWETTERAU
SUMMARY:Kurs für gering Literalisierte Aufbaukurs 2 (Modul 5) Integrationskurs am Nachmittag (EG404251H6) 
LOCATION:FB Am Dachspfad 32A, R. 207, Am Dachspfad 32A, 61169 Friedberg
END:VEVENT
BEGIN:VEVENT
DTSTAMP:20260421T223258
DTSTART;TZID=Europe/Berlin:20260925T140000
DTEND;TZID=Europe/Berlin:20260925T171500
UID:EG404251H6-20260925T140000@VHSWETTERAU
SUMMARY:Kurs für gering Literalisierte Aufbaukurs 2 (Modul 5) Integrationskurs am Nachmittag (EG404251H6) 
LOCATION:FB Am Dachspfad 32A, R. 207, Am Dachspfad 32A, 61169 Friedberg
END:VEVENT
BEGIN:VEVENT
DTSTAMP:20260421T223258
DTSTART;TZID=Europe/Berlin:20260928T140000
DTEND;TZID=Europe/Berlin:20260928T171500
UID:EG404251H6-20260928T140000@VHSWETTERAU
SUMMARY:Kurs für gering Literalisierte Aufbaukurs 2 (Modul 5) Integrationskurs am Nachmittag (EG404251H6) 
LOCATION:FB Am Dachspfad 32A, R. 207, Am Dachspfad 32A, 61169 Friedberg
END:VEVENT
BEGIN:VEVENT
DTSTAMP:20260421T223258
DTSTART;TZID=Europe/Berlin:20260929T140000
DTEND;TZID=Europe/Berlin:20260929T171500
UID:EG404251H6-20260929T140000@VHSWETTERAU
SUMMARY:Kurs für gering Literalisierte Aufbaukurs 2 (Modul 5) Integrationskurs am Nachmittag (EG404251H6) 
LOCATION:FB Am Dachspfad 32A, R. 207, Am Dachspfad 32A, 61169 Friedberg
END:VEVENT
BEGIN:VEVENT
DTSTAMP:20260421T223258
DTSTART;TZID=Europe/Berlin:20260930T140000
DTEND;TZID=Europe/Berlin:20260930T171500
UID:EG404251H6-20260930T140000@VHSWETTERAU
SUMMARY:Kurs für gering Literalisierte Aufbaukurs 2 (Modul 5) Integrationskurs am Nachmittag (EG404251H6) 
LOCATION:FB Am Dachspfad 32A, R. 207, Am Dachspfad 32A, 61169 Friedberg
END:VEVENT
BEGIN:VEVENT
DTSTAMP:20260421T223258
DTSTART;TZID=Europe/Berlin:20261001T140000
DTEND;TZID=Europe/Berlin:20261001T171500
UID:EG404251H6-20261001T140000@VHSWETTERAU
SUMMARY:Kurs für gering Literalisierte Aufbaukurs 2 (Modul 5) Integrationskurs am Nachmittag (EG404251H6) 
LOCATION:FB Am Dachspfad 32A, R. 207, Am Dachspfad 32A, 61169 Friedberg
END:VEVENT
BEGIN:VEVENT
DTSTAMP:20260421T223258
DTSTART;TZID=Europe/Berlin:20261002T140000
DTEND;TZID=Europe/Berlin:20261002T171500
UID:EG404251H6-20261002T140000@VHSWETTERAU
SUMMARY:Kurs für gering Literalisierte Aufbaukurs 2 (Modul 5) Integrationskurs am Nachmittag (EG404251H6) 
LOCATION:FB Am Dachspfad 32A, R. 207, Am Dachspfad 32A, 61169 Friedberg
END:VEVENT
BEGIN:VEVENT
DTSTAMP:20260421T223258
DTSTART;TZID=Europe/Berlin:20261019T140000
DTEND;TZID=Europe/Berlin:20261019T171500
UID:EG404251H6-20261019T140000@VHSWETTERAU
SUMMARY:Kurs für gering Literalisierte Aufbaukurs 2 (Modul 5) Integrationskurs am Nachmittag (EG404251H6) 
LOCATION:FB Am Dachspfad 32A, R. 207, Am Dachspfad 32A, 61169 Friedberg
END:VEVENT
BEGIN:VEVENT
DTSTAMP:20260421T223258
DTSTART;TZID=Europe/Berlin:20261020T140000
DTEND;TZID=Europe/Berlin:20261020T171500
UID:EG404251H6-20261020T140000@VHSWETTERAU
SUMMARY:Kurs für gering Literalisierte Aufbaukurs 2 (Modul 5) Integrationskurs am Nachmittag (EG404251H6) 
LOCATION:FB Am Dachspfad 32A, R. 207, Am Dachspfad 32A, 61169 Friedberg
END:VEVENT
BEGIN:VEVENT
DTSTAMP:20260421T223258
DTSTART;TZID=Europe/Berlin:20261021T140000
DTEND;TZID=Europe/Berlin:20261021T171500
UID:EG404251H6-20261021T140000@VHSWETTERAU
SUMMARY:Kurs für gering Literalisierte Aufbaukurs 2 (Modul 5) Integrationskurs am Nachmittag (EG404251H6) 
LOCATION:FB Am Dachspfad 32A, R. 207, Am Dachspfad 32A, 61169 Friedberg
END:VEVENT
BEGIN:VEVENT
DTSTAMP:20260421T223258
DTSTART;TZID=Europe/Berlin:20261022T140000
DTEND;TZID=Europe/Berlin:20261022T171500
UID:EG404251H6-20261022T140000@VHSWETTERAU
SUMMARY:Kurs für gering Literalisierte Aufbaukurs 2 (Modul 5) Integrationskurs am Nachmittag (EG404251H6) 
LOCATION:FB Am Dachspfad 32A, R. 207, Am Dachspfad 32A, 61169 Friedberg
END:VEVENT
BEGIN:VEVENT
DTSTAMP:20260421T223258
DTSTART;TZID=Europe/Berlin:20261023T140000
DTEND;TZID=Europe/Berlin:20261023T171500
UID:EG404251H6-20261023T140000@VHSWETTERAU
SUMMARY:Kurs für gering Literalisierte Aufbaukurs 2 (Modul 5) Integrationskurs am Nachmittag (EG404251H6) 
LOCATION:FB Am Dachspfad 32A, R. 207, Am Dachspfad 32A, 61169 Friedberg
END:VEVENT
BEGIN:VEVENT
DTSTAMP:20260421T223258
DTSTART;TZID=Europe/Berlin:20261026T140000
DTEND;TZID=Europe/Berlin:20261026T171500
UID:EG404251H6-20261026T140000@VHSWETTERAU
SUMMARY:Kurs für gering Literalisierte Aufbaukurs 2 (Modul 5) Integrationskurs am Nachmittag (EG404251H6) 
LOCATION:FB Am Dachspfad 32A, R. 207, Am Dachspfad 32A, 61169 Friedberg
END:VEVENT
BEGIN:VEVENT
DTSTAMP:20260421T223258
DTSTART;TZID=Europe/Berlin:20261027T140000
DTEND;TZID=Europe/Berlin:20261027T171500
UID:EG404251H6-20261027T140000@VHSWETTERAU
SUMMARY:Kurs für gering Literalisierte Aufbaukurs 2 (Modul 5) Integrationskurs am Nachmittag (EG404251H6) 
LOCATION:FB Am Dachspfad 32A, R. 207, Am Dachspfad 32A, 61169 Friedberg
END:VEVENT
BEGIN:VEVENT
DTSTAMP:20260421T223258
DTSTART;TZID=Europe/Berlin:20261028T140000
DTEND;TZID=Europe/Berlin:20261028T171500
UID:EG404251H6-20261028T140000@VHSWETTERAU
SUMMARY:Kurs für gering Literalisierte Aufbaukurs 2 (Modul 5) Integrationskurs am Nachmittag (EG404251H6) 
LOCATION:FB Am Dachspfad 32A, R. 207, Am Dachspfad 32A, 61169 Friedberg
END:VEVENT
BEGIN:VEVENT
DTSTAMP:20260421T223258
DTSTART;TZID=Europe/Berlin:20261029T140000
DTEND;TZID=Europe/Berlin:20261029T171500
UID:EG404251H6-20261029T140000@VHSWETTERAU
SUMMARY:Kurs für gering Literalisierte Aufbaukurs 2 (Modul 5) Integrationskurs am Nachmittag (EG404251H6) 
LOCATION:FB Am Dachspfad 32A, R. 207, Am Dachspfad 32A, 61169 Friedberg
END:VEVENT
BEGIN:VEVENT
DTSTAMP:20260421T223258
DTSTART;TZID=Europe/Berlin:20261030T140000
DTEND;TZID=Europe/Berlin:20261030T171500
UID:EG404251H6-20261030T140000@VHSWETTERAU
SUMMARY:Kurs für gering Literalisierte Aufbaukurs 2 (Modul 5) Integrationskurs am Nachmittag (EG404251H6) 
LOCATION:FB Am Dachspfad 32A, R. 207, Am Dachspfad 32A, 61169 Friedberg
END:VEVENT
BEGIN:VEVENT
DTSTAMP:20260421T223258
DTSTART;TZID=Europe/Berlin:20261102T140000
DTEND;TZID=Europe/Berlin:20261102T171500
UID:EG404251H6-20261102T140000@VHSWETTERAU
SUMMARY:Kurs für gering Literalisierte Aufbaukurs 2 (Modul 5) Integrationskurs am Nachmittag (EG404251H6) 
LOCATION:FB Am Dachspfad 32A, R. 207, Am Dachspfad 32A, 61169 Friedberg
END:VEVENT
BEGIN:VEVENT
DTSTAMP:20260421T223258
DTSTART;TZID=Europe/Berlin:20261103T140000
DTEND;TZID=Europe/Berlin:20261103T171500
UID:EG404251H6-20261103T140000@VHSWETTERAU
SUMMARY:Kurs für gering Literalisierte Aufbaukurs 2 (Modul 5) Integrationskurs am Nachmittag (EG404251H6) 
LOCATION:FB Am Dachspfad 32A, R. 207, Am Dachspfad 32A, 61169 Friedberg
END:VEVENT
BEGIN:VEVENT
DTSTAMP:20260421T223258
DTSTART;TZID=Europe/Berlin:20261104T140000
DTEND;TZID=Europe/Berlin:20261104T171500
UID:EG404251H6-20261104T140000@VHSWETTERAU
SUMMARY:Kurs für gering Literalisierte Aufbaukurs 2 (Modul 5) Integrationskurs am Nachmittag (EG404251H6) 
LOCATION:FB Am Dachspfad 32A, R. 207, Am Dachspfad 32A, 61169 Friedberg
END:VEVENT
END:VCALENDAR