BEGIN:VCALENDAR
VERSION:2.0
PRODID:https://www.kufer.de/kuferweb / DE
METHOD:PUBLISH
CALSCALE:GREGORIAN
X-WR-TIMEZONE:Europe/Berlin
BEGIN:VTIMEZONE
TZID:Europe/Berlin
X-LIC-LOCATION:Europe/Berlin
BEGIN:DAYLIGHT
TZOFFSETFROM:+0100
TZOFFSETTO:+0200
TZNAME:CEST
DTSTART:19700329T020000
RRULE:FREQ=YEARLY;INTERVAL=1;BYDAY=-1SU;BYMONTH=3
END:DAYLIGHT
BEGIN:STANDARD
TZOFFSETFROM:+0200
TZOFFSETTO:+0100
TZNAME:CET
DTSTART:19701025T030000
RRULE:FREQ=YEARLY;INTERVAL=1;BYDAY=-1SU;BYMONTH=10
END:STANDARD
END:VTIMEZONE
BEGIN:VEVENT
DTSTAMP:20260422T013020
DTSTART;TZID=Europe/Berlin:20260928T133000
DTEND;TZID=Europe/Berlin:20260928T173500
UID:EG404252P4-20260928T133000@VHSWETTERAU
SUMMARY:Deutsch als Zweitsprache B1/1 (Modul 5) Integrationskurs am Nachmittag Intensivkurs am Nachmittag (EG404252P4) 
LOCATION:Nidda Alteburgschule R. 510, Am Heiligen Kreuz 34, 63667 Nidda
END:VEVENT
BEGIN:VEVENT
DTSTAMP:20260422T013020
DTSTART;TZID=Europe/Berlin:20260929T133000
DTEND;TZID=Europe/Berlin:20260929T173500
UID:EG404252P4-20260929T133000@VHSWETTERAU
SUMMARY:Deutsch als Zweitsprache B1/1 (Modul 5) Integrationskurs am Nachmittag Intensivkurs am Nachmittag (EG404252P4) 
LOCATION:Nidda Alteburgschule R. 510, Am Heiligen Kreuz 34, 63667 Nidda
END:VEVENT
BEGIN:VEVENT
DTSTAMP:20260422T013020
DTSTART;TZID=Europe/Berlin:20260930T133000
DTEND;TZID=Europe/Berlin:20260930T173500
UID:EG404252P4-20260930T133000@VHSWETTERAU
SUMMARY:Deutsch als Zweitsprache B1/1 (Modul 5) Integrationskurs am Nachmittag Intensivkurs am Nachmittag (EG404252P4) 
LOCATION:Nidda Alteburgschule R. 510, Am Heiligen Kreuz 34, 63667 Nidda
END:VEVENT
BEGIN:VEVENT
DTSTAMP:20260422T013020
DTSTART;TZID=Europe/Berlin:20261001T133000
DTEND;TZID=Europe/Berlin:20261001T173500
UID:EG404252P4-20261001T133000@VHSWETTERAU
SUMMARY:Deutsch als Zweitsprache B1/1 (Modul 5) Integrationskurs am Nachmittag Intensivkurs am Nachmittag (EG404252P4) 
LOCATION:Nidda Alteburgschule R. 510, Am Heiligen Kreuz 34, 63667 Nidda
END:VEVENT
BEGIN:VEVENT
DTSTAMP:20260422T013020
DTSTART;TZID=Europe/Berlin:20261019T133000
DTEND;TZID=Europe/Berlin:20261019T173500
UID:EG404252P4-20261019T133000@VHSWETTERAU
SUMMARY:Deutsch als Zweitsprache B1/1 (Modul 5) Integrationskurs am Nachmittag Intensivkurs am Nachmittag (EG404252P4) 
LOCATION:Nidda Alteburgschule R. 510, Am Heiligen Kreuz 34, 63667 Nidda
END:VEVENT
BEGIN:VEVENT
DTSTAMP:20260422T013020
DTSTART;TZID=Europe/Berlin:20261020T133000
DTEND;TZID=Europe/Berlin:20261020T173500
UID:EG404252P4-20261020T133000@VHSWETTERAU
SUMMARY:Deutsch als Zweitsprache B1/1 (Modul 5) Integrationskurs am Nachmittag Intensivkurs am Nachmittag (EG404252P4) 
LOCATION:Nidda Alteburgschule R. 510, Am Heiligen Kreuz 34, 63667 Nidda
END:VEVENT
BEGIN:VEVENT
DTSTAMP:20260422T013020
DTSTART;TZID=Europe/Berlin:20261021T133000
DTEND;TZID=Europe/Berlin:20261021T173500
UID:EG404252P4-20261021T133000@VHSWETTERAU
SUMMARY:Deutsch als Zweitsprache B1/1 (Modul 5) Integrationskurs am Nachmittag Intensivkurs am Nachmittag (EG404252P4) 
LOCATION:Nidda Alteburgschule R. 510, Am Heiligen Kreuz 34, 63667 Nidda
END:VEVENT
BEGIN:VEVENT
DTSTAMP:20260422T013020
DTSTART;TZID=Europe/Berlin:20261022T133000
DTEND;TZID=Europe/Berlin:20261022T173500
UID:EG404252P4-20261022T133000@VHSWETTERAU
SUMMARY:Deutsch als Zweitsprache B1/1 (Modul 5) Integrationskurs am Nachmittag Intensivkurs am Nachmittag (EG404252P4) 
LOCATION:Nidda Alteburgschule R. 510, Am Heiligen Kreuz 34, 63667 Nidda
END:VEVENT
BEGIN:VEVENT
DTSTAMP:20260422T013020
DTSTART;TZID=Europe/Berlin:20261026T133000
DTEND;TZID=Europe/Berlin:20261026T173500
UID:EG404252P4-20261026T133000@VHSWETTERAU
SUMMARY:Deutsch als Zweitsprache B1/1 (Modul 5) Integrationskurs am Nachmittag Intensivkurs am Nachmittag (EG404252P4) 
LOCATION:Nidda Alteburgschule R. 510, Am Heiligen Kreuz 34, 63667 Nidda
END:VEVENT
BEGIN:VEVENT
DTSTAMP:20260422T013020
DTSTART;TZID=Europe/Berlin:20261027T133000
DTEND;TZID=Europe/Berlin:20261027T173500
UID:EG404252P4-20261027T133000@VHSWETTERAU
SUMMARY:Deutsch als Zweitsprache B1/1 (Modul 5) Integrationskurs am Nachmittag Intensivkurs am Nachmittag (EG404252P4) 
LOCATION:Nidda Alteburgschule R. 510, Am Heiligen Kreuz 34, 63667 Nidda
END:VEVENT
BEGIN:VEVENT
DTSTAMP:20260422T013020
DTSTART;TZID=Europe/Berlin:20261028T133000
DTEND;TZID=Europe/Berlin:20261028T173500
UID:EG404252P4-20261028T133000@VHSWETTERAU
SUMMARY:Deutsch als Zweitsprache B1/1 (Modul 5) Integrationskurs am Nachmittag Intensivkurs am Nachmittag (EG404252P4) 
LOCATION:Nidda Alteburgschule R. 510, Am Heiligen Kreuz 34, 63667 Nidda
END:VEVENT
BEGIN:VEVENT
DTSTAMP:20260422T013020
DTSTART;TZID=Europe/Berlin:20261029T133000
DTEND;TZID=Europe/Berlin:20261029T173500
UID:EG404252P4-20261029T133000@VHSWETTERAU
SUMMARY:Deutsch als Zweitsprache B1/1 (Modul 5) Integrationskurs am Nachmittag Intensivkurs am Nachmittag (EG404252P4) 
LOCATION:Nidda Alteburgschule R. 510, Am Heiligen Kreuz 34, 63667 Nidda
END:VEVENT
BEGIN:VEVENT
DTSTAMP:20260422T013020
DTSTART;TZID=Europe/Berlin:20261102T133000
DTEND;TZID=Europe/Berlin:20261102T173500
UID:EG404252P4-20261102T133000@VHSWETTERAU
SUMMARY:Deutsch als Zweitsprache B1/1 (Modul 5) Integrationskurs am Nachmittag Intensivkurs am Nachmittag (EG404252P4) 
LOCATION:Nidda Alteburgschule R. 510, Am Heiligen Kreuz 34, 63667 Nidda
END:VEVENT
BEGIN:VEVENT
DTSTAMP:20260422T013020
DTSTART;TZID=Europe/Berlin:20261103T133000
DTEND;TZID=Europe/Berlin:20261103T173500
UID:EG404252P4-20261103T133000@VHSWETTERAU
SUMMARY:Deutsch als Zweitsprache B1/1 (Modul 5) Integrationskurs am Nachmittag Intensivkurs am Nachmittag (EG404252P4) 
LOCATION:Nidda Alteburgschule R. 510, Am Heiligen Kreuz 34, 63667 Nidda
END:VEVENT
BEGIN:VEVENT
DTSTAMP:20260422T013020
DTSTART;TZID=Europe/Berlin:20261104T133000
DTEND;TZID=Europe/Berlin:20261104T173500
UID:EG404252P4-20261104T133000@VHSWETTERAU
SUMMARY:Deutsch als Zweitsprache B1/1 (Modul 5) Integrationskurs am Nachmittag Intensivkurs am Nachmittag (EG404252P4) 
LOCATION:Nidda Alteburgschule R. 510, Am Heiligen Kreuz 34, 63667 Nidda
END:VEVENT
BEGIN:VEVENT
DTSTAMP:20260422T013020
DTSTART;TZID=Europe/Berlin:20261105T133000
DTEND;TZID=Europe/Berlin:20261105T173500
UID:EG404252P4-20261105T133000@VHSWETTERAU
SUMMARY:Deutsch als Zweitsprache B1/1 (Modul 5) Integrationskurs am Nachmittag Intensivkurs am Nachmittag (EG404252P4) 
LOCATION:Nidda Alteburgschule R. 510, Am Heiligen Kreuz 34, 63667 Nidda
END:VEVENT
BEGIN:VEVENT
DTSTAMP:20260422T013020
DTSTART;TZID=Europe/Berlin:20261109T133000
DTEND;TZID=Europe/Berlin:20261109T173500
UID:EG404252P4-20261109T133000@VHSWETTERAU
SUMMARY:Deutsch als Zweitsprache B1/1 (Modul 5) Integrationskurs am Nachmittag Intensivkurs am Nachmittag (EG404252P4) 
LOCATION:Nidda Alteburgschule R. 510, Am Heiligen Kreuz 34, 63667 Nidda
END:VEVENT
BEGIN:VEVENT
DTSTAMP:20260422T013020
DTSTART;TZID=Europe/Berlin:20261110T133000
DTEND;TZID=Europe/Berlin:20261110T173500
UID:EG404252P4-20261110T133000@VHSWETTERAU
SUMMARY:Deutsch als Zweitsprache B1/1 (Modul 5) Integrationskurs am Nachmittag Intensivkurs am Nachmittag (EG404252P4) 
LOCATION:Nidda Alteburgschule R. 510, Am Heiligen Kreuz 34, 63667 Nidda
END:VEVENT
BEGIN:VEVENT
DTSTAMP:20260422T013020
DTSTART;TZID=Europe/Berlin:20261111T133000
DTEND;TZID=Europe/Berlin:20261111T173500
UID:EG404252P4-20261111T133000@VHSWETTERAU
SUMMARY:Deutsch als Zweitsprache B1/1 (Modul 5) Integrationskurs am Nachmittag Intensivkurs am Nachmittag (EG404252P4) 
LOCATION:Nidda Alteburgschule R. 510, Am Heiligen Kreuz 34, 63667 Nidda
END:VEVENT
BEGIN:VEVENT
DTSTAMP:20260422T013020
DTSTART;TZID=Europe/Berlin:20261112T133000
DTEND;TZID=Europe/Berlin:20261112T173500
UID:EG404252P4-20261112T133000@VHSWETTERAU
SUMMARY:Deutsch als Zweitsprache B1/1 (Modul 5) Integrationskurs am Nachmittag Intensivkurs am Nachmittag (EG404252P4) 
LOCATION:Nidda Alteburgschule R. 510, Am Heiligen Kreuz 34, 63667 Nidda
END:VEVENT
END:VCALENDAR