BEGIN:VCALENDAR
VERSION:2.0
PRODID:https://www.kufer.de/kuferweb / DE
METHOD:PUBLISH
CALSCALE:GREGORIAN
X-WR-TIMEZONE:Europe/Berlin
BEGIN:VTIMEZONE
TZID:Europe/Berlin
X-LIC-LOCATION:Europe/Berlin
BEGIN:DAYLIGHT
TZOFFSETFROM:+0100
TZOFFSETTO:+0200
TZNAME:CEST
DTSTART:19700329T020000
RRULE:FREQ=YEARLY;INTERVAL=1;BYDAY=-1SU;BYMONTH=3
END:DAYLIGHT
BEGIN:STANDARD
TZOFFSETFROM:+0200
TZOFFSETTO:+0100
TZNAME:CET
DTSTART:19701025T030000
RRULE:FREQ=YEARLY;INTERVAL=1;BYDAY=-1SU;BYMONTH=10
END:STANDARD
END:VTIMEZONE
BEGIN:VEVENT
DTSTAMP:20260421T211539
DTSTART;TZID=Europe/Berlin:20260909T180000
DTEND;TZID=Europe/Berlin:20260909T211500
UID:EG404253H4-20260909T180000@VHSWETTERAU
SUMMARY:Deutsch als Zweitsprache B1/1 (Modul 5) Integrationskurs am Abend (EG404253H4) 
LOCATION:Fb vhs B12 (JPR), Friedensstr. 18, 61169 Friedberg
END:VEVENT
BEGIN:VEVENT
DTSTAMP:20260421T211539
DTSTART;TZID=Europe/Berlin:20260910T180000
DTEND;TZID=Europe/Berlin:20260910T211500
UID:EG404253H4-20260910T180000@VHSWETTERAU
SUMMARY:Deutsch als Zweitsprache B1/1 (Modul 5) Integrationskurs am Abend (EG404253H4) 
LOCATION:Fb vhs B12 (JPR), Friedensstr. 18, 61169 Friedberg
END:VEVENT
BEGIN:VEVENT
DTSTAMP:20260421T211539
DTSTART;TZID=Europe/Berlin:20260911T180000
DTEND;TZID=Europe/Berlin:20260911T211500
UID:EG404253H4-20260911T180000@VHSWETTERAU
SUMMARY:Deutsch als Zweitsprache B1/1 (Modul 5) Integrationskurs am Abend (EG404253H4) 
LOCATION:Fb vhs B12 (JPR), Friedensstr. 18, 61169 Friedberg
END:VEVENT
BEGIN:VEVENT
DTSTAMP:20260421T211539
DTSTART;TZID=Europe/Berlin:20260914T180000
DTEND;TZID=Europe/Berlin:20260914T211500
UID:EG404253H4-20260914T180000@VHSWETTERAU
SUMMARY:Deutsch als Zweitsprache B1/1 (Modul 5) Integrationskurs am Abend (EG404253H4) 
LOCATION:Fb vhs B12 (JPR), Friedensstr. 18, 61169 Friedberg
END:VEVENT
BEGIN:VEVENT
DTSTAMP:20260421T211539
DTSTART;TZID=Europe/Berlin:20260915T180000
DTEND;TZID=Europe/Berlin:20260915T211500
UID:EG404253H4-20260915T180000@VHSWETTERAU
SUMMARY:Deutsch als Zweitsprache B1/1 (Modul 5) Integrationskurs am Abend (EG404253H4) 
LOCATION:Fb vhs B12 (JPR), Friedensstr. 18, 61169 Friedberg
END:VEVENT
BEGIN:VEVENT
DTSTAMP:20260421T211539
DTSTART;TZID=Europe/Berlin:20260916T180000
DTEND;TZID=Europe/Berlin:20260916T211500
UID:EG404253H4-20260916T180000@VHSWETTERAU
SUMMARY:Deutsch als Zweitsprache B1/1 (Modul 5) Integrationskurs am Abend (EG404253H4) 
LOCATION:Fb vhs B12 (JPR), Friedensstr. 18, 61169 Friedberg
END:VEVENT
BEGIN:VEVENT
DTSTAMP:20260421T211539
DTSTART;TZID=Europe/Berlin:20260917T180000
DTEND;TZID=Europe/Berlin:20260917T211500
UID:EG404253H4-20260917T180000@VHSWETTERAU
SUMMARY:Deutsch als Zweitsprache B1/1 (Modul 5) Integrationskurs am Abend (EG404253H4) 
LOCATION:Fb vhs B12 (JPR), Friedensstr. 18, 61169 Friedberg
END:VEVENT
BEGIN:VEVENT
DTSTAMP:20260421T211539
DTSTART;TZID=Europe/Berlin:20260918T180000
DTEND;TZID=Europe/Berlin:20260918T211500
UID:EG404253H4-20260918T180000@VHSWETTERAU
SUMMARY:Deutsch als Zweitsprache B1/1 (Modul 5) Integrationskurs am Abend (EG404253H4) 
LOCATION:Fb vhs B12 (JPR), Friedensstr. 18, 61169 Friedberg
END:VEVENT
BEGIN:VEVENT
DTSTAMP:20260421T211539
DTSTART;TZID=Europe/Berlin:20260921T180000
DTEND;TZID=Europe/Berlin:20260921T211500
UID:EG404253H4-20260921T180000@VHSWETTERAU
SUMMARY:Deutsch als Zweitsprache B1/1 (Modul 5) Integrationskurs am Abend (EG404253H4) 
LOCATION:Fb vhs B12 (JPR), Friedensstr. 18, 61169 Friedberg
END:VEVENT
BEGIN:VEVENT
DTSTAMP:20260421T211539
DTSTART;TZID=Europe/Berlin:20260922T180000
DTEND;TZID=Europe/Berlin:20260922T211500
UID:EG404253H4-20260922T180000@VHSWETTERAU
SUMMARY:Deutsch als Zweitsprache B1/1 (Modul 5) Integrationskurs am Abend (EG404253H4) 
LOCATION:Fb vhs B12 (JPR), Friedensstr. 18, 61169 Friedberg
END:VEVENT
BEGIN:VEVENT
DTSTAMP:20260421T211539
DTSTART;TZID=Europe/Berlin:20260923T180000
DTEND;TZID=Europe/Berlin:20260923T211500
UID:EG404253H4-20260923T180000@VHSWETTERAU
SUMMARY:Deutsch als Zweitsprache B1/1 (Modul 5) Integrationskurs am Abend (EG404253H4) 
LOCATION:Fb vhs B12 (JPR), Friedensstr. 18, 61169 Friedberg
END:VEVENT
BEGIN:VEVENT
DTSTAMP:20260421T211539
DTSTART;TZID=Europe/Berlin:20260924T180000
DTEND;TZID=Europe/Berlin:20260924T211500
UID:EG404253H4-20260924T180000@VHSWETTERAU
SUMMARY:Deutsch als Zweitsprache B1/1 (Modul 5) Integrationskurs am Abend (EG404253H4) 
LOCATION:Fb vhs B12 (JPR), Friedensstr. 18, 61169 Friedberg
END:VEVENT
BEGIN:VEVENT
DTSTAMP:20260421T211539
DTSTART;TZID=Europe/Berlin:20260925T180000
DTEND;TZID=Europe/Berlin:20260925T211500
UID:EG404253H4-20260925T180000@VHSWETTERAU
SUMMARY:Deutsch als Zweitsprache B1/1 (Modul 5) Integrationskurs am Abend (EG404253H4) 
LOCATION:Fb vhs B12 (JPR), Friedensstr. 18, 61169 Friedberg
END:VEVENT
BEGIN:VEVENT
DTSTAMP:20260421T211539
DTSTART;TZID=Europe/Berlin:20260928T180000
DTEND;TZID=Europe/Berlin:20260928T211500
UID:EG404253H4-20260928T180000@VHSWETTERAU
SUMMARY:Deutsch als Zweitsprache B1/1 (Modul 5) Integrationskurs am Abend (EG404253H4) 
LOCATION:Fb vhs B12 (JPR), Friedensstr. 18, 61169 Friedberg
END:VEVENT
BEGIN:VEVENT
DTSTAMP:20260421T211539
DTSTART;TZID=Europe/Berlin:20260929T180000
DTEND;TZID=Europe/Berlin:20260929T211500
UID:EG404253H4-20260929T180000@VHSWETTERAU
SUMMARY:Deutsch als Zweitsprache B1/1 (Modul 5) Integrationskurs am Abend (EG404253H4) 
LOCATION:Fb vhs B12 (JPR), Friedensstr. 18, 61169 Friedberg
END:VEVENT
BEGIN:VEVENT
DTSTAMP:20260421T211539
DTSTART;TZID=Europe/Berlin:20260930T180000
DTEND;TZID=Europe/Berlin:20260930T211500
UID:EG404253H4-20260930T180000@VHSWETTERAU
SUMMARY:Deutsch als Zweitsprache B1/1 (Modul 5) Integrationskurs am Abend (EG404253H4) 
LOCATION:Fb vhs B12 (JPR), Friedensstr. 18, 61169 Friedberg
END:VEVENT
BEGIN:VEVENT
DTSTAMP:20260421T211539
DTSTART;TZID=Europe/Berlin:20261001T180000
DTEND;TZID=Europe/Berlin:20261001T211500
UID:EG404253H4-20261001T180000@VHSWETTERAU
SUMMARY:Deutsch als Zweitsprache B1/1 (Modul 5) Integrationskurs am Abend (EG404253H4) 
LOCATION:Fb vhs B12 (JPR), Friedensstr. 18, 61169 Friedberg
END:VEVENT
BEGIN:VEVENT
DTSTAMP:20260421T211539
DTSTART;TZID=Europe/Berlin:20261012T180000
DTEND;TZID=Europe/Berlin:20261012T211500
UID:EG404253H4-20261012T180000@VHSWETTERAU
SUMMARY:Deutsch als Zweitsprache B1/1 (Modul 5) Integrationskurs am Abend (EG404253H4) 
LOCATION:Fb vhs 101, Friedensstr. 18, 61169 Friedberg
END:VEVENT
BEGIN:VEVENT
DTSTAMP:20260421T211539
DTSTART;TZID=Europe/Berlin:20261013T180000
DTEND;TZID=Europe/Berlin:20261013T211500
UID:EG404253H4-20261013T180000@VHSWETTERAU
SUMMARY:Deutsch als Zweitsprache B1/1 (Modul 5) Integrationskurs am Abend (EG404253H4) 
LOCATION:Fb vhs 101, Friedensstr. 18, 61169 Friedberg
END:VEVENT
BEGIN:VEVENT
DTSTAMP:20260421T211539
DTSTART;TZID=Europe/Berlin:20261014T180000
DTEND;TZID=Europe/Berlin:20261014T211500
UID:EG404253H4-20261014T180000@VHSWETTERAU
SUMMARY:Deutsch als Zweitsprache B1/1 (Modul 5) Integrationskurs am Abend (EG404253H4) 
LOCATION:Fb vhs 101, Friedensstr. 18, 61169 Friedberg
END:VEVENT
BEGIN:VEVENT
DTSTAMP:20260421T211539
DTSTART;TZID=Europe/Berlin:20261015T180000
DTEND;TZID=Europe/Berlin:20261015T211500
UID:EG404253H4-20261015T180000@VHSWETTERAU
SUMMARY:Deutsch als Zweitsprache B1/1 (Modul 5) Integrationskurs am Abend (EG404253H4) 
LOCATION:Fb vhs 101, Friedensstr. 18, 61169 Friedberg
END:VEVENT
BEGIN:VEVENT
DTSTAMP:20260421T211539
DTSTART;TZID=Europe/Berlin:20261016T180000
DTEND;TZID=Europe/Berlin:20261016T211500
UID:EG404253H4-20261016T180000@VHSWETTERAU
SUMMARY:Deutsch als Zweitsprache B1/1 (Modul 5) Integrationskurs am Abend (EG404253H4) 
LOCATION:Fb vhs 101, Friedensstr. 18, 61169 Friedberg
END:VEVENT
BEGIN:VEVENT
DTSTAMP:20260421T211539
DTSTART;TZID=Europe/Berlin:20261019T180000
DTEND;TZID=Europe/Berlin:20261019T211500
UID:EG404253H4-20261019T180000@VHSWETTERAU
SUMMARY:Deutsch als Zweitsprache B1/1 (Modul 5) Integrationskurs am Abend (EG404253H4) 
LOCATION:Fb vhs B12 (JPR), Friedensstr. 18, 61169 Friedberg
END:VEVENT
BEGIN:VEVENT
DTSTAMP:20260421T211539
DTSTART;TZID=Europe/Berlin:20261020T180000
DTEND;TZID=Europe/Berlin:20261020T211500
UID:EG404253H4-20261020T180000@VHSWETTERAU
SUMMARY:Deutsch als Zweitsprache B1/1 (Modul 5) Integrationskurs am Abend (EG404253H4) 
LOCATION:Fb vhs B12 (JPR), Friedensstr. 18, 61169 Friedberg
END:VEVENT
BEGIN:VEVENT
DTSTAMP:20260421T211539
DTSTART;TZID=Europe/Berlin:20261021T180000
DTEND;TZID=Europe/Berlin:20261021T211500
UID:EG404253H4-20261021T180000@VHSWETTERAU
SUMMARY:Deutsch als Zweitsprache B1/1 (Modul 5) Integrationskurs am Abend (EG404253H4) 
LOCATION:Fb vhs B12 (JPR), Friedensstr. 18, 61169 Friedberg
END:VEVENT
END:VCALENDAR