BEGIN:VCALENDAR
VERSION:2.0
PRODID:https://www.kufer.de/kuferweb / DE
METHOD:PUBLISH
CALSCALE:GREGORIAN
X-WR-TIMEZONE:Europe/Berlin
BEGIN:VTIMEZONE
TZID:Europe/Berlin
X-LIC-LOCATION:Europe/Berlin
BEGIN:DAYLIGHT
TZOFFSETFROM:+0100
TZOFFSETTO:+0200
TZNAME:CEST
DTSTART:19700329T020000
RRULE:FREQ=YEARLY;INTERVAL=1;BYDAY=-1SU;BYMONTH=3
END:DAYLIGHT
BEGIN:STANDARD
TZOFFSETFROM:+0200
TZOFFSETTO:+0100
TZNAME:CET
DTSTART:19701025T030000
RRULE:FREQ=YEARLY;INTERVAL=1;BYDAY=-1SU;BYMONTH=10
END:STANDARD
END:VTIMEZONE
BEGIN:VEVENT
DTSTAMP:20260422T000326
DTSTART;TZID=Europe/Berlin:20261109T140000
DTEND;TZID=Europe/Berlin:20261109T171500
UID:EG404261H6-20261109T140000@VHSWETTERAU
SUMMARY:Kurs für gering Literalisierte Aufbaukurs 3 (Modul 6) Integrationskurs am Nachmittag (EG404261H6) 
LOCATION:FB Am Dachspfad 32A, R. 207, Am Dachspfad 32A, 61169 Friedberg
END:VEVENT
BEGIN:VEVENT
DTSTAMP:20260422T000326
DTSTART;TZID=Europe/Berlin:20261110T140000
DTEND;TZID=Europe/Berlin:20261110T171500
UID:EG404261H6-20261110T140000@VHSWETTERAU
SUMMARY:Kurs für gering Literalisierte Aufbaukurs 3 (Modul 6) Integrationskurs am Nachmittag (EG404261H6) 
LOCATION:FB Am Dachspfad 32A, R. 207, Am Dachspfad 32A, 61169 Friedberg
END:VEVENT
BEGIN:VEVENT
DTSTAMP:20260422T000326
DTSTART;TZID=Europe/Berlin:20261111T140000
DTEND;TZID=Europe/Berlin:20261111T171500
UID:EG404261H6-20261111T140000@VHSWETTERAU
SUMMARY:Kurs für gering Literalisierte Aufbaukurs 3 (Modul 6) Integrationskurs am Nachmittag (EG404261H6) 
LOCATION:FB Am Dachspfad 32A, R. 207, Am Dachspfad 32A, 61169 Friedberg
END:VEVENT
BEGIN:VEVENT
DTSTAMP:20260422T000326
DTSTART;TZID=Europe/Berlin:20261112T140000
DTEND;TZID=Europe/Berlin:20261112T171500
UID:EG404261H6-20261112T140000@VHSWETTERAU
SUMMARY:Kurs für gering Literalisierte Aufbaukurs 3 (Modul 6) Integrationskurs am Nachmittag (EG404261H6) 
LOCATION:FB Am Dachspfad 32A, R. 207, Am Dachspfad 32A, 61169 Friedberg
END:VEVENT
BEGIN:VEVENT
DTSTAMP:20260422T000326
DTSTART;TZID=Europe/Berlin:20261113T140000
DTEND;TZID=Europe/Berlin:20261113T171500
UID:EG404261H6-20261113T140000@VHSWETTERAU
SUMMARY:Kurs für gering Literalisierte Aufbaukurs 3 (Modul 6) Integrationskurs am Nachmittag (EG404261H6) 
LOCATION:FB Am Dachspfad 32A, R. 207, Am Dachspfad 32A, 61169 Friedberg
END:VEVENT
BEGIN:VEVENT
DTSTAMP:20260422T000326
DTSTART;TZID=Europe/Berlin:20261116T140000
DTEND;TZID=Europe/Berlin:20261116T171500
UID:EG404261H6-20261116T140000@VHSWETTERAU
SUMMARY:Kurs für gering Literalisierte Aufbaukurs 3 (Modul 6) Integrationskurs am Nachmittag (EG404261H6) 
LOCATION:FB Am Dachspfad 32A, R. 207, Am Dachspfad 32A, 61169 Friedberg
END:VEVENT
BEGIN:VEVENT
DTSTAMP:20260422T000326
DTSTART;TZID=Europe/Berlin:20261117T140000
DTEND;TZID=Europe/Berlin:20261117T171500
UID:EG404261H6-20261117T140000@VHSWETTERAU
SUMMARY:Kurs für gering Literalisierte Aufbaukurs 3 (Modul 6) Integrationskurs am Nachmittag (EG404261H6) 
LOCATION:FB Am Dachspfad 32A, R. 207, Am Dachspfad 32A, 61169 Friedberg
END:VEVENT
BEGIN:VEVENT
DTSTAMP:20260422T000326
DTSTART;TZID=Europe/Berlin:20261118T140000
DTEND;TZID=Europe/Berlin:20261118T171500
UID:EG404261H6-20261118T140000@VHSWETTERAU
SUMMARY:Kurs für gering Literalisierte Aufbaukurs 3 (Modul 6) Integrationskurs am Nachmittag (EG404261H6) 
LOCATION:FB Am Dachspfad 32A, R. 207, Am Dachspfad 32A, 61169 Friedberg
END:VEVENT
BEGIN:VEVENT
DTSTAMP:20260422T000326
DTSTART;TZID=Europe/Berlin:20261119T140000
DTEND;TZID=Europe/Berlin:20261119T171500
UID:EG404261H6-20261119T140000@VHSWETTERAU
SUMMARY:Kurs für gering Literalisierte Aufbaukurs 3 (Modul 6) Integrationskurs am Nachmittag (EG404261H6) 
LOCATION:FB Am Dachspfad 32A, R. 207, Am Dachspfad 32A, 61169 Friedberg
END:VEVENT
BEGIN:VEVENT
DTSTAMP:20260422T000326
DTSTART;TZID=Europe/Berlin:20261120T140000
DTEND;TZID=Europe/Berlin:20261120T171500
UID:EG404261H6-20261120T140000@VHSWETTERAU
SUMMARY:Kurs für gering Literalisierte Aufbaukurs 3 (Modul 6) Integrationskurs am Nachmittag (EG404261H6) 
LOCATION:FB Am Dachspfad 32A, R. 207, Am Dachspfad 32A, 61169 Friedberg
END:VEVENT
BEGIN:VEVENT
DTSTAMP:20260422T000326
DTSTART;TZID=Europe/Berlin:20261123T140000
DTEND;TZID=Europe/Berlin:20261123T171500
UID:EG404261H6-20261123T140000@VHSWETTERAU
SUMMARY:Kurs für gering Literalisierte Aufbaukurs 3 (Modul 6) Integrationskurs am Nachmittag (EG404261H6) 
LOCATION:FB Am Dachspfad 32A, R. 207, Am Dachspfad 32A, 61169 Friedberg
END:VEVENT
BEGIN:VEVENT
DTSTAMP:20260422T000326
DTSTART;TZID=Europe/Berlin:20261124T140000
DTEND;TZID=Europe/Berlin:20261124T171500
UID:EG404261H6-20261124T140000@VHSWETTERAU
SUMMARY:Kurs für gering Literalisierte Aufbaukurs 3 (Modul 6) Integrationskurs am Nachmittag (EG404261H6) 
LOCATION:FB Am Dachspfad 32A, R. 207, Am Dachspfad 32A, 61169 Friedberg
END:VEVENT
BEGIN:VEVENT
DTSTAMP:20260422T000326
DTSTART;TZID=Europe/Berlin:20261125T140000
DTEND;TZID=Europe/Berlin:20261125T171500
UID:EG404261H6-20261125T140000@VHSWETTERAU
SUMMARY:Kurs für gering Literalisierte Aufbaukurs 3 (Modul 6) Integrationskurs am Nachmittag (EG404261H6) 
LOCATION:FB Am Dachspfad 32A, R. 207, Am Dachspfad 32A, 61169 Friedberg
END:VEVENT
BEGIN:VEVENT
DTSTAMP:20260422T000326
DTSTART;TZID=Europe/Berlin:20261126T140000
DTEND;TZID=Europe/Berlin:20261126T171500
UID:EG404261H6-20261126T140000@VHSWETTERAU
SUMMARY:Kurs für gering Literalisierte Aufbaukurs 3 (Modul 6) Integrationskurs am Nachmittag (EG404261H6) 
LOCATION:FB Am Dachspfad 32A, R. 207, Am Dachspfad 32A, 61169 Friedberg
END:VEVENT
BEGIN:VEVENT
DTSTAMP:20260422T000326
DTSTART;TZID=Europe/Berlin:20261127T140000
DTEND;TZID=Europe/Berlin:20261127T171500
UID:EG404261H6-20261127T140000@VHSWETTERAU
SUMMARY:Kurs für gering Literalisierte Aufbaukurs 3 (Modul 6) Integrationskurs am Nachmittag (EG404261H6) 
LOCATION:FB Am Dachspfad 32A, R. 207, Am Dachspfad 32A, 61169 Friedberg
END:VEVENT
BEGIN:VEVENT
DTSTAMP:20260422T000326
DTSTART;TZID=Europe/Berlin:20261130T140000
DTEND;TZID=Europe/Berlin:20261130T171500
UID:EG404261H6-20261130T140000@VHSWETTERAU
SUMMARY:Kurs für gering Literalisierte Aufbaukurs 3 (Modul 6) Integrationskurs am Nachmittag (EG404261H6) 
LOCATION:FB Am Dachspfad 32A, R. 207, Am Dachspfad 32A, 61169 Friedberg
END:VEVENT
BEGIN:VEVENT
DTSTAMP:20260422T000326
DTSTART;TZID=Europe/Berlin:20261201T140000
DTEND;TZID=Europe/Berlin:20261201T171500
UID:EG404261H6-20261201T140000@VHSWETTERAU
SUMMARY:Kurs für gering Literalisierte Aufbaukurs 3 (Modul 6) Integrationskurs am Nachmittag (EG404261H6) 
LOCATION:FB Am Dachspfad 32A, R. 207, Am Dachspfad 32A, 61169 Friedberg
END:VEVENT
BEGIN:VEVENT
DTSTAMP:20260422T000326
DTSTART;TZID=Europe/Berlin:20261202T140000
DTEND;TZID=Europe/Berlin:20261202T171500
UID:EG404261H6-20261202T140000@VHSWETTERAU
SUMMARY:Kurs für gering Literalisierte Aufbaukurs 3 (Modul 6) Integrationskurs am Nachmittag (EG404261H6) 
LOCATION:FB Am Dachspfad 32A, R. 207, Am Dachspfad 32A, 61169 Friedberg
END:VEVENT
BEGIN:VEVENT
DTSTAMP:20260422T000326
DTSTART;TZID=Europe/Berlin:20261203T140000
DTEND;TZID=Europe/Berlin:20261203T171500
UID:EG404261H6-20261203T140000@VHSWETTERAU
SUMMARY:Kurs für gering Literalisierte Aufbaukurs 3 (Modul 6) Integrationskurs am Nachmittag (EG404261H6) 
LOCATION:FB Am Dachspfad 32A, R. 207, Am Dachspfad 32A, 61169 Friedberg
END:VEVENT
BEGIN:VEVENT
DTSTAMP:20260422T000326
DTSTART;TZID=Europe/Berlin:20261204T140000
DTEND;TZID=Europe/Berlin:20261204T171500
UID:EG404261H6-20261204T140000@VHSWETTERAU
SUMMARY:Kurs für gering Literalisierte Aufbaukurs 3 (Modul 6) Integrationskurs am Nachmittag (EG404261H6) 
LOCATION:FB Am Dachspfad 32A, R. 207, Am Dachspfad 32A, 61169 Friedberg
END:VEVENT
BEGIN:VEVENT
DTSTAMP:20260422T000326
DTSTART;TZID=Europe/Berlin:20261207T140000
DTEND;TZID=Europe/Berlin:20261207T171500
UID:EG404261H6-20261207T140000@VHSWETTERAU
SUMMARY:Kurs für gering Literalisierte Aufbaukurs 3 (Modul 6) Integrationskurs am Nachmittag (EG404261H6) 
LOCATION:FB Am Dachspfad 32A, R. 207, Am Dachspfad 32A, 61169 Friedberg
END:VEVENT
BEGIN:VEVENT
DTSTAMP:20260422T000326
DTSTART;TZID=Europe/Berlin:20261208T140000
DTEND;TZID=Europe/Berlin:20261208T171500
UID:EG404261H6-20261208T140000@VHSWETTERAU
SUMMARY:Kurs für gering Literalisierte Aufbaukurs 3 (Modul 6) Integrationskurs am Nachmittag (EG404261H6) 
LOCATION:FB Am Dachspfad 32A, R. 207, Am Dachspfad 32A, 61169 Friedberg
END:VEVENT
BEGIN:VEVENT
DTSTAMP:20260422T000326
DTSTART;TZID=Europe/Berlin:20261209T140000
DTEND;TZID=Europe/Berlin:20261209T171500
UID:EG404261H6-20261209T140000@VHSWETTERAU
SUMMARY:Kurs für gering Literalisierte Aufbaukurs 3 (Modul 6) Integrationskurs am Nachmittag (EG404261H6) 
LOCATION:FB Am Dachspfad 32A, R. 207, Am Dachspfad 32A, 61169 Friedberg
END:VEVENT
BEGIN:VEVENT
DTSTAMP:20260422T000326
DTSTART;TZID=Europe/Berlin:20261210T140000
DTEND;TZID=Europe/Berlin:20261210T171500
UID:EG404261H6-20261210T140000@VHSWETTERAU
SUMMARY:Kurs für gering Literalisierte Aufbaukurs 3 (Modul 6) Integrationskurs am Nachmittag (EG404261H6) 
LOCATION:FB Am Dachspfad 32A, R. 207, Am Dachspfad 32A, 61169 Friedberg
END:VEVENT
BEGIN:VEVENT
DTSTAMP:20260422T000326
DTSTART;TZID=Europe/Berlin:20261211T140000
DTEND;TZID=Europe/Berlin:20261211T171500
UID:EG404261H6-20261211T140000@VHSWETTERAU
SUMMARY:Kurs für gering Literalisierte Aufbaukurs 3 (Modul 6) Integrationskurs am Nachmittag (EG404261H6) 
LOCATION:FB Am Dachspfad 32A, R. 207, Am Dachspfad 32A, 61169 Friedberg
END:VEVENT
END:VCALENDAR