BEGIN:VCALENDAR
VERSION:2.0
PRODID:https://www.kufer.de/kuferweb / DE
METHOD:PUBLISH
CALSCALE:GREGORIAN
X-WR-TIMEZONE:Europe/Berlin
BEGIN:VTIMEZONE
TZID:Europe/Berlin
X-LIC-LOCATION:Europe/Berlin
BEGIN:DAYLIGHT
TZOFFSETFROM:+0100
TZOFFSETTO:+0200
TZNAME:CEST
DTSTART:19700329T020000
RRULE:FREQ=YEARLY;INTERVAL=1;BYDAY=-1SU;BYMONTH=3
END:DAYLIGHT
BEGIN:STANDARD
TZOFFSETFROM:+0200
TZOFFSETTO:+0100
TZNAME:CET
DTSTART:19701025T030000
RRULE:FREQ=YEARLY;INTERVAL=1;BYDAY=-1SU;BYMONTH=10
END:STANDARD
END:VTIMEZONE
BEGIN:VEVENT
DTSTAMP:20260421T225321
DTSTART;TZID=Europe/Berlin:20261116T133000
DTEND;TZID=Europe/Berlin:20261116T173500
UID:EG404262P4-20261116T133000@VHSWETTERAU
SUMMARY:Deutsch als Zweitsprache B1/2 (Modul 6) Integrationskurs am Nachmittag (EG404262P4) 
LOCATION:Nidda Alteburgschule R. 510, Am Heiligen Kreuz 34, 63667 Nidda
END:VEVENT
BEGIN:VEVENT
DTSTAMP:20260421T225321
DTSTART;TZID=Europe/Berlin:20261117T133000
DTEND;TZID=Europe/Berlin:20261117T173500
UID:EG404262P4-20261117T133000@VHSWETTERAU
SUMMARY:Deutsch als Zweitsprache B1/2 (Modul 6) Integrationskurs am Nachmittag (EG404262P4) 
LOCATION:Nidda Alteburgschule R. 510, Am Heiligen Kreuz 34, 63667 Nidda
END:VEVENT
BEGIN:VEVENT
DTSTAMP:20260421T225321
DTSTART;TZID=Europe/Berlin:20261118T133000
DTEND;TZID=Europe/Berlin:20261118T173500
UID:EG404262P4-20261118T133000@VHSWETTERAU
SUMMARY:Deutsch als Zweitsprache B1/2 (Modul 6) Integrationskurs am Nachmittag (EG404262P4) 
LOCATION:Nidda Alteburgschule R. 510, Am Heiligen Kreuz 34, 63667 Nidda
END:VEVENT
BEGIN:VEVENT
DTSTAMP:20260421T225321
DTSTART;TZID=Europe/Berlin:20261119T133000
DTEND;TZID=Europe/Berlin:20261119T173500
UID:EG404262P4-20261119T133000@VHSWETTERAU
SUMMARY:Deutsch als Zweitsprache B1/2 (Modul 6) Integrationskurs am Nachmittag (EG404262P4) 
LOCATION:Nidda Alteburgschule R. 510, Am Heiligen Kreuz 34, 63667 Nidda
END:VEVENT
BEGIN:VEVENT
DTSTAMP:20260421T225321
DTSTART;TZID=Europe/Berlin:20261123T133000
DTEND;TZID=Europe/Berlin:20261123T173500
UID:EG404262P4-20261123T133000@VHSWETTERAU
SUMMARY:Deutsch als Zweitsprache B1/2 (Modul 6) Integrationskurs am Nachmittag (EG404262P4) 
LOCATION:Nidda Alteburgschule R. 510, Am Heiligen Kreuz 34, 63667 Nidda
END:VEVENT
BEGIN:VEVENT
DTSTAMP:20260421T225321
DTSTART;TZID=Europe/Berlin:20261124T133000
DTEND;TZID=Europe/Berlin:20261124T173500
UID:EG404262P4-20261124T133000@VHSWETTERAU
SUMMARY:Deutsch als Zweitsprache B1/2 (Modul 6) Integrationskurs am Nachmittag (EG404262P4) 
LOCATION:Nidda Alteburgschule R. 510, Am Heiligen Kreuz 34, 63667 Nidda
END:VEVENT
BEGIN:VEVENT
DTSTAMP:20260421T225321
DTSTART;TZID=Europe/Berlin:20261125T133000
DTEND;TZID=Europe/Berlin:20261125T173500
UID:EG404262P4-20261125T133000@VHSWETTERAU
SUMMARY:Deutsch als Zweitsprache B1/2 (Modul 6) Integrationskurs am Nachmittag (EG404262P4) 
LOCATION:Nidda Alteburgschule R. 510, Am Heiligen Kreuz 34, 63667 Nidda
END:VEVENT
BEGIN:VEVENT
DTSTAMP:20260421T225321
DTSTART;TZID=Europe/Berlin:20261126T133000
DTEND;TZID=Europe/Berlin:20261126T173500
UID:EG404262P4-20261126T133000@VHSWETTERAU
SUMMARY:Deutsch als Zweitsprache B1/2 (Modul 6) Integrationskurs am Nachmittag (EG404262P4) 
LOCATION:Nidda Alteburgschule R. 510, Am Heiligen Kreuz 34, 63667 Nidda
END:VEVENT
BEGIN:VEVENT
DTSTAMP:20260421T225321
DTSTART;TZID=Europe/Berlin:20261130T133000
DTEND;TZID=Europe/Berlin:20261130T173500
UID:EG404262P4-20261130T133000@VHSWETTERAU
SUMMARY:Deutsch als Zweitsprache B1/2 (Modul 6) Integrationskurs am Nachmittag (EG404262P4) 
LOCATION:Nidda Alteburgschule R. 510, Am Heiligen Kreuz 34, 63667 Nidda
END:VEVENT
BEGIN:VEVENT
DTSTAMP:20260421T225321
DTSTART;TZID=Europe/Berlin:20261201T133000
DTEND;TZID=Europe/Berlin:20261201T173500
UID:EG404262P4-20261201T133000@VHSWETTERAU
SUMMARY:Deutsch als Zweitsprache B1/2 (Modul 6) Integrationskurs am Nachmittag (EG404262P4) 
LOCATION:Nidda Alteburgschule R. 510, Am Heiligen Kreuz 34, 63667 Nidda
END:VEVENT
BEGIN:VEVENT
DTSTAMP:20260421T225321
DTSTART;TZID=Europe/Berlin:20261202T133000
DTEND;TZID=Europe/Berlin:20261202T173500
UID:EG404262P4-20261202T133000@VHSWETTERAU
SUMMARY:Deutsch als Zweitsprache B1/2 (Modul 6) Integrationskurs am Nachmittag (EG404262P4) 
LOCATION:Nidda Alteburgschule R. 510, Am Heiligen Kreuz 34, 63667 Nidda
END:VEVENT
BEGIN:VEVENT
DTSTAMP:20260421T225321
DTSTART;TZID=Europe/Berlin:20261203T133000
DTEND;TZID=Europe/Berlin:20261203T173500
UID:EG404262P4-20261203T133000@VHSWETTERAU
SUMMARY:Deutsch als Zweitsprache B1/2 (Modul 6) Integrationskurs am Nachmittag (EG404262P4) 
LOCATION:Nidda Alteburgschule R. 510, Am Heiligen Kreuz 34, 63667 Nidda
END:VEVENT
BEGIN:VEVENT
DTSTAMP:20260421T225321
DTSTART;TZID=Europe/Berlin:20261207T133000
DTEND;TZID=Europe/Berlin:20261207T173500
UID:EG404262P4-20261207T133000@VHSWETTERAU
SUMMARY:Deutsch als Zweitsprache B1/2 (Modul 6) Integrationskurs am Nachmittag (EG404262P4) 
LOCATION:Nidda Alteburgschule R. 510, Am Heiligen Kreuz 34, 63667 Nidda
END:VEVENT
BEGIN:VEVENT
DTSTAMP:20260421T225321
DTSTART;TZID=Europe/Berlin:20261208T133000
DTEND;TZID=Europe/Berlin:20261208T173500
UID:EG404262P4-20261208T133000@VHSWETTERAU
SUMMARY:Deutsch als Zweitsprache B1/2 (Modul 6) Integrationskurs am Nachmittag (EG404262P4) 
LOCATION:Nidda Alteburgschule R. 510, Am Heiligen Kreuz 34, 63667 Nidda
END:VEVENT
BEGIN:VEVENT
DTSTAMP:20260421T225321
DTSTART;TZID=Europe/Berlin:20261209T133000
DTEND;TZID=Europe/Berlin:20261209T173500
UID:EG404262P4-20261209T133000@VHSWETTERAU
SUMMARY:Deutsch als Zweitsprache B1/2 (Modul 6) Integrationskurs am Nachmittag (EG404262P4) 
LOCATION:Nidda Alteburgschule R. 510, Am Heiligen Kreuz 34, 63667 Nidda
END:VEVENT
BEGIN:VEVENT
DTSTAMP:20260421T225321
DTSTART;TZID=Europe/Berlin:20261210T133000
DTEND;TZID=Europe/Berlin:20261210T173500
UID:EG404262P4-20261210T133000@VHSWETTERAU
SUMMARY:Deutsch als Zweitsprache B1/2 (Modul 6) Integrationskurs am Nachmittag (EG404262P4) 
LOCATION:Nidda Alteburgschule R. 510, Am Heiligen Kreuz 34, 63667 Nidda
END:VEVENT
BEGIN:VEVENT
DTSTAMP:20260421T225321
DTSTART;TZID=Europe/Berlin:20261214T133000
DTEND;TZID=Europe/Berlin:20261214T173500
UID:EG404262P4-20261214T133000@VHSWETTERAU
SUMMARY:Deutsch als Zweitsprache B1/2 (Modul 6) Integrationskurs am Nachmittag (EG404262P4) 
LOCATION:Nidda Alteburgschule R. 510, Am Heiligen Kreuz 34, 63667 Nidda
END:VEVENT
BEGIN:VEVENT
DTSTAMP:20260421T225321
DTSTART;TZID=Europe/Berlin:20261215T133000
DTEND;TZID=Europe/Berlin:20261215T173500
UID:EG404262P4-20261215T133000@VHSWETTERAU
SUMMARY:Deutsch als Zweitsprache B1/2 (Modul 6) Integrationskurs am Nachmittag (EG404262P4) 
LOCATION:Nidda Alteburgschule R. 510, Am Heiligen Kreuz 34, 63667 Nidda
END:VEVENT
BEGIN:VEVENT
DTSTAMP:20260421T225321
DTSTART;TZID=Europe/Berlin:20261216T133000
DTEND;TZID=Europe/Berlin:20261216T173500
UID:EG404262P4-20261216T133000@VHSWETTERAU
SUMMARY:Deutsch als Zweitsprache B1/2 (Modul 6) Integrationskurs am Nachmittag (EG404262P4) 
LOCATION:Nidda Alteburgschule R. 510, Am Heiligen Kreuz 34, 63667 Nidda
END:VEVENT
BEGIN:VEVENT
DTSTAMP:20260421T225321
DTSTART;TZID=Europe/Berlin:20261217T133000
DTEND;TZID=Europe/Berlin:20261217T173500
UID:EG404262P4-20261217T133000@VHSWETTERAU
SUMMARY:Deutsch als Zweitsprache B1/2 (Modul 6) Integrationskurs am Nachmittag (EG404262P4) 
LOCATION:Nidda Alteburgschule R. 510, Am Heiligen Kreuz 34, 63667 Nidda
END:VEVENT
END:VCALENDAR