BEGIN:VCALENDAR
VERSION:2.0
PRODID:https://www.kufer.de/kuferweb / DE
METHOD:PUBLISH
CALSCALE:GREGORIAN
X-WR-TIMEZONE:Europe/Berlin
BEGIN:VTIMEZONE
TZID:Europe/Berlin
X-LIC-LOCATION:Europe/Berlin
BEGIN:DAYLIGHT
TZOFFSETFROM:+0100
TZOFFSETTO:+0200
TZNAME:CEST
DTSTART:19700329T020000
RRULE:FREQ=YEARLY;INTERVAL=1;BYDAY=-1SU;BYMONTH=3
END:DAYLIGHT
BEGIN:STANDARD
TZOFFSETFROM:+0200
TZOFFSETTO:+0100
TZNAME:CET
DTSTART:19701025T030000
RRULE:FREQ=YEARLY;INTERVAL=1;BYDAY=-1SU;BYMONTH=10
END:STANDARD
END:VTIMEZONE
BEGIN:VEVENT
DTSTAMP:20260421T223216
DTSTART;TZID=Europe/Berlin:20261026T180000
DTEND;TZID=Europe/Berlin:20261026T211500
UID:EG404263H4-20261026T180000@VHSWETTERAU
SUMMARY:Deutsch als Zweitsprache B1/2 (Modul 6) Integrationskurs am Abend (EG404263H4) 
LOCATION:Fb vhs B12 (JPR), Friedensstr. 18, 61169 Friedberg
END:VEVENT
BEGIN:VEVENT
DTSTAMP:20260421T223216
DTSTART;TZID=Europe/Berlin:20261027T180000
DTEND;TZID=Europe/Berlin:20261027T211500
UID:EG404263H4-20261027T180000@VHSWETTERAU
SUMMARY:Deutsch als Zweitsprache B1/2 (Modul 6) Integrationskurs am Abend (EG404263H4) 
LOCATION:Fb vhs B12 (JPR), Friedensstr. 18, 61169 Friedberg
END:VEVENT
BEGIN:VEVENT
DTSTAMP:20260421T223216
DTSTART;TZID=Europe/Berlin:20261028T180000
DTEND;TZID=Europe/Berlin:20261028T211500
UID:EG404263H4-20261028T180000@VHSWETTERAU
SUMMARY:Deutsch als Zweitsprache B1/2 (Modul 6) Integrationskurs am Abend (EG404263H4) 
LOCATION:Fb vhs B12 (JPR), Friedensstr. 18, 61169 Friedberg
END:VEVENT
BEGIN:VEVENT
DTSTAMP:20260421T223216
DTSTART;TZID=Europe/Berlin:20261029T180000
DTEND;TZID=Europe/Berlin:20261029T211500
UID:EG404263H4-20261029T180000@VHSWETTERAU
SUMMARY:Deutsch als Zweitsprache B1/2 (Modul 6) Integrationskurs am Abend (EG404263H4) 
LOCATION:Fb vhs B12 (JPR), Friedensstr. 18, 61169 Friedberg
END:VEVENT
BEGIN:VEVENT
DTSTAMP:20260421T223216
DTSTART;TZID=Europe/Berlin:20261030T180000
DTEND;TZID=Europe/Berlin:20261030T211500
UID:EG404263H4-20261030T180000@VHSWETTERAU
SUMMARY:Deutsch als Zweitsprache B1/2 (Modul 6) Integrationskurs am Abend (EG404263H4) 
LOCATION:Fb vhs B12 (JPR), Friedensstr. 18, 61169 Friedberg
END:VEVENT
BEGIN:VEVENT
DTSTAMP:20260421T223216
DTSTART;TZID=Europe/Berlin:20261102T180000
DTEND;TZID=Europe/Berlin:20261102T211500
UID:EG404263H4-20261102T180000@VHSWETTERAU
SUMMARY:Deutsch als Zweitsprache B1/2 (Modul 6) Integrationskurs am Abend (EG404263H4) 
LOCATION:Fb vhs B12 (JPR), Friedensstr. 18, 61169 Friedberg
END:VEVENT
BEGIN:VEVENT
DTSTAMP:20260421T223216
DTSTART;TZID=Europe/Berlin:20261103T180000
DTEND;TZID=Europe/Berlin:20261103T211500
UID:EG404263H4-20261103T180000@VHSWETTERAU
SUMMARY:Deutsch als Zweitsprache B1/2 (Modul 6) Integrationskurs am Abend (EG404263H4) 
LOCATION:Fb vhs B12 (JPR), Friedensstr. 18, 61169 Friedberg
END:VEVENT
BEGIN:VEVENT
DTSTAMP:20260421T223216
DTSTART;TZID=Europe/Berlin:20261104T180000
DTEND;TZID=Europe/Berlin:20261104T211500
UID:EG404263H4-20261104T180000@VHSWETTERAU
SUMMARY:Deutsch als Zweitsprache B1/2 (Modul 6) Integrationskurs am Abend (EG404263H4) 
LOCATION:Fb vhs B12 (JPR), Friedensstr. 18, 61169 Friedberg
END:VEVENT
BEGIN:VEVENT
DTSTAMP:20260421T223216
DTSTART;TZID=Europe/Berlin:20261105T180000
DTEND;TZID=Europe/Berlin:20261105T211500
UID:EG404263H4-20261105T180000@VHSWETTERAU
SUMMARY:Deutsch als Zweitsprache B1/2 (Modul 6) Integrationskurs am Abend (EG404263H4) 
LOCATION:Fb vhs B12 (JPR), Friedensstr. 18, 61169 Friedberg
END:VEVENT
BEGIN:VEVENT
DTSTAMP:20260421T223216
DTSTART;TZID=Europe/Berlin:20261106T180000
DTEND;TZID=Europe/Berlin:20261106T211500
UID:EG404263H4-20261106T180000@VHSWETTERAU
SUMMARY:Deutsch als Zweitsprache B1/2 (Modul 6) Integrationskurs am Abend (EG404263H4) 
LOCATION:Fb vhs B12 (JPR), Friedensstr. 18, 61169 Friedberg
END:VEVENT
BEGIN:VEVENT
DTSTAMP:20260421T223216
DTSTART;TZID=Europe/Berlin:20261109T180000
DTEND;TZID=Europe/Berlin:20261109T211500
UID:EG404263H4-20261109T180000@VHSWETTERAU
SUMMARY:Deutsch als Zweitsprache B1/2 (Modul 6) Integrationskurs am Abend (EG404263H4) 
LOCATION:Fb vhs B12 (JPR), Friedensstr. 18, 61169 Friedberg
END:VEVENT
BEGIN:VEVENT
DTSTAMP:20260421T223216
DTSTART;TZID=Europe/Berlin:20261110T180000
DTEND;TZID=Europe/Berlin:20261110T211500
UID:EG404263H4-20261110T180000@VHSWETTERAU
SUMMARY:Deutsch als Zweitsprache B1/2 (Modul 6) Integrationskurs am Abend (EG404263H4) 
LOCATION:Fb vhs B12 (JPR), Friedensstr. 18, 61169 Friedberg
END:VEVENT
BEGIN:VEVENT
DTSTAMP:20260421T223216
DTSTART;TZID=Europe/Berlin:20261111T180000
DTEND;TZID=Europe/Berlin:20261111T211500
UID:EG404263H4-20261111T180000@VHSWETTERAU
SUMMARY:Deutsch als Zweitsprache B1/2 (Modul 6) Integrationskurs am Abend (EG404263H4) 
LOCATION:Fb vhs B12 (JPR), Friedensstr. 18, 61169 Friedberg
END:VEVENT
BEGIN:VEVENT
DTSTAMP:20260421T223216
DTSTART;TZID=Europe/Berlin:20261112T180000
DTEND;TZID=Europe/Berlin:20261112T211500
UID:EG404263H4-20261112T180000@VHSWETTERAU
SUMMARY:Deutsch als Zweitsprache B1/2 (Modul 6) Integrationskurs am Abend (EG404263H4) 
LOCATION:Fb vhs B12 (JPR), Friedensstr. 18, 61169 Friedberg
END:VEVENT
BEGIN:VEVENT
DTSTAMP:20260421T223216
DTSTART;TZID=Europe/Berlin:20261113T180000
DTEND;TZID=Europe/Berlin:20261113T211500
UID:EG404263H4-20261113T180000@VHSWETTERAU
SUMMARY:Deutsch als Zweitsprache B1/2 (Modul 6) Integrationskurs am Abend (EG404263H4) 
LOCATION:Fb vhs B12 (JPR), Friedensstr. 18, 61169 Friedberg
END:VEVENT
BEGIN:VEVENT
DTSTAMP:20260421T223216
DTSTART;TZID=Europe/Berlin:20261116T180000
DTEND;TZID=Europe/Berlin:20261116T211500
UID:EG404263H4-20261116T180000@VHSWETTERAU
SUMMARY:Deutsch als Zweitsprache B1/2 (Modul 6) Integrationskurs am Abend (EG404263H4) 
LOCATION:Fb vhs B12 (JPR), Friedensstr. 18, 61169 Friedberg
END:VEVENT
BEGIN:VEVENT
DTSTAMP:20260421T223216
DTSTART;TZID=Europe/Berlin:20261117T180000
DTEND;TZID=Europe/Berlin:20261117T211500
UID:EG404263H4-20261117T180000@VHSWETTERAU
SUMMARY:Deutsch als Zweitsprache B1/2 (Modul 6) Integrationskurs am Abend (EG404263H4) 
LOCATION:Fb vhs B12 (JPR), Friedensstr. 18, 61169 Friedberg
END:VEVENT
BEGIN:VEVENT
DTSTAMP:20260421T223216
DTSTART;TZID=Europe/Berlin:20261118T180000
DTEND;TZID=Europe/Berlin:20261118T211500
UID:EG404263H4-20261118T180000@VHSWETTERAU
SUMMARY:Deutsch als Zweitsprache B1/2 (Modul 6) Integrationskurs am Abend (EG404263H4) 
LOCATION:Fb vhs B12 (JPR), Friedensstr. 18, 61169 Friedberg
END:VEVENT
BEGIN:VEVENT
DTSTAMP:20260421T223216
DTSTART;TZID=Europe/Berlin:20261119T180000
DTEND;TZID=Europe/Berlin:20261119T211500
UID:EG404263H4-20261119T180000@VHSWETTERAU
SUMMARY:Deutsch als Zweitsprache B1/2 (Modul 6) Integrationskurs am Abend (EG404263H4) 
LOCATION:Fb vhs B12 (JPR), Friedensstr. 18, 61169 Friedberg
END:VEVENT
BEGIN:VEVENT
DTSTAMP:20260421T223216
DTSTART;TZID=Europe/Berlin:20261120T180000
DTEND;TZID=Europe/Berlin:20261120T211500
UID:EG404263H4-20261120T180000@VHSWETTERAU
SUMMARY:Deutsch als Zweitsprache B1/2 (Modul 6) Integrationskurs am Abend (EG404263H4) 
LOCATION:Fb vhs B12 (JPR), Friedensstr. 18, 61169 Friedberg
END:VEVENT
BEGIN:VEVENT
DTSTAMP:20260421T223216
DTSTART;TZID=Europe/Berlin:20261123T180000
DTEND;TZID=Europe/Berlin:20261123T211500
UID:EG404263H4-20261123T180000@VHSWETTERAU
SUMMARY:Deutsch als Zweitsprache B1/2 (Modul 6) Integrationskurs am Abend (EG404263H4) 
LOCATION:Fb vhs B12 (JPR), Friedensstr. 18, 61169 Friedberg
END:VEVENT
BEGIN:VEVENT
DTSTAMP:20260421T223216
DTSTART;TZID=Europe/Berlin:20261124T180000
DTEND;TZID=Europe/Berlin:20261124T211500
UID:EG404263H4-20261124T180000@VHSWETTERAU
SUMMARY:Deutsch als Zweitsprache B1/2 (Modul 6) Integrationskurs am Abend (EG404263H4) 
LOCATION:Fb vhs B12 (JPR), Friedensstr. 18, 61169 Friedberg
END:VEVENT
BEGIN:VEVENT
DTSTAMP:20260421T223216
DTSTART;TZID=Europe/Berlin:20261125T180000
DTEND;TZID=Europe/Berlin:20261125T211500
UID:EG404263H4-20261125T180000@VHSWETTERAU
SUMMARY:Deutsch als Zweitsprache B1/2 (Modul 6) Integrationskurs am Abend (EG404263H4) 
LOCATION:Fb vhs B12 (JPR), Friedensstr. 18, 61169 Friedberg
END:VEVENT
BEGIN:VEVENT
DTSTAMP:20260421T223216
DTSTART;TZID=Europe/Berlin:20261126T180000
DTEND;TZID=Europe/Berlin:20261126T211500
UID:EG404263H4-20261126T180000@VHSWETTERAU
SUMMARY:Deutsch als Zweitsprache B1/2 (Modul 6) Integrationskurs am Abend (EG404263H4) 
LOCATION:Fb vhs B12 (JPR), Friedensstr. 18, 61169 Friedberg
END:VEVENT
BEGIN:VEVENT
DTSTAMP:20260421T223216
DTSTART;TZID=Europe/Berlin:20261127T180000
DTEND;TZID=Europe/Berlin:20261127T211500
UID:EG404263H4-20261127T180000@VHSWETTERAU
SUMMARY:Deutsch als Zweitsprache B1/2 (Modul 6) Integrationskurs am Abend (EG404263H4) 
LOCATION:Fb vhs B12 (JPR), Friedensstr. 18, 61169 Friedberg
END:VEVENT
END:VCALENDAR