BEGIN:VCALENDAR
VERSION:2.0
PRODID:https://www.kufer.de/kuferweb / DE
METHOD:PUBLISH
CALSCALE:GREGORIAN
X-WR-TIMEZONE:Europe/Berlin
BEGIN:VTIMEZONE
TZID:Europe/Berlin
X-LIC-LOCATION:Europe/Berlin
BEGIN:DAYLIGHT
TZOFFSETFROM:+0100
TZOFFSETTO:+0200
TZNAME:CEST
DTSTART:19700329T020000
RRULE:FREQ=YEARLY;INTERVAL=1;BYDAY=-1SU;BYMONTH=3
END:DAYLIGHT
BEGIN:STANDARD
TZOFFSETFROM:+0200
TZOFFSETTO:+0100
TZNAME:CET
DTSTART:19701025T030000
RRULE:FREQ=YEARLY;INTERVAL=1;BYDAY=-1SU;BYMONTH=10
END:STANDARD
END:VTIMEZONE
BEGIN:VEVENT
DTSTAMP:20260421T211508
DTSTART;TZID=Europe/Berlin:20260831T180000
DTEND;TZID=Europe/Berlin:20260831T211500
UID:EG404263H8-20260831T180000@VHSWETTERAU
SUMMARY:Deutsch als Zweitsprache-Online-B1/2 (Modul 6) Integrationskurs am Abend (EG404263H8) 
LOCATION:Fb vhs 301-online
END:VEVENT
BEGIN:VEVENT
DTSTAMP:20260421T211508
DTSTART;TZID=Europe/Berlin:20260901T180000
DTEND;TZID=Europe/Berlin:20260901T211500
UID:EG404263H8-20260901T180000@VHSWETTERAU
SUMMARY:Deutsch als Zweitsprache-Online-B1/2 (Modul 6) Integrationskurs am Abend (EG404263H8) 
LOCATION:Fb vhs 301-online
END:VEVENT
BEGIN:VEVENT
DTSTAMP:20260421T211508
DTSTART;TZID=Europe/Berlin:20260902T180000
DTEND;TZID=Europe/Berlin:20260902T211500
UID:EG404263H8-20260902T180000@VHSWETTERAU
SUMMARY:Deutsch als Zweitsprache-Online-B1/2 (Modul 6) Integrationskurs am Abend (EG404263H8) 
LOCATION:Fb vhs 301-online
END:VEVENT
BEGIN:VEVENT
DTSTAMP:20260421T211508
DTSTART;TZID=Europe/Berlin:20260903T180000
DTEND;TZID=Europe/Berlin:20260903T211500
UID:EG404263H8-20260903T180000@VHSWETTERAU
SUMMARY:Deutsch als Zweitsprache-Online-B1/2 (Modul 6) Integrationskurs am Abend (EG404263H8) 
LOCATION:Fb vhs 301-online
END:VEVENT
BEGIN:VEVENT
DTSTAMP:20260421T211508
DTSTART;TZID=Europe/Berlin:20260907T180000
DTEND;TZID=Europe/Berlin:20260907T211500
UID:EG404263H8-20260907T180000@VHSWETTERAU
SUMMARY:Deutsch als Zweitsprache-Online-B1/2 (Modul 6) Integrationskurs am Abend (EG404263H8) 
LOCATION:Fb vhs 301-online
END:VEVENT
BEGIN:VEVENT
DTSTAMP:20260421T211508
DTSTART;TZID=Europe/Berlin:20260908T180000
DTEND;TZID=Europe/Berlin:20260908T211500
UID:EG404263H8-20260908T180000@VHSWETTERAU
SUMMARY:Deutsch als Zweitsprache-Online-B1/2 (Modul 6) Integrationskurs am Abend (EG404263H8) 
LOCATION:Fb vhs 301-online
END:VEVENT
BEGIN:VEVENT
DTSTAMP:20260421T211508
DTSTART;TZID=Europe/Berlin:20260909T180000
DTEND;TZID=Europe/Berlin:20260909T211500
UID:EG404263H8-20260909T180000@VHSWETTERAU
SUMMARY:Deutsch als Zweitsprache-Online-B1/2 (Modul 6) Integrationskurs am Abend (EG404263H8) 
LOCATION:Fb vhs 301-online
END:VEVENT
BEGIN:VEVENT
DTSTAMP:20260421T211508
DTSTART;TZID=Europe/Berlin:20260910T180000
DTEND;TZID=Europe/Berlin:20260910T211500
UID:EG404263H8-20260910T180000@VHSWETTERAU
SUMMARY:Deutsch als Zweitsprache-Online-B1/2 (Modul 6) Integrationskurs am Abend (EG404263H8) 
LOCATION:Fb vhs 301-online
END:VEVENT
BEGIN:VEVENT
DTSTAMP:20260421T211508
DTSTART;TZID=Europe/Berlin:20260914T180000
DTEND;TZID=Europe/Berlin:20260914T211500
UID:EG404263H8-20260914T180000@VHSWETTERAU
SUMMARY:Deutsch als Zweitsprache-Online-B1/2 (Modul 6) Integrationskurs am Abend (EG404263H8) 
LOCATION:Fb vhs 301-online
END:VEVENT
BEGIN:VEVENT
DTSTAMP:20260421T211508
DTSTART;TZID=Europe/Berlin:20260915T180000
DTEND;TZID=Europe/Berlin:20260915T211500
UID:EG404263H8-20260915T180000@VHSWETTERAU
SUMMARY:Deutsch als Zweitsprache-Online-B1/2 (Modul 6) Integrationskurs am Abend (EG404263H8) 
LOCATION:Fb vhs 301-online
END:VEVENT
BEGIN:VEVENT
DTSTAMP:20260421T211508
DTSTART;TZID=Europe/Berlin:20260916T180000
DTEND;TZID=Europe/Berlin:20260916T211500
UID:EG404263H8-20260916T180000@VHSWETTERAU
SUMMARY:Deutsch als Zweitsprache-Online-B1/2 (Modul 6) Integrationskurs am Abend (EG404263H8) 
LOCATION:Fb vhs 301-online
END:VEVENT
BEGIN:VEVENT
DTSTAMP:20260421T211508
DTSTART;TZID=Europe/Berlin:20260917T180000
DTEND;TZID=Europe/Berlin:20260917T211500
UID:EG404263H8-20260917T180000@VHSWETTERAU
SUMMARY:Deutsch als Zweitsprache-Online-B1/2 (Modul 6) Integrationskurs am Abend (EG404263H8) 
LOCATION:Fb vhs 301-online
END:VEVENT
BEGIN:VEVENT
DTSTAMP:20260421T211508
DTSTART;TZID=Europe/Berlin:20260921T180000
DTEND;TZID=Europe/Berlin:20260921T211500
UID:EG404263H8-20260921T180000@VHSWETTERAU
SUMMARY:Deutsch als Zweitsprache-Online-B1/2 (Modul 6) Integrationskurs am Abend (EG404263H8) 
LOCATION:Fb vhs 301-online
END:VEVENT
BEGIN:VEVENT
DTSTAMP:20260421T211508
DTSTART;TZID=Europe/Berlin:20260922T180000
DTEND;TZID=Europe/Berlin:20260922T211500
UID:EG404263H8-20260922T180000@VHSWETTERAU
SUMMARY:Deutsch als Zweitsprache-Online-B1/2 (Modul 6) Integrationskurs am Abend (EG404263H8) 
LOCATION:Fb vhs 301-online
END:VEVENT
BEGIN:VEVENT
DTSTAMP:20260421T211508
DTSTART;TZID=Europe/Berlin:20260923T180000
DTEND;TZID=Europe/Berlin:20260923T211500
UID:EG404263H8-20260923T180000@VHSWETTERAU
SUMMARY:Deutsch als Zweitsprache-Online-B1/2 (Modul 6) Integrationskurs am Abend (EG404263H8) 
LOCATION:Fb vhs 301-online
END:VEVENT
BEGIN:VEVENT
DTSTAMP:20260421T211508
DTSTART;TZID=Europe/Berlin:20260924T180000
DTEND;TZID=Europe/Berlin:20260924T211500
UID:EG404263H8-20260924T180000@VHSWETTERAU
SUMMARY:Deutsch als Zweitsprache-Online-B1/2 (Modul 6) Integrationskurs am Abend (EG404263H8) 
LOCATION:Fb vhs 301-online
END:VEVENT
BEGIN:VEVENT
DTSTAMP:20260421T211508
DTSTART;TZID=Europe/Berlin:20260928T180000
DTEND;TZID=Europe/Berlin:20260928T211500
UID:EG404263H8-20260928T180000@VHSWETTERAU
SUMMARY:Deutsch als Zweitsprache-Online-B1/2 (Modul 6) Integrationskurs am Abend (EG404263H8) 
LOCATION:Fb vhs 301-online
END:VEVENT
BEGIN:VEVENT
DTSTAMP:20260421T211508
DTSTART;TZID=Europe/Berlin:20260929T180000
DTEND;TZID=Europe/Berlin:20260929T211500
UID:EG404263H8-20260929T180000@VHSWETTERAU
SUMMARY:Deutsch als Zweitsprache-Online-B1/2 (Modul 6) Integrationskurs am Abend (EG404263H8) 
LOCATION:Fb vhs 301-online
END:VEVENT
BEGIN:VEVENT
DTSTAMP:20260421T211508
DTSTART;TZID=Europe/Berlin:20260930T180000
DTEND;TZID=Europe/Berlin:20260930T211500
UID:EG404263H8-20260930T180000@VHSWETTERAU
SUMMARY:Deutsch als Zweitsprache-Online-B1/2 (Modul 6) Integrationskurs am Abend (EG404263H8) 
LOCATION:Fb vhs 301-online
END:VEVENT
BEGIN:VEVENT
DTSTAMP:20260421T211508
DTSTART;TZID=Europe/Berlin:20261001T180000
DTEND;TZID=Europe/Berlin:20261001T211500
UID:EG404263H8-20261001T180000@VHSWETTERAU
SUMMARY:Deutsch als Zweitsprache-Online-B1/2 (Modul 6) Integrationskurs am Abend (EG404263H8) 
LOCATION:Fb vhs 301-online
END:VEVENT
BEGIN:VEVENT
DTSTAMP:20260421T211508
DTSTART;TZID=Europe/Berlin:20261019T180000
DTEND;TZID=Europe/Berlin:20261019T211500
UID:EG404263H8-20261019T180000@VHSWETTERAU
SUMMARY:Deutsch als Zweitsprache-Online-B1/2 (Modul 6) Integrationskurs am Abend (EG404263H8) 
LOCATION:Fb vhs 301-online
END:VEVENT
BEGIN:VEVENT
DTSTAMP:20260421T211508
DTSTART;TZID=Europe/Berlin:20261020T180000
DTEND;TZID=Europe/Berlin:20261020T211500
UID:EG404263H8-20261020T180000@VHSWETTERAU
SUMMARY:Deutsch als Zweitsprache-Online-B1/2 (Modul 6) Integrationskurs am Abend (EG404263H8) 
LOCATION:Fb vhs 301-online
END:VEVENT
BEGIN:VEVENT
DTSTAMP:20260421T211508
DTSTART;TZID=Europe/Berlin:20261021T180000
DTEND;TZID=Europe/Berlin:20261021T211500
UID:EG404263H8-20261021T180000@VHSWETTERAU
SUMMARY:Deutsch als Zweitsprache-Online-B1/2 (Modul 6) Integrationskurs am Abend (EG404263H8) 
LOCATION:Fb vhs 301-online
END:VEVENT
BEGIN:VEVENT
DTSTAMP:20260421T211508
DTSTART;TZID=Europe/Berlin:20261022T180000
DTEND;TZID=Europe/Berlin:20261022T211500
UID:EG404263H8-20261022T180000@VHSWETTERAU
SUMMARY:Deutsch als Zweitsprache-Online-B1/2 (Modul 6) Integrationskurs am Abend (EG404263H8) 
LOCATION:Fb vhs 301-online
END:VEVENT
BEGIN:VEVENT
DTSTAMP:20260421T211508
DTSTART;TZID=Europe/Berlin:20261026T180000
DTEND;TZID=Europe/Berlin:20261026T211500
UID:EG404263H8-20261026T180000@VHSWETTERAU
SUMMARY:Deutsch als Zweitsprache-Online-B1/2 (Modul 6) Integrationskurs am Abend (EG404263H8) 
LOCATION:Fb vhs 301-online
END:VEVENT
END:VCALENDAR