BEGIN:VCALENDAR
VERSION:2.0
PRODID:https://www.kufer.de/kuferweb / DE
METHOD:PUBLISH
CALSCALE:GREGORIAN
X-WR-TIMEZONE:Europe/Berlin
BEGIN:VTIMEZONE
TZID:Europe/Berlin
X-LIC-LOCATION:Europe/Berlin
BEGIN:DAYLIGHT
TZOFFSETFROM:+0100
TZOFFSETTO:+0200
TZNAME:CEST
DTSTART:19700329T020000
RRULE:FREQ=YEARLY;INTERVAL=1;BYDAY=-1SU;BYMONTH=3
END:DAYLIGHT
BEGIN:STANDARD
TZOFFSETFROM:+0200
TZOFFSETTO:+0100
TZNAME:CET
DTSTART:19701025T030000
RRULE:FREQ=YEARLY;INTERVAL=1;BYDAY=-1SU;BYMONTH=10
END:STANDARD
END:VTIMEZONE
BEGIN:VEVENT
DTSTAMP:20260422T000346
DTSTART;TZID=Europe/Berlin:20261216T140000
DTEND;TZID=Europe/Berlin:20261216T171500
UID:EG404271H6-20261216T140000@VHSWETTERAU
SUMMARY:Kurs für gering Literalisierte Spezialkurs 1 (Modul 7) Integrationskurs am Nachmittag (EG404271H6) 
LOCATION:FB Am Dachspfad 32A, R. 207, Am Dachspfad 32A, 61169 Friedberg
END:VEVENT
BEGIN:VEVENT
DTSTAMP:20260422T000346
DTSTART;TZID=Europe/Berlin:20261217T140000
DTEND;TZID=Europe/Berlin:20261217T171500
UID:EG404271H6-20261217T140000@VHSWETTERAU
SUMMARY:Kurs für gering Literalisierte Spezialkurs 1 (Modul 7) Integrationskurs am Nachmittag (EG404271H6) 
LOCATION:FB Am Dachspfad 32A, R. 207, Am Dachspfad 32A, 61169 Friedberg
END:VEVENT
BEGIN:VEVENT
DTSTAMP:20260422T000346
DTSTART;TZID=Europe/Berlin:20261218T140000
DTEND;TZID=Europe/Berlin:20261218T171500
UID:EG404271H6-20261218T140000@VHSWETTERAU
SUMMARY:Kurs für gering Literalisierte Spezialkurs 1 (Modul 7) Integrationskurs am Nachmittag (EG404271H6) 
LOCATION:FB Am Dachspfad 32A, R. 207, Am Dachspfad 32A, 61169 Friedberg
END:VEVENT
BEGIN:VEVENT
DTSTAMP:20260422T000346
DTSTART;TZID=Europe/Berlin:20261221T140000
DTEND;TZID=Europe/Berlin:20261221T171500
UID:EG404271H6-20261221T140000@VHSWETTERAU
SUMMARY:Kurs für gering Literalisierte Spezialkurs 1 (Modul 7) Integrationskurs am Nachmittag (EG404271H6) 
LOCATION:FB Am Dachspfad 32A, R. 207, Am Dachspfad 32A, 61169 Friedberg
END:VEVENT
BEGIN:VEVENT
DTSTAMP:20260422T000346
DTSTART;TZID=Europe/Berlin:20261222T140000
DTEND;TZID=Europe/Berlin:20261222T171500
UID:EG404271H6-20261222T140000@VHSWETTERAU
SUMMARY:Kurs für gering Literalisierte Spezialkurs 1 (Modul 7) Integrationskurs am Nachmittag (EG404271H6) 
LOCATION:FB Am Dachspfad 32A, R. 207, Am Dachspfad 32A, 61169 Friedberg
END:VEVENT
BEGIN:VEVENT
DTSTAMP:20260422T000346
DTSTART;TZID=Europe/Berlin:20270111T140000
DTEND;TZID=Europe/Berlin:20270111T171500
UID:EG404271H6-20270111T140000@VHSWETTERAU
SUMMARY:Kurs für gering Literalisierte Spezialkurs 1 (Modul 7) Integrationskurs am Nachmittag (EG404271H6) 
LOCATION:FB Am Dachspfad 32A, R. 207, Am Dachspfad 32A, 61169 Friedberg
END:VEVENT
BEGIN:VEVENT
DTSTAMP:20260422T000346
DTSTART;TZID=Europe/Berlin:20270112T140000
DTEND;TZID=Europe/Berlin:20270112T171500
UID:EG404271H6-20270112T140000@VHSWETTERAU
SUMMARY:Kurs für gering Literalisierte Spezialkurs 1 (Modul 7) Integrationskurs am Nachmittag (EG404271H6) 
LOCATION:FB Am Dachspfad 32A, R. 207, Am Dachspfad 32A, 61169 Friedberg
END:VEVENT
BEGIN:VEVENT
DTSTAMP:20260422T000346
DTSTART;TZID=Europe/Berlin:20270113T140000
DTEND;TZID=Europe/Berlin:20270113T171500
UID:EG404271H6-20270113T140000@VHSWETTERAU
SUMMARY:Kurs für gering Literalisierte Spezialkurs 1 (Modul 7) Integrationskurs am Nachmittag (EG404271H6) 
LOCATION:FB Am Dachspfad 32A, R. 207, Am Dachspfad 32A, 61169 Friedberg
END:VEVENT
BEGIN:VEVENT
DTSTAMP:20260422T000346
DTSTART;TZID=Europe/Berlin:20270114T140000
DTEND;TZID=Europe/Berlin:20270114T171500
UID:EG404271H6-20270114T140000@VHSWETTERAU
SUMMARY:Kurs für gering Literalisierte Spezialkurs 1 (Modul 7) Integrationskurs am Nachmittag (EG404271H6) 
LOCATION:FB Am Dachspfad 32A, R. 207, Am Dachspfad 32A, 61169 Friedberg
END:VEVENT
BEGIN:VEVENT
DTSTAMP:20260422T000346
DTSTART;TZID=Europe/Berlin:20270115T140000
DTEND;TZID=Europe/Berlin:20270115T171500
UID:EG404271H6-20270115T140000@VHSWETTERAU
SUMMARY:Kurs für gering Literalisierte Spezialkurs 1 (Modul 7) Integrationskurs am Nachmittag (EG404271H6) 
LOCATION:FB Am Dachspfad 32A, R. 207, Am Dachspfad 32A, 61169 Friedberg
END:VEVENT
BEGIN:VEVENT
DTSTAMP:20260422T000346
DTSTART;TZID=Europe/Berlin:20270118T140000
DTEND;TZID=Europe/Berlin:20270118T171500
UID:EG404271H6-20270118T140000@VHSWETTERAU
SUMMARY:Kurs für gering Literalisierte Spezialkurs 1 (Modul 7) Integrationskurs am Nachmittag (EG404271H6) 
LOCATION:FB Am Dachspfad 32A, R. 207, Am Dachspfad 32A, 61169 Friedberg
END:VEVENT
BEGIN:VEVENT
DTSTAMP:20260422T000346
DTSTART;TZID=Europe/Berlin:20270119T140000
DTEND;TZID=Europe/Berlin:20270119T171500
UID:EG404271H6-20270119T140000@VHSWETTERAU
SUMMARY:Kurs für gering Literalisierte Spezialkurs 1 (Modul 7) Integrationskurs am Nachmittag (EG404271H6) 
LOCATION:FB Am Dachspfad 32A, R. 207, Am Dachspfad 32A, 61169 Friedberg
END:VEVENT
BEGIN:VEVENT
DTSTAMP:20260422T000346
DTSTART;TZID=Europe/Berlin:20270120T140000
DTEND;TZID=Europe/Berlin:20270120T171500
UID:EG404271H6-20270120T140000@VHSWETTERAU
SUMMARY:Kurs für gering Literalisierte Spezialkurs 1 (Modul 7) Integrationskurs am Nachmittag (EG404271H6) 
LOCATION:FB Am Dachspfad 32A, R. 207, Am Dachspfad 32A, 61169 Friedberg
END:VEVENT
BEGIN:VEVENT
DTSTAMP:20260422T000346
DTSTART;TZID=Europe/Berlin:20270121T140000
DTEND;TZID=Europe/Berlin:20270121T171500
UID:EG404271H6-20270121T140000@VHSWETTERAU
SUMMARY:Kurs für gering Literalisierte Spezialkurs 1 (Modul 7) Integrationskurs am Nachmittag (EG404271H6) 
LOCATION:FB Am Dachspfad 32A, R. 207, Am Dachspfad 32A, 61169 Friedberg
END:VEVENT
BEGIN:VEVENT
DTSTAMP:20260422T000346
DTSTART;TZID=Europe/Berlin:20270122T140000
DTEND;TZID=Europe/Berlin:20270122T171500
UID:EG404271H6-20270122T140000@VHSWETTERAU
SUMMARY:Kurs für gering Literalisierte Spezialkurs 1 (Modul 7) Integrationskurs am Nachmittag (EG404271H6) 
LOCATION:FB Am Dachspfad 32A, R. 207, Am Dachspfad 32A, 61169 Friedberg
END:VEVENT
BEGIN:VEVENT
DTSTAMP:20260422T000346
DTSTART;TZID=Europe/Berlin:20270125T140000
DTEND;TZID=Europe/Berlin:20270125T171500
UID:EG404271H6-20270125T140000@VHSWETTERAU
SUMMARY:Kurs für gering Literalisierte Spezialkurs 1 (Modul 7) Integrationskurs am Nachmittag (EG404271H6) 
LOCATION:FB Am Dachspfad 32A, R. 207, Am Dachspfad 32A, 61169 Friedberg
END:VEVENT
BEGIN:VEVENT
DTSTAMP:20260422T000346
DTSTART;TZID=Europe/Berlin:20270126T140000
DTEND;TZID=Europe/Berlin:20270126T171500
UID:EG404271H6-20270126T140000@VHSWETTERAU
SUMMARY:Kurs für gering Literalisierte Spezialkurs 1 (Modul 7) Integrationskurs am Nachmittag (EG404271H6) 
LOCATION:FB Am Dachspfad 32A, R. 207, Am Dachspfad 32A, 61169 Friedberg
END:VEVENT
BEGIN:VEVENT
DTSTAMP:20260422T000346
DTSTART;TZID=Europe/Berlin:20270127T140000
DTEND;TZID=Europe/Berlin:20270127T171500
UID:EG404271H6-20270127T140000@VHSWETTERAU
SUMMARY:Kurs für gering Literalisierte Spezialkurs 1 (Modul 7) Integrationskurs am Nachmittag (EG404271H6) 
LOCATION:FB Am Dachspfad 32A, R. 207, Am Dachspfad 32A, 61169 Friedberg
END:VEVENT
BEGIN:VEVENT
DTSTAMP:20260422T000346
DTSTART;TZID=Europe/Berlin:20270128T140000
DTEND;TZID=Europe/Berlin:20270128T171500
UID:EG404271H6-20270128T140000@VHSWETTERAU
SUMMARY:Kurs für gering Literalisierte Spezialkurs 1 (Modul 7) Integrationskurs am Nachmittag (EG404271H6) 
LOCATION:FB Am Dachspfad 32A, R. 207, Am Dachspfad 32A, 61169 Friedberg
END:VEVENT
BEGIN:VEVENT
DTSTAMP:20260422T000346
DTSTART;TZID=Europe/Berlin:20270129T140000
DTEND;TZID=Europe/Berlin:20270129T171500
UID:EG404271H6-20270129T140000@VHSWETTERAU
SUMMARY:Kurs für gering Literalisierte Spezialkurs 1 (Modul 7) Integrationskurs am Nachmittag (EG404271H6) 
LOCATION:FB Am Dachspfad 32A, R. 207, Am Dachspfad 32A, 61169 Friedberg
END:VEVENT
BEGIN:VEVENT
DTSTAMP:20260422T000346
DTSTART;TZID=Europe/Berlin:20270201T140000
DTEND;TZID=Europe/Berlin:20270201T171500
UID:EG404271H6-20270201T140000@VHSWETTERAU
SUMMARY:Kurs für gering Literalisierte Spezialkurs 1 (Modul 7) Integrationskurs am Nachmittag (EG404271H6) 
LOCATION:FB Am Dachspfad 32A, R. 207, Am Dachspfad 32A, 61169 Friedberg
END:VEVENT
BEGIN:VEVENT
DTSTAMP:20260422T000346
DTSTART;TZID=Europe/Berlin:20270202T140000
DTEND;TZID=Europe/Berlin:20270202T171500
UID:EG404271H6-20270202T140000@VHSWETTERAU
SUMMARY:Kurs für gering Literalisierte Spezialkurs 1 (Modul 7) Integrationskurs am Nachmittag (EG404271H6) 
LOCATION:FB Am Dachspfad 32A, R. 207, Am Dachspfad 32A, 61169 Friedberg
END:VEVENT
BEGIN:VEVENT
DTSTAMP:20260422T000346
DTSTART;TZID=Europe/Berlin:20270203T140000
DTEND;TZID=Europe/Berlin:20270203T171500
UID:EG404271H6-20270203T140000@VHSWETTERAU
SUMMARY:Kurs für gering Literalisierte Spezialkurs 1 (Modul 7) Integrationskurs am Nachmittag (EG404271H6) 
LOCATION:FB Am Dachspfad 32A, R. 207, Am Dachspfad 32A, 61169 Friedberg
END:VEVENT
BEGIN:VEVENT
DTSTAMP:20260422T000346
DTSTART;TZID=Europe/Berlin:20270204T140000
DTEND;TZID=Europe/Berlin:20270204T171500
UID:EG404271H6-20270204T140000@VHSWETTERAU
SUMMARY:Kurs für gering Literalisierte Spezialkurs 1 (Modul 7) Integrationskurs am Nachmittag (EG404271H6) 
LOCATION:FB Am Dachspfad 32A, R. 207, Am Dachspfad 32A, 61169 Friedberg
END:VEVENT
BEGIN:VEVENT
DTSTAMP:20260422T000346
DTSTART;TZID=Europe/Berlin:20270205T140000
DTEND;TZID=Europe/Berlin:20270205T171500
UID:EG404271H6-20270205T140000@VHSWETTERAU
SUMMARY:Kurs für gering Literalisierte Spezialkurs 1 (Modul 7) Integrationskurs am Nachmittag (EG404271H6) 
LOCATION:FB Am Dachspfad 32A, R. 207, Am Dachspfad 32A, 61169 Friedberg
END:VEVENT
END:VCALENDAR