BEGIN:VCALENDAR
VERSION:2.0
PRODID:https://www.kufer.de/kuferweb / DE
METHOD:PUBLISH
CALSCALE:GREGORIAN
X-WR-TIMEZONE:Europe/Berlin
BEGIN:VTIMEZONE
TZID:Europe/Berlin
X-LIC-LOCATION:Europe/Berlin
BEGIN:DAYLIGHT
TZOFFSETFROM:+0100
TZOFFSETTO:+0200
TZNAME:CEST
DTSTART:19700329T020000
RRULE:FREQ=YEARLY;INTERVAL=1;BYDAY=-1SU;BYMONTH=3
END:DAYLIGHT
BEGIN:STANDARD
TZOFFSETFROM:+0200
TZOFFSETTO:+0100
TZNAME:CET
DTSTART:19701025T030000
RRULE:FREQ=YEARLY;INTERVAL=1;BYDAY=-1SU;BYMONTH=10
END:STANDARD
END:VTIMEZONE
BEGIN:VEVENT
DTSTAMP:20260422T014846
DTSTART;TZID=Europe/Berlin:20261207T180000
DTEND;TZID=Europe/Berlin:20261207T211500
UID:EG404273H4-20261207T180000@VHSWETTERAU
SUMMARY:Orientierungskurs - Einbürgerungskurs am Abend (EG404273H4) 
LOCATION:Fb vhs B12 (JPR), Friedensstr. 18, 61169 Friedberg
END:VEVENT
BEGIN:VEVENT
DTSTAMP:20260422T014846
DTSTART;TZID=Europe/Berlin:20261208T180000
DTEND;TZID=Europe/Berlin:20261208T211500
UID:EG404273H4-20261208T180000@VHSWETTERAU
SUMMARY:Orientierungskurs - Einbürgerungskurs am Abend (EG404273H4) 
LOCATION:Fb vhs B12 (JPR), Friedensstr. 18, 61169 Friedberg
END:VEVENT
BEGIN:VEVENT
DTSTAMP:20260422T014846
DTSTART;TZID=Europe/Berlin:20261209T180000
DTEND;TZID=Europe/Berlin:20261209T211500
UID:EG404273H4-20261209T180000@VHSWETTERAU
SUMMARY:Orientierungskurs - Einbürgerungskurs am Abend (EG404273H4) 
LOCATION:Fb vhs B12 (JPR), Friedensstr. 18, 61169 Friedberg
END:VEVENT
BEGIN:VEVENT
DTSTAMP:20260422T014846
DTSTART;TZID=Europe/Berlin:20261210T180000
DTEND;TZID=Europe/Berlin:20261210T211500
UID:EG404273H4-20261210T180000@VHSWETTERAU
SUMMARY:Orientierungskurs - Einbürgerungskurs am Abend (EG404273H4) 
LOCATION:Fb vhs B12 (JPR), Friedensstr. 18, 61169 Friedberg
END:VEVENT
BEGIN:VEVENT
DTSTAMP:20260422T014846
DTSTART;TZID=Europe/Berlin:20261211T180000
DTEND;TZID=Europe/Berlin:20261211T211500
UID:EG404273H4-20261211T180000@VHSWETTERAU
SUMMARY:Orientierungskurs - Einbürgerungskurs am Abend (EG404273H4) 
LOCATION:Fb vhs B12 (JPR), Friedensstr. 18, 61169 Friedberg
END:VEVENT
BEGIN:VEVENT
DTSTAMP:20260422T014846
DTSTART;TZID=Europe/Berlin:20261214T180000
DTEND;TZID=Europe/Berlin:20261214T211500
UID:EG404273H4-20261214T180000@VHSWETTERAU
SUMMARY:Orientierungskurs - Einbürgerungskurs am Abend (EG404273H4) 
LOCATION:Fb vhs B12 (JPR), Friedensstr. 18, 61169 Friedberg
END:VEVENT
BEGIN:VEVENT
DTSTAMP:20260422T014846
DTSTART;TZID=Europe/Berlin:20261215T180000
DTEND;TZID=Europe/Berlin:20261215T211500
UID:EG404273H4-20261215T180000@VHSWETTERAU
SUMMARY:Orientierungskurs - Einbürgerungskurs am Abend (EG404273H4) 
LOCATION:Fb vhs B12 (JPR), Friedensstr. 18, 61169 Friedberg
END:VEVENT
BEGIN:VEVENT
DTSTAMP:20260422T014846
DTSTART;TZID=Europe/Berlin:20261216T180000
DTEND;TZID=Europe/Berlin:20261216T211500
UID:EG404273H4-20261216T180000@VHSWETTERAU
SUMMARY:Orientierungskurs - Einbürgerungskurs am Abend (EG404273H4) 
LOCATION:Fb vhs B12 (JPR), Friedensstr. 18, 61169 Friedberg
END:VEVENT
BEGIN:VEVENT
DTSTAMP:20260422T014846
DTSTART;TZID=Europe/Berlin:20261217T180000
DTEND;TZID=Europe/Berlin:20261217T211500
UID:EG404273H4-20261217T180000@VHSWETTERAU
SUMMARY:Orientierungskurs - Einbürgerungskurs am Abend (EG404273H4) 
LOCATION:Fb vhs B12 (JPR), Friedensstr. 18, 61169 Friedberg
END:VEVENT
BEGIN:VEVENT
DTSTAMP:20260422T014846
DTSTART;TZID=Europe/Berlin:20261218T180000
DTEND;TZID=Europe/Berlin:20261218T211500
UID:EG404273H4-20261218T180000@VHSWETTERAU
SUMMARY:Orientierungskurs - Einbürgerungskurs am Abend (EG404273H4) 
LOCATION:Fb vhs B12 (JPR), Friedensstr. 18, 61169 Friedberg
END:VEVENT
BEGIN:VEVENT
DTSTAMP:20260422T014846
DTSTART;TZID=Europe/Berlin:20261221T180000
DTEND;TZID=Europe/Berlin:20261221T211500
UID:EG404273H4-20261221T180000@VHSWETTERAU
SUMMARY:Orientierungskurs - Einbürgerungskurs am Abend (EG404273H4) 
LOCATION:Fb vhs B12 (JPR), Friedensstr. 18, 61169 Friedberg
END:VEVENT
BEGIN:VEVENT
DTSTAMP:20260422T014846
DTSTART;TZID=Europe/Berlin:20261222T180000
DTEND;TZID=Europe/Berlin:20261222T211500
UID:EG404273H4-20261222T180000@VHSWETTERAU
DESCRIPTION:Achtung: Raumwechsel!
SUMMARY:Orientierungskurs - Einbürgerungskurs am Abend (EG404273H4) 
LOCATION:Fb vhs 101, Friedensstr. 18, 61169 Friedberg
END:VEVENT
BEGIN:VEVENT
DTSTAMP:20260422T014846
DTSTART;TZID=Europe/Berlin:20270113T180000
DTEND;TZID=Europe/Berlin:20270113T211500
UID:EG404273H4-20270113T180000@VHSWETTERAU
SUMMARY:Orientierungskurs - Einbürgerungskurs am Abend (EG404273H4) 
LOCATION:Fb vhs B12 (JPR), Friedensstr. 18, 61169 Friedberg
END:VEVENT
BEGIN:VEVENT
DTSTAMP:20260422T014846
DTSTART;TZID=Europe/Berlin:20270114T180000
DTEND;TZID=Europe/Berlin:20270114T211500
UID:EG404273H4-20270114T180000@VHSWETTERAU
SUMMARY:Orientierungskurs - Einbürgerungskurs am Abend (EG404273H4) 
LOCATION:Fb vhs B12 (JPR), Friedensstr. 18, 61169 Friedberg
END:VEVENT
BEGIN:VEVENT
DTSTAMP:20260422T014846
DTSTART;TZID=Europe/Berlin:20270115T180000
DTEND;TZID=Europe/Berlin:20270115T211500
UID:EG404273H4-20270115T180000@VHSWETTERAU
SUMMARY:Orientierungskurs - Einbürgerungskurs am Abend (EG404273H4) 
LOCATION:Fb vhs B12 (JPR), Friedensstr. 18, 61169 Friedberg
END:VEVENT
BEGIN:VEVENT
DTSTAMP:20260422T014846
DTSTART;TZID=Europe/Berlin:20270118T180000
DTEND;TZID=Europe/Berlin:20270118T211500
UID:EG404273H4-20270118T180000@VHSWETTERAU
SUMMARY:Orientierungskurs - Einbürgerungskurs am Abend (EG404273H4) 
LOCATION:Fb vhs B12 (JPR), Friedensstr. 18, 61169 Friedberg
END:VEVENT
BEGIN:VEVENT
DTSTAMP:20260422T014846
DTSTART;TZID=Europe/Berlin:20270119T180000
DTEND;TZID=Europe/Berlin:20270119T211500
UID:EG404273H4-20270119T180000@VHSWETTERAU
SUMMARY:Orientierungskurs - Einbürgerungskurs am Abend (EG404273H4) 
LOCATION:Fb vhs B12 (JPR), Friedensstr. 18, 61169 Friedberg
END:VEVENT
BEGIN:VEVENT
DTSTAMP:20260422T014846
DTSTART;TZID=Europe/Berlin:20270120T180000
DTEND;TZID=Europe/Berlin:20270120T211500
UID:EG404273H4-20270120T180000@VHSWETTERAU
SUMMARY:Orientierungskurs - Einbürgerungskurs am Abend (EG404273H4) 
LOCATION:Fb vhs B12 (JPR), Friedensstr. 18, 61169 Friedberg
END:VEVENT
BEGIN:VEVENT
DTSTAMP:20260422T014846
DTSTART;TZID=Europe/Berlin:20270121T180000
DTEND;TZID=Europe/Berlin:20270121T211500
UID:EG404273H4-20270121T180000@VHSWETTERAU
SUMMARY:Orientierungskurs - Einbürgerungskurs am Abend (EG404273H4) 
LOCATION:Fb vhs B12 (JPR), Friedensstr. 18, 61169 Friedberg
END:VEVENT
BEGIN:VEVENT
DTSTAMP:20260422T014846
DTSTART;TZID=Europe/Berlin:20270122T180000
DTEND;TZID=Europe/Berlin:20270122T211500
UID:EG404273H4-20270122T180000@VHSWETTERAU
SUMMARY:Orientierungskurs - Einbürgerungskurs am Abend (EG404273H4) 
LOCATION:Fb vhs B12 (JPR), Friedensstr. 18, 61169 Friedberg
END:VEVENT
BEGIN:VEVENT
DTSTAMP:20260422T014846
DTSTART;TZID=Europe/Berlin:20270125T180000
DTEND;TZID=Europe/Berlin:20270125T211500
UID:EG404273H4-20270125T180000@VHSWETTERAU
SUMMARY:Orientierungskurs - Einbürgerungskurs am Abend (EG404273H4) 
LOCATION:Fb vhs B12 (JPR), Friedensstr. 18, 61169 Friedberg
END:VEVENT
BEGIN:VEVENT
DTSTAMP:20260422T014846
DTSTART;TZID=Europe/Berlin:20270126T180000
DTEND;TZID=Europe/Berlin:20270126T211500
UID:EG404273H4-20270126T180000@VHSWETTERAU
SUMMARY:Orientierungskurs - Einbürgerungskurs am Abend (EG404273H4) 
LOCATION:Fb vhs B12 (JPR), Friedensstr. 18, 61169 Friedberg
END:VEVENT
BEGIN:VEVENT
DTSTAMP:20260422T014846
DTSTART;TZID=Europe/Berlin:20270127T180000
DTEND;TZID=Europe/Berlin:20270127T211500
UID:EG404273H4-20270127T180000@VHSWETTERAU
SUMMARY:Orientierungskurs - Einbürgerungskurs am Abend (EG404273H4) 
LOCATION:Fb vhs B12 (JPR), Friedensstr. 18, 61169 Friedberg
END:VEVENT
BEGIN:VEVENT
DTSTAMP:20260422T014846
DTSTART;TZID=Europe/Berlin:20270128T180000
DTEND;TZID=Europe/Berlin:20270128T211500
UID:EG404273H4-20270128T180000@VHSWETTERAU
SUMMARY:Orientierungskurs - Einbürgerungskurs am Abend (EG404273H4) 
LOCATION:Fb vhs B12 (JPR), Friedensstr. 18, 61169 Friedberg
END:VEVENT
BEGIN:VEVENT
DTSTAMP:20260422T014846
DTSTART;TZID=Europe/Berlin:20270129T180000
DTEND;TZID=Europe/Berlin:20270129T211500
UID:EG404273H4-20270129T180000@VHSWETTERAU
SUMMARY:Orientierungskurs - Einbürgerungskurs am Abend (EG404273H4) 
LOCATION:Fb vhs B12 (JPR), Friedensstr. 18, 61169 Friedberg
END:VEVENT
END:VCALENDAR