BEGIN:VCALENDAR
VERSION:2.0
PRODID:https://www.kufer.de/kuferweb / DE
METHOD:PUBLISH
CALSCALE:GREGORIAN
X-WR-TIMEZONE:Europe/Berlin
BEGIN:VTIMEZONE
TZID:Europe/Berlin
X-LIC-LOCATION:Europe/Berlin
BEGIN:DAYLIGHT
TZOFFSETFROM:+0100
TZOFFSETTO:+0200
TZNAME:CEST
DTSTART:19700329T020000
RRULE:FREQ=YEARLY;INTERVAL=1;BYDAY=-1SU;BYMONTH=3
END:DAYLIGHT
BEGIN:STANDARD
TZOFFSETFROM:+0200
TZOFFSETTO:+0100
TZNAME:CET
DTSTART:19701025T030000
RRULE:FREQ=YEARLY;INTERVAL=1;BYDAY=-1SU;BYMONTH=10
END:STANDARD
END:VTIMEZONE
BEGIN:VEVENT
DTSTAMP:20260421T223313
DTSTART;TZID=Europe/Berlin:20261102T180000
DTEND;TZID=Europe/Berlin:20261102T211500
UID:EG404273H8-20261102T180000@VHSWETTERAU
SUMMARY:Orientierungskurs-Einbürgerungskurs-Online Am Abend - Online (EG404273H8) 
LOCATION:Fb vhs 301-online
END:VEVENT
BEGIN:VEVENT
DTSTAMP:20260421T223313
DTSTART;TZID=Europe/Berlin:20261103T180000
DTEND;TZID=Europe/Berlin:20261103T211500
UID:EG404273H8-20261103T180000@VHSWETTERAU
SUMMARY:Orientierungskurs-Einbürgerungskurs-Online Am Abend - Online (EG404273H8) 
LOCATION:Fb vhs 301-online
END:VEVENT
BEGIN:VEVENT
DTSTAMP:20260421T223313
DTSTART;TZID=Europe/Berlin:20261104T180000
DTEND;TZID=Europe/Berlin:20261104T211500
UID:EG404273H8-20261104T180000@VHSWETTERAU
SUMMARY:Orientierungskurs-Einbürgerungskurs-Online Am Abend - Online (EG404273H8) 
LOCATION:Fb vhs 301-online
END:VEVENT
BEGIN:VEVENT
DTSTAMP:20260421T223313
DTSTART;TZID=Europe/Berlin:20261105T180000
DTEND;TZID=Europe/Berlin:20261105T211500
UID:EG404273H8-20261105T180000@VHSWETTERAU
SUMMARY:Orientierungskurs-Einbürgerungskurs-Online Am Abend - Online (EG404273H8) 
LOCATION:Fb vhs 301-online
END:VEVENT
BEGIN:VEVENT
DTSTAMP:20260421T223313
DTSTART;TZID=Europe/Berlin:20261109T180000
DTEND;TZID=Europe/Berlin:20261109T211500
UID:EG404273H8-20261109T180000@VHSWETTERAU
SUMMARY:Orientierungskurs-Einbürgerungskurs-Online Am Abend - Online (EG404273H8) 
LOCATION:Fb vhs 301-online
END:VEVENT
BEGIN:VEVENT
DTSTAMP:20260421T223313
DTSTART;TZID=Europe/Berlin:20261110T180000
DTEND;TZID=Europe/Berlin:20261110T211500
UID:EG404273H8-20261110T180000@VHSWETTERAU
SUMMARY:Orientierungskurs-Einbürgerungskurs-Online Am Abend - Online (EG404273H8) 
LOCATION:Fb vhs 301-online
END:VEVENT
BEGIN:VEVENT
DTSTAMP:20260421T223313
DTSTART;TZID=Europe/Berlin:20261111T180000
DTEND;TZID=Europe/Berlin:20261111T211500
UID:EG404273H8-20261111T180000@VHSWETTERAU
SUMMARY:Orientierungskurs-Einbürgerungskurs-Online Am Abend - Online (EG404273H8) 
LOCATION:Fb vhs 301-online
END:VEVENT
BEGIN:VEVENT
DTSTAMP:20260421T223313
DTSTART;TZID=Europe/Berlin:20261112T180000
DTEND;TZID=Europe/Berlin:20261112T211500
UID:EG404273H8-20261112T180000@VHSWETTERAU
SUMMARY:Orientierungskurs-Einbürgerungskurs-Online Am Abend - Online (EG404273H8) 
LOCATION:Fb vhs 301-online
END:VEVENT
BEGIN:VEVENT
DTSTAMP:20260421T223313
DTSTART;TZID=Europe/Berlin:20261116T180000
DTEND;TZID=Europe/Berlin:20261116T211500
UID:EG404273H8-20261116T180000@VHSWETTERAU
SUMMARY:Orientierungskurs-Einbürgerungskurs-Online Am Abend - Online (EG404273H8) 
LOCATION:Fb vhs 301-online
END:VEVENT
BEGIN:VEVENT
DTSTAMP:20260421T223313
DTSTART;TZID=Europe/Berlin:20261117T180000
DTEND;TZID=Europe/Berlin:20261117T211500
UID:EG404273H8-20261117T180000@VHSWETTERAU
SUMMARY:Orientierungskurs-Einbürgerungskurs-Online Am Abend - Online (EG404273H8) 
LOCATION:Fb vhs 301-online
END:VEVENT
BEGIN:VEVENT
DTSTAMP:20260421T223313
DTSTART;TZID=Europe/Berlin:20261118T180000
DTEND;TZID=Europe/Berlin:20261118T211500
UID:EG404273H8-20261118T180000@VHSWETTERAU
SUMMARY:Orientierungskurs-Einbürgerungskurs-Online Am Abend - Online (EG404273H8) 
LOCATION:Fb vhs 301-online
END:VEVENT
BEGIN:VEVENT
DTSTAMP:20260421T223313
DTSTART;TZID=Europe/Berlin:20261119T180000
DTEND;TZID=Europe/Berlin:20261119T211500
UID:EG404273H8-20261119T180000@VHSWETTERAU
SUMMARY:Orientierungskurs-Einbürgerungskurs-Online Am Abend - Online (EG404273H8) 
LOCATION:Fb vhs 301-online
END:VEVENT
BEGIN:VEVENT
DTSTAMP:20260421T223313
DTSTART;TZID=Europe/Berlin:20261123T180000
DTEND;TZID=Europe/Berlin:20261123T211500
UID:EG404273H8-20261123T180000@VHSWETTERAU
SUMMARY:Orientierungskurs-Einbürgerungskurs-Online Am Abend - Online (EG404273H8) 
LOCATION:Fb vhs 301-online
END:VEVENT
BEGIN:VEVENT
DTSTAMP:20260421T223313
DTSTART;TZID=Europe/Berlin:20261124T180000
DTEND;TZID=Europe/Berlin:20261124T211500
UID:EG404273H8-20261124T180000@VHSWETTERAU
SUMMARY:Orientierungskurs-Einbürgerungskurs-Online Am Abend - Online (EG404273H8) 
LOCATION:Fb vhs 301-online
END:VEVENT
BEGIN:VEVENT
DTSTAMP:20260421T223313
DTSTART;TZID=Europe/Berlin:20261125T180000
DTEND;TZID=Europe/Berlin:20261125T211500
UID:EG404273H8-20261125T180000@VHSWETTERAU
SUMMARY:Orientierungskurs-Einbürgerungskurs-Online Am Abend - Online (EG404273H8) 
LOCATION:Fb vhs 301-online
END:VEVENT
BEGIN:VEVENT
DTSTAMP:20260421T223313
DTSTART;TZID=Europe/Berlin:20261126T180000
DTEND;TZID=Europe/Berlin:20261126T211500
UID:EG404273H8-20261126T180000@VHSWETTERAU
SUMMARY:Orientierungskurs-Einbürgerungskurs-Online Am Abend - Online (EG404273H8) 
LOCATION:Fb vhs 301-online
END:VEVENT
BEGIN:VEVENT
DTSTAMP:20260421T223313
DTSTART;TZID=Europe/Berlin:20261130T180000
DTEND;TZID=Europe/Berlin:20261130T211500
UID:EG404273H8-20261130T180000@VHSWETTERAU
SUMMARY:Orientierungskurs-Einbürgerungskurs-Online Am Abend - Online (EG404273H8) 
LOCATION:Fb vhs 301-online
END:VEVENT
BEGIN:VEVENT
DTSTAMP:20260421T223313
DTSTART;TZID=Europe/Berlin:20261201T180000
DTEND;TZID=Europe/Berlin:20261201T211500
UID:EG404273H8-20261201T180000@VHSWETTERAU
SUMMARY:Orientierungskurs-Einbürgerungskurs-Online Am Abend - Online (EG404273H8) 
LOCATION:Fb vhs 301-online
END:VEVENT
BEGIN:VEVENT
DTSTAMP:20260421T223313
DTSTART;TZID=Europe/Berlin:20261202T180000
DTEND;TZID=Europe/Berlin:20261202T211500
UID:EG404273H8-20261202T180000@VHSWETTERAU
SUMMARY:Orientierungskurs-Einbürgerungskurs-Online Am Abend - Online (EG404273H8) 
LOCATION:Fb vhs 301-online
END:VEVENT
BEGIN:VEVENT
DTSTAMP:20260421T223313
DTSTART;TZID=Europe/Berlin:20261203T180000
DTEND;TZID=Europe/Berlin:20261203T211500
UID:EG404273H8-20261203T180000@VHSWETTERAU
SUMMARY:Orientierungskurs-Einbürgerungskurs-Online Am Abend - Online (EG404273H8) 
LOCATION:Fb vhs 301-online
END:VEVENT
BEGIN:VEVENT
DTSTAMP:20260421T223313
DTSTART;TZID=Europe/Berlin:20261207T180000
DTEND;TZID=Europe/Berlin:20261207T211500
UID:EG404273H8-20261207T180000@VHSWETTERAU
SUMMARY:Orientierungskurs-Einbürgerungskurs-Online Am Abend - Online (EG404273H8) 
LOCATION:Fb vhs 301-online
END:VEVENT
BEGIN:VEVENT
DTSTAMP:20260421T223313
DTSTART;TZID=Europe/Berlin:20261208T180000
DTEND;TZID=Europe/Berlin:20261208T211500
UID:EG404273H8-20261208T180000@VHSWETTERAU
SUMMARY:Orientierungskurs-Einbürgerungskurs-Online Am Abend - Online (EG404273H8) 
LOCATION:Fb vhs 301-online
END:VEVENT
BEGIN:VEVENT
DTSTAMP:20260421T223313
DTSTART;TZID=Europe/Berlin:20261209T180000
DTEND;TZID=Europe/Berlin:20261209T211500
UID:EG404273H8-20261209T180000@VHSWETTERAU
SUMMARY:Orientierungskurs-Einbürgerungskurs-Online Am Abend - Online (EG404273H8) 
LOCATION:Fb vhs 301-online
END:VEVENT
BEGIN:VEVENT
DTSTAMP:20260421T223313
DTSTART;TZID=Europe/Berlin:20261210T180000
DTEND;TZID=Europe/Berlin:20261210T211500
UID:EG404273H8-20261210T180000@VHSWETTERAU
SUMMARY:Orientierungskurs-Einbürgerungskurs-Online Am Abend - Online (EG404273H8) 
LOCATION:Fb vhs 301-online
END:VEVENT
BEGIN:VEVENT
DTSTAMP:20260421T223313
DTSTART;TZID=Europe/Berlin:20261211T180000
DTEND;TZID=Europe/Berlin:20261211T211500
UID:EG404273H8-20261211T180000@VHSWETTERAU
SUMMARY:Orientierungskurs-Einbürgerungskurs-Online Am Abend - Online (EG404273H8) 
LOCATION:Fb vhs 301-online
END:VEVENT
END:VCALENDAR