BEGIN:VCALENDAR
VERSION:2.0
PRODID:https://www.kufer.de/kuferweb / DE
METHOD:PUBLISH
CALSCALE:GREGORIAN
X-WR-TIMEZONE:Europe/Berlin
BEGIN:VTIMEZONE
TZID:Europe/Berlin
X-LIC-LOCATION:Europe/Berlin
BEGIN:DAYLIGHT
TZOFFSETFROM:+0100
TZOFFSETTO:+0200
TZNAME:CEST
DTSTART:19700329T020000
RRULE:FREQ=YEARLY;INTERVAL=1;BYDAY=-1SU;BYMONTH=3
END:DAYLIGHT
BEGIN:STANDARD
TZOFFSETFROM:+0200
TZOFFSETTO:+0100
TZNAME:CET
DTSTART:19701025T030000
RRULE:FREQ=YEARLY;INTERVAL=1;BYDAY=-1SU;BYMONTH=10
END:STANDARD
END:VTIMEZONE
BEGIN:VEVENT
DTSTAMP:20260422T000409
DTSTART;TZID=Europe/Berlin:20261217T090000
DTEND;TZID=Europe/Berlin:20261217T121500
UID:EG404291H9-20261217T090000@VHSWETTERAU
SUMMARY:Kurs für gering Literalisierte Spezialkurs 3 (Modul 9) Integrationskurs am Vormittag (EG404291H9) 
LOCATION:FB Am Dachspfad 32A, R. 207, Am Dachspfad 32A, 61169 Friedberg
END:VEVENT
BEGIN:VEVENT
DTSTAMP:20260422T000409
DTSTART;TZID=Europe/Berlin:20261218T090000
DTEND;TZID=Europe/Berlin:20261218T121500
UID:EG404291H9-20261218T090000@VHSWETTERAU
SUMMARY:Kurs für gering Literalisierte Spezialkurs 3 (Modul 9) Integrationskurs am Vormittag (EG404291H9) 
LOCATION:FB Am Dachspfad 32A, R. 207, Am Dachspfad 32A, 61169 Friedberg
END:VEVENT
BEGIN:VEVENT
DTSTAMP:20260422T000409
DTSTART;TZID=Europe/Berlin:20261221T090000
DTEND;TZID=Europe/Berlin:20261221T121500
UID:EG404291H9-20261221T090000@VHSWETTERAU
SUMMARY:Kurs für gering Literalisierte Spezialkurs 3 (Modul 9) Integrationskurs am Vormittag (EG404291H9) 
LOCATION:FB Am Dachspfad 32A, R. 207, Am Dachspfad 32A, 61169 Friedberg
END:VEVENT
BEGIN:VEVENT
DTSTAMP:20260422T000409
DTSTART;TZID=Europe/Berlin:20270113T090000
DTEND;TZID=Europe/Berlin:20270113T121500
UID:EG404291H9-20270113T090000@VHSWETTERAU
SUMMARY:Kurs für gering Literalisierte Spezialkurs 3 (Modul 9) Integrationskurs am Vormittag (EG404291H9) 
LOCATION:FB Am Dachspfad 32A, R. 207, Am Dachspfad 32A, 61169 Friedberg
END:VEVENT
BEGIN:VEVENT
DTSTAMP:20260422T000410
DTSTART;TZID=Europe/Berlin:20270114T090000
DTEND;TZID=Europe/Berlin:20270114T121500
UID:EG404291H9-20270114T090000@VHSWETTERAU
SUMMARY:Kurs für gering Literalisierte Spezialkurs 3 (Modul 9) Integrationskurs am Vormittag (EG404291H9) 
LOCATION:FB Am Dachspfad 32A, R. 207, Am Dachspfad 32A, 61169 Friedberg
END:VEVENT
BEGIN:VEVENT
DTSTAMP:20260422T000410
DTSTART;TZID=Europe/Berlin:20270115T090000
DTEND;TZID=Europe/Berlin:20270115T121500
UID:EG404291H9-20270115T090000@VHSWETTERAU
SUMMARY:Kurs für gering Literalisierte Spezialkurs 3 (Modul 9) Integrationskurs am Vormittag (EG404291H9) 
LOCATION:FB Am Dachspfad 32A, R. 207, Am Dachspfad 32A, 61169 Friedberg
END:VEVENT
BEGIN:VEVENT
DTSTAMP:20260422T000410
DTSTART;TZID=Europe/Berlin:20270118T090000
DTEND;TZID=Europe/Berlin:20270118T121500
UID:EG404291H9-20270118T090000@VHSWETTERAU
SUMMARY:Kurs für gering Literalisierte Spezialkurs 3 (Modul 9) Integrationskurs am Vormittag (EG404291H9) 
LOCATION:FB Am Dachspfad 32A, R. 207, Am Dachspfad 32A, 61169 Friedberg
END:VEVENT
BEGIN:VEVENT
DTSTAMP:20260422T000410
DTSTART;TZID=Europe/Berlin:20270119T090000
DTEND;TZID=Europe/Berlin:20270119T121500
UID:EG404291H9-20270119T090000@VHSWETTERAU
SUMMARY:Kurs für gering Literalisierte Spezialkurs 3 (Modul 9) Integrationskurs am Vormittag (EG404291H9) 
LOCATION:FB Am Dachspfad 32A, R. 207, Am Dachspfad 32A, 61169 Friedberg
END:VEVENT
BEGIN:VEVENT
DTSTAMP:20260422T000410
DTSTART;TZID=Europe/Berlin:20270120T090000
DTEND;TZID=Europe/Berlin:20270120T121500
UID:EG404291H9-20270120T090000@VHSWETTERAU
SUMMARY:Kurs für gering Literalisierte Spezialkurs 3 (Modul 9) Integrationskurs am Vormittag (EG404291H9) 
LOCATION:FB Am Dachspfad 32A, R. 207, Am Dachspfad 32A, 61169 Friedberg
END:VEVENT
BEGIN:VEVENT
DTSTAMP:20260422T000410
DTSTART;TZID=Europe/Berlin:20270121T090000
DTEND;TZID=Europe/Berlin:20270121T121500
UID:EG404291H9-20270121T090000@VHSWETTERAU
SUMMARY:Kurs für gering Literalisierte Spezialkurs 3 (Modul 9) Integrationskurs am Vormittag (EG404291H9) 
LOCATION:FB Am Dachspfad 32A, R. 207, Am Dachspfad 32A, 61169 Friedberg
END:VEVENT
BEGIN:VEVENT
DTSTAMP:20260422T000410
DTSTART;TZID=Europe/Berlin:20270122T090000
DTEND;TZID=Europe/Berlin:20270122T121500
UID:EG404291H9-20270122T090000@VHSWETTERAU
SUMMARY:Kurs für gering Literalisierte Spezialkurs 3 (Modul 9) Integrationskurs am Vormittag (EG404291H9) 
LOCATION:FB Am Dachspfad 32A, R. 207, Am Dachspfad 32A, 61169 Friedberg
END:VEVENT
BEGIN:VEVENT
DTSTAMP:20260422T000410
DTSTART;TZID=Europe/Berlin:20270125T090000
DTEND;TZID=Europe/Berlin:20270125T121500
UID:EG404291H9-20270125T090000@VHSWETTERAU
SUMMARY:Kurs für gering Literalisierte Spezialkurs 3 (Modul 9) Integrationskurs am Vormittag (EG404291H9) 
LOCATION:FB Am Dachspfad 32A, R. 207, Am Dachspfad 32A, 61169 Friedberg
END:VEVENT
BEGIN:VEVENT
DTSTAMP:20260422T000410
DTSTART;TZID=Europe/Berlin:20270126T090000
DTEND;TZID=Europe/Berlin:20270126T121500
UID:EG404291H9-20270126T090000@VHSWETTERAU
SUMMARY:Kurs für gering Literalisierte Spezialkurs 3 (Modul 9) Integrationskurs am Vormittag (EG404291H9) 
LOCATION:FB Am Dachspfad 32A, R. 207, Am Dachspfad 32A, 61169 Friedberg
END:VEVENT
BEGIN:VEVENT
DTSTAMP:20260422T000410
DTSTART;TZID=Europe/Berlin:20270127T090000
DTEND;TZID=Europe/Berlin:20270127T121500
UID:EG404291H9-20270127T090000@VHSWETTERAU
SUMMARY:Kurs für gering Literalisierte Spezialkurs 3 (Modul 9) Integrationskurs am Vormittag (EG404291H9) 
LOCATION:FB Am Dachspfad 32A, R. 207, Am Dachspfad 32A, 61169 Friedberg
END:VEVENT
BEGIN:VEVENT
DTSTAMP:20260422T000410
DTSTART;TZID=Europe/Berlin:20270128T090000
DTEND;TZID=Europe/Berlin:20270128T121500
UID:EG404291H9-20270128T090000@VHSWETTERAU
SUMMARY:Kurs für gering Literalisierte Spezialkurs 3 (Modul 9) Integrationskurs am Vormittag (EG404291H9) 
LOCATION:FB Am Dachspfad 32A, R. 207, Am Dachspfad 32A, 61169 Friedberg
END:VEVENT
BEGIN:VEVENT
DTSTAMP:20260422T000410
DTSTART;TZID=Europe/Berlin:20270129T090000
DTEND;TZID=Europe/Berlin:20270129T121500
UID:EG404291H9-20270129T090000@VHSWETTERAU
SUMMARY:Kurs für gering Literalisierte Spezialkurs 3 (Modul 9) Integrationskurs am Vormittag (EG404291H9) 
LOCATION:FB Am Dachspfad 32A, R. 207, Am Dachspfad 32A, 61169 Friedberg
END:VEVENT
BEGIN:VEVENT
DTSTAMP:20260422T000410
DTSTART;TZID=Europe/Berlin:20270201T090000
DTEND;TZID=Europe/Berlin:20270201T121500
UID:EG404291H9-20270201T090000@VHSWETTERAU
SUMMARY:Kurs für gering Literalisierte Spezialkurs 3 (Modul 9) Integrationskurs am Vormittag (EG404291H9) 
LOCATION:FB Am Dachspfad 32A, R. 207, Am Dachspfad 32A, 61169 Friedberg
END:VEVENT
BEGIN:VEVENT
DTSTAMP:20260422T000410
DTSTART;TZID=Europe/Berlin:20270202T090000
DTEND;TZID=Europe/Berlin:20270202T121500
UID:EG404291H9-20270202T090000@VHSWETTERAU
SUMMARY:Kurs für gering Literalisierte Spezialkurs 3 (Modul 9) Integrationskurs am Vormittag (EG404291H9) 
LOCATION:FB Am Dachspfad 32A, R. 207, Am Dachspfad 32A, 61169 Friedberg
END:VEVENT
BEGIN:VEVENT
DTSTAMP:20260422T000410
DTSTART;TZID=Europe/Berlin:20270203T090000
DTEND;TZID=Europe/Berlin:20270203T121500
UID:EG404291H9-20270203T090000@VHSWETTERAU
SUMMARY:Kurs für gering Literalisierte Spezialkurs 3 (Modul 9) Integrationskurs am Vormittag (EG404291H9) 
LOCATION:FB Am Dachspfad 32A, R. 207, Am Dachspfad 32A, 61169 Friedberg
END:VEVENT
BEGIN:VEVENT
DTSTAMP:20260422T000410
DTSTART;TZID=Europe/Berlin:20270204T090000
DTEND;TZID=Europe/Berlin:20270204T121500
UID:EG404291H9-20270204T090000@VHSWETTERAU
SUMMARY:Kurs für gering Literalisierte Spezialkurs 3 (Modul 9) Integrationskurs am Vormittag (EG404291H9) 
LOCATION:FB Am Dachspfad 32A, R. 207, Am Dachspfad 32A, 61169 Friedberg
END:VEVENT
BEGIN:VEVENT
DTSTAMP:20260422T000410
DTSTART;TZID=Europe/Berlin:20270205T090000
DTEND;TZID=Europe/Berlin:20270205T121500
UID:EG404291H9-20270205T090000@VHSWETTERAU
SUMMARY:Kurs für gering Literalisierte Spezialkurs 3 (Modul 9) Integrationskurs am Vormittag (EG404291H9) 
LOCATION:FB Am Dachspfad 32A, R. 207, Am Dachspfad 32A, 61169 Friedberg
END:VEVENT
BEGIN:VEVENT
DTSTAMP:20260422T000410
DTSTART;TZID=Europe/Berlin:20270210T090000
DTEND;TZID=Europe/Berlin:20270210T121500
UID:EG404291H9-20270210T090000@VHSWETTERAU
SUMMARY:Kurs für gering Literalisierte Spezialkurs 3 (Modul 9) Integrationskurs am Vormittag (EG404291H9) 
LOCATION:FB Am Dachspfad 32A, R. 207, Am Dachspfad 32A, 61169 Friedberg
END:VEVENT
BEGIN:VEVENT
DTSTAMP:20260422T000410
DTSTART;TZID=Europe/Berlin:20270211T090000
DTEND;TZID=Europe/Berlin:20270211T121500
UID:EG404291H9-20270211T090000@VHSWETTERAU
SUMMARY:Kurs für gering Literalisierte Spezialkurs 3 (Modul 9) Integrationskurs am Vormittag (EG404291H9) 
LOCATION:FB Am Dachspfad 32A, R. 207, Am Dachspfad 32A, 61169 Friedberg
END:VEVENT
BEGIN:VEVENT
DTSTAMP:20260422T000410
DTSTART;TZID=Europe/Berlin:20270212T090000
DTEND;TZID=Europe/Berlin:20270212T121500
UID:EG404291H9-20270212T090000@VHSWETTERAU
SUMMARY:Kurs für gering Literalisierte Spezialkurs 3 (Modul 9) Integrationskurs am Vormittag (EG404291H9) 
LOCATION:FB Am Dachspfad 32A, R. 207, Am Dachspfad 32A, 61169 Friedberg
END:VEVENT
BEGIN:VEVENT
DTSTAMP:20260422T000410
DTSTART;TZID=Europe/Berlin:20270215T090000
DTEND;TZID=Europe/Berlin:20270215T121500
UID:EG404291H9-20270215T090000@VHSWETTERAU
SUMMARY:Kurs für gering Literalisierte Spezialkurs 3 (Modul 9) Integrationskurs am Vormittag (EG404291H9) 
LOCATION:FB Am Dachspfad 32A, R. 207, Am Dachspfad 32A, 61169 Friedberg
END:VEVENT
END:VCALENDAR